Workbook

Sheet data
A1: ISILAH DENGAN DATA YANG BENAR
A3: Sekolah | B3: : | C3: SMKN 1 Barabai
A4: Kode Pelajaran | B4: : | C4: C3.5
A5: Mata Pelajaran | B5: : | C5: Administrasi Transakssi
A6: Kelas | B6: : | C6: XI BDP | D6: 1
A7: Tanggal Pertama Belajar Ganjil | B7: : | C7: 43937 | D7: =IF(C8="",7,C8-C7) -> 7
A8: Tanggal Kedua Belajar Ganjil | B8: : | D8: =IF(C8="",7,7-D7) -> 7
A9: Tanggal Pertama Belajar Genap | B9: : | C9: 43479 | D9: =IF(C10="",7,C10-C9) -> 7
A10: Tanggal Kedua Belajar Genap | B10: : | D10: =IF(C10="",7,7-D9) -> 7
A11: Jumlah Jam | B11: : | C11: 108 | D11: semester 1 dan 2
A12: Jumlah Jam | B12: : | C12: 6 | D12: per minggu
A13: Pendekatan Pembelajaran | B13: : | C13: Saintifik
A14: Model Pembelajaran | B14: : | C14: Problem based learning
A15: Metode Pembelajaran | B15: : | C15: Paparan, diskusi, tanya jawab, praktik dan eksperimen
A16: Bidang Keahlian | B16: : | C16: Bisnis dan Manajemen
A17: Program Keahlian | B17: : | C17: Bisnis dan Pemasaran
A18: Paket Keahlian | B18: : | C18: Bisnis Daring dan Pemasaran
A19: Tahun Pelajaran | B19: : | C19: 2018 / 2019
A20: Semester | B20: : | C20: I (GANJIL)
A21: Semester | B21: : | C21: II (GENAP)
A22: Nama Kepala Sekolah | B22: : | C22: Norta Dewi Yuniati, S.P, M.Pd | D22: NIP. | E22: 19710623 200604 2 021
A23: Nama Guru | B23: : | C23: Abdian Noor, S.Pd | D23: NIP. | E23: 19680906 199412 1 005
A24: Tanggal Perangkat | B24: : | C24: 16 April 2020
C32: Bisnis dan Pemasaran | E32: Akuntansi dan Keuangan Lembaga
C33: Manajemen Perkantoran | E33: Otomatisasi dan Tata Kelola Perkantoran
C34: Teknik Komputer dan Informatika | E34: Bisnis Daring dan Pemasaran
E35: Multimedia
E36: Teknik Komputer dan Jaringan
E37: Tata Boga
E38: Tata Busana

Sheet matrik
A1: ="MATRIK PERANCAH PEMANDUAN SINTAKS MODEL PEMBELAJARAN "&data!C14 -> MATRIK PERANCAH PEMANDUAN SINTAKS MODEL PEMBELAJARAN Problem based learning
A2: ="Dengan Pendekatan Saintifik Pada Mata Pelajaran "&data!C5 -> Dengan Pendekatan Saintifik Pada Mata Pelajaran Administrasi Transakssi
A4: Semester | B4: Genap
A5: Tahun Pelajaran | B5: =silabus!B6 -> : 2018 / 2019
A6: Kelas | B6: =kkmi!F4 -> : XI BDP
A8: KD-3 : | B8: 3.10 Menganalisis dokumenj transaksi penjualan
A9: KD-4 : | B9: 4.10 Membuat administrasi penjualan
A11: Indikator Pencapaian Kompetensi | B11: Tujuan Pembelajaran | C11: Sintaks Model Pembelajaran | D11: Pendekatan Saintifik
D12: Mengamati | E12: Menanya | F12: Mengumpulkan Informasi | G12: Menalar | H12: Mengomunikasikan
A13: 3.10.1 Menjelaskan Jenis dokumen administrasi penjualan 3.10.2 Memahami langkah pembuatan dokumen administrasi penjualan | B13: 3.1.1.1 Setelah berdiskusi dan menggali informasi peserta didik dapat menjelaskan jenis dokumen administrasi penjualan, secara santun | C13: a. Mengidentifikasi masalah b. Menetapkan masalah melalui berpikir tentang masalah dan menseleksi informasi yang relevan c. Mengembangkan solusi melalui pengidentifikasian alternatif, tukar pikiran dan mengecek perbedaan pandang d. Melakukan tindakan strategis e. Melihat ulang dan mengevaluasi pengaruh dari solusi yang dilakukan | D13: Mengamati jenis dokumen administrasi yang sering dilakukan dalam penjualan | E13: Mengkondisikan situasi belajar untuk membiasakan mengajukan pertanyaan jenis dokumen administrasi | F13: Mengumpulkan data yang dipertanyakan dan menentukan sumber (melalui benda konkrit, dokumen, buku, eksperimen) untuk menjawab pertanyaan yang diajukan tentang jenis dokumen administrasi penjualan | G13: Mengkategorikan data dan menentukan hubungannya, selanjutnya disimpulkan dengan urutan dari yang sederhana sampai pada yang lebih kompleks terkait dengan jenis komunikasi daring | H13: Menyampaikan hasil konseptualisasi tentang Jenis dokumen administrasi penjualan melalui media lisan dan tulisan.
A14: 4.10.1 Membuat dokumen administrasi penjualan | B14: 4.1.1.1 Setelah praktik peserta didik dapat membuat dokumen admnistrasi penjualan, dengan baik dan benar
A17: KD-3 :
A18: KD-4 :
A20: Indikator Pencapaian Kompetensi | B20: Tujuan Pembelajaran | C20: Sintaks Model Pembelajaran | D20: Pendekatan Saintifik
D21: Mengamati | E21: Menanya | F21: Mengumpulkan Informasi | G21: Menalar | H21: Mengomunikasikan
C22: =#REF! -> #REF!
A25: KD-3 :
A26: KD-4 :
A28: Indikator Pencapaian Kompetensi | B28: Tujuan Pembelajaran | C28: Sintaks Model Pembelajaran | D28: Pendekatan Saintifik
D29: Mengamati | E29: Menanya | F29: Mengumpulkan Informasi | G29: Menalar | H29: Mengomunikasikan
C30: =C22 -> #REF!
A33: KD-3 :
A34: KD-4 :
A36: Indikator Pencapaian Kompetensi | B36: Tujuan Pembelajaran | C36: Sintaks Model Pembelajaran | D36: Pendekatan Saintifik
D37: Mengamati | E37: Menanya | F37: Mengumpulkan Informasi | G37: Menalar | H37: Mengomunikasikan
C38: =C30 -> #REF!
A41: KD-3 :
A42: KD-4 :
A44: Indikator Pencapaian Kompetensi | B44: Tujuan Pembelajaran | C44: Sintaks Model Pembelajaran | D44: Pendekatan Saintifik
D45: Mengamati | E45: Menanya | F45: Mengumpulkan Informasi | G45: Menalar | H45: Mengomunikasikan
C46: =C38 -> #REF!
A49: KD-3 :
A50: KD-4 :
A52: Indikator Pencapaian Kompetensi | B52: Tujuan Pembelajaran | C52: Sintaks Model Pembelajaran | D52: Pendekatan Saintifik
D53: Mengamati | E53: Menanya | F53: Mengumpulkan Informasi | G53: Menalar | H53: Mengomunikasikan
C54: =C46 -> #REF!
A57: KD-3 :
A58: KD-4 :
A60: Indikator Pencapaian Kompetensi | B60: Tujuan Pembelajaran | C60: Sintaks Model Pembelajaran | D60: Pendekatan Saintifik
D61: Mengamati | E61: Menanya | F61: Mengumpulkan Informasi | G61: Menalar | H61: Mengomunikasikan
...

Sheet silabus
A1: SILABUS MATA PELAJARAN
A3: Satuan Pendidikan | B3: =": "&data!C3 -> : SMKN 1 Barabai
A4: Mata Pelajaran | B4: =": "&data!C5 -> : Administrasi Transakssi
A5: Semester | B5: =": "&data!C20&" dan "&data!C21 -> : I (GANJIL) dan II (GENAP)
A6: Tahun Pelajaran | B6: =": "&data!C19 -> : 2018 / 2019
A7: Kelas | B7: =": "&data!C6 -> : XI BDP
A8: Waktu Total | B8: =": "&data!C11&" JP" -> : 108 JP
A9: Waktu Semester Ganjil | B9: =": "&H34&" JP" -> : 6 JP
A10: Waktu Semester Genap | B10: : 6 JP
A12: Kompetensi Inti :
A14: KI-1 : | B14: Menghayati dan mengamalkan ajaran agama yang dianutnya | I14: =144/2 -> 72
A15: KI-2 : | B15: Menghayati dan mengamalkan perilaku jujur, disiplin, santun, peduli (gotong royong, kerja sama, toleran, damai), bertanggung-jawab, responsif, dan proaktif melalui keteladanan, pemberian nasihat, penguatan, pembiasaan, dan pengkondisian secara berkesinambungan serta menunjukkan sikap sebagai bagian dari solusi atas berbagai permasalahan dalam berinteraksi secara efektif dengan lingkungan sosial dan alam serta dalam menempatkan diri sebagai cerminan bangsa dalam pergaulan dunia | I15: =72/9 -> 8
A16: KI-3 : | B16: Memahami, menerapkan, menganalisis, dan mengevaluasi tentang pengetahuan faktual, konseptual, operasional dasar, dan metakognitif sesuai dengan bidang dan lingkup kerja Bisnis Daring dan Pemasaran pada tingkat teknis, spesifik, detil, dan kompleks, berkenaan dengan ilmu pengetahuan, teknologi, seni, budaya, dan humaniora dalam konteks pengembangan potensi diri sebagai bagian dari keluarga, sekolah, dunia kerja, warga masyarakat nasional, regional, dan internasional.
A17: KI-4 : | B17: Melaksanakan tugas spesifik dengan menggunakan alat, informasi, dan prosedur kerja yang lazim dilakukan serta memecahkan masalah sesuai dengan lingkup Administrasi Umum sebagai Dasar Bidang Bisnis dan Manajemen. Menampilkan kinerja di bawah bimbingan dengan mutu dan kuantitas yang terukur sesuai dengan standar kompetensi kerja. Menunjukkan keterampilan menalar, mengolah, dan menyaji secara efektif, kreatif, produktif, kritis, mandiri, kolaboratif, komunikatif, dan solutif dalam ranah abstrak terkait dengan pengembangan dari yang dipelajarinya di sekolah, serta mampu melaksanakan tugas spesifik di bawah pengawasan langsung. Menunjukkan keterampilan mempersepsi, kesiapan, meniru, membiasakan, gerak mahir, menjadikan gerak alami dalam ranah konkret terkait dengan pengembangan dari yang dipelajarinya di sekolah, serta mampu melaksanakan tugas spesifik di bawah pengawasan langsung.
A19: KD 1.1 :
A20: KD 1.2 :
A21: KD 2.1 :
A22: KD 2.2 :
A23: KD 2.3 :
A24: KD 2.4 :
A25: KD 2.5 :
A26: KD 2.6 :
A27: KD 2.7 :
A28: KD 2.8 :
A29: KD 2.9 :
A30: KD 2.10 :
A32: =data!A20&" "&data!C20 -> Semester I (GANJIL)
A34: Kompetensi Dasar | B34: Indikator Pencapaian Kompetensi | C34: Materi Pembelajaran | D34: Kegiatan Pembelajaran | E34: Penilaian | F34: Alokasi Waktu | G34: Sumber Belajar | H34: =SUM(F35:F36) -> 6
A35: =matrik!B8 -> 3.10 Menganalisis dokumenj transaksi penjualan | B35: =matrik!A13 -> 3.10.1 Menjelaskan Jenis dokumen administrasi penjualan 3.10.2 Memahami langkah pembuatan dokumen administrasi penjualan | C35: Komunikasi Daring - Jenis komunikasi daring - Surat Elektronik (E-Mail) - Chat Mobile device - Kolaborasi data dengan google drive | D35: =matrik!$D$12&CHAR(10)&matrik!D13&CHAR(10)&matrik!$E$12&CHAR(10)&matrik!E13&CHAR(10)&matrik!$F$12&CHAR(10)&matrik!F13&CHAR(10)&matrik!$G$12&CHAR(10)&matrik!G13&CHAR(10)&matrik!$H$12&CHAR(10)&matrik!H13 -> Mengamati Mengamati jenis dokumen administrasi yang sering dilakukan dalam penjualan Menanya Mengkondisikan situasi belajar untuk membiasakan mengajukan pertanyaan jenis dokumen administrasi Mengumpulkan Informasi Mengumpulkan data yang dipertanyakan dan menentukan sumber (melalui benda konkrit, dokumen, buku, eksperimen) untuk menjawab pertanyaan yang diajukan tentang jenis dokumen administrasi penjualan Menalar Mengkategorikan data dan menentukan hubungannya, selanjutnya disimpulkan dengan urutan dari yang sederhana sampai pada yang lebih kompleks terkait dengan jenis komunikasi daring Mengomunikasikan Menyampaikan hasil konseptualisasi tentang Jenis dokumen administrasi penjualan melalui media lisan dan tulisan. | E35: Tes tertulis | F35: 3 | G35: - Buku Pengetahuan Bahan - Tempat Usaha/Toko/MM | H35: 2
A36: =matrik!B9 -> 4.10 Membuat administrasi penjualan | B36: =matrik!A14 -> 4.10.1 Membuat dokumen administrasi penjualan | E36: Tes kinerja | F36: 3 | H36: 2
A37: =matrik!B17 -> 0 | B37: =matrik!A22 -> 0 | D37: =matrik!$D$12&CHAR(10)&matrik!D22&CHAR(10)&matrik!$E$12&CHAR(10)&matrik!E22&CHAR(10)&matrik!$F$12&CHAR(10)&matrik!F22&CHAR(10)&matrik!$G$12&CHAR(10)&matrik!G22&CHAR(10)&matrik!$H$12&CHAR(10)&matrik!H22 -> Mengamati Menanya Mengumpulkan Informasi Menalar Mengomunikasikan | E37: =$E$35 -> Tes tertulis | F37: =IF(C37="","",$F$35) | H37: 2
A38: =matrik!B18 -> 0 | B38: =matrik!A23 -> 0 | E38: =$E$36 -> Tes kinerja | F38: =IF(C37="","",$F$36) | H38: 2
A39: =matrik!B25 -> 0 | B39: =matrik!A30 -> 0 | D39: =matrik!$D$12&CHAR(10)&matrik!D30&CHAR(10)&matrik!$E$12&CHAR(10)&matrik!E30&CHAR(10)&matrik!$F$12&CHAR(10)&matrik!F30&CHAR(10)&matrik!$G$12&CHAR(10)&matrik!G30&CHAR(10)&matrik!$H$12&CHAR(10)&matrik!H30 -> Mengamati Menanya Mengumpulkan Informasi Menalar Mengomunikasikan | E39: =$E$35 -> Tes tertulis | F39: =IF(C39="","",$F$35) | H39: 2
A40: =matrik!B26 -> 0 | B40: =matrik!A31 -> 0 | E40: =$E$36 -> Tes kinerja | F40: =IF(C39="","",$F$36) | H40: 2
A41: =matrik!B33 -> 0 | B41: =matrik!A38 -> 0 | D41: =matrik!$D$12&CHAR(10)&matrik!D38&CHAR(10)&matrik!$E$12&CHAR(10)&matrik!E38&CHAR(10)&matrik!$F$12&CHAR(10)&matrik!F38&CHAR(10)&matrik!$G$12&CHAR(10)&matrik!G38&CHAR(10)&matrik!$H$12&CHAR(10)&matrik!H38 -> Mengamati Menanya Mengumpulkan Informasi Menalar Mengomunikasikan | E41: =$E$35 -> Tes tertulis | F41: =IF(C41="","",$F$35) | H41: 2
A42: =matrik!B34 -> 0 | B42: =matrik!A39 -> 0 | E42: =$E$36 -> Tes kinerja | F42: =IF(C41="","",$F$36) | H42: 2
A43: =matrik!B41 -> 0 | B43: =matrik!A46 -> 0 | D43: =matrik!$D$12&CHAR(10)&matrik!D46&CHAR(10)&matrik!$E$12&CHAR(10)&matrik!E46&CHAR(10)&matrik!$F$12&CHAR(10)&matrik!F46&CHAR(10)&matrik!$G$12&CHAR(10)&matrik!G46&CHAR(10)&matrik!$H$12&CHAR(10)&matrik!H46 -> Mengamati Menanya Mengumpulkan Informasi Menalar Mengomunikasikan | E43: =$E$35 -> Tes tertulis | F43: =IF(C43="","",$F$35) | H43: 2
A44: =matrik!B42 -> 0 | B44: =matrik!A47 -> 0 | E44: =$E$36 -> Tes kinerja | F44: =IF(C43="","",$F$36) | H44: 2
A45: =matrik!B49 -> 0 | B45: =matrik!A54 -> 0 | D45: =matrik!$D$12&CHAR(10)&matrik!D54&CHAR(10)&matrik!$E$12&CHAR(10)&matrik!E54&CHAR(10)&matrik!$F$12&CHAR(10)&matrik!F54&CHAR(10)&matrik!$G$12&CHAR(10)&matrik!G54&CHAR(10)&matrik!$H$12&CHAR(10)&matrik!H54 -> Mengamati Menanya Mengumpulkan Informasi Menalar Mengomunikasikan | E45: =$E$35 -> Tes tertulis | F45: =IF(C45="","",$F$35) | H45: 2
A46: =matrik!B50 -> 0 | B46: =matrik!A55 -> 0 | E46: =$E$36 -> Tes kinerja | F46: =IF(C45="","",$F$36) | H46: 2
...

Sheet ki
A1: ANALISIS KOMPETENSI INTI
A3: Mata Pelajaran | B3: =": "&data!C5 -> : Administrasi Transakssi
A4: Semester | B4: =": "&data!C20&" / "&data!C21 -> : I (GANJIL) / II (GENAP)
A5: Tahun Pelajaran | B5: =": "&data!C19 -> : 2018 / 2019
A6: Kelas | B6: =": "&data!C6 -> : XI BDP
A8: Kompetensi Inti 3 (Pengetahuan) | B8: Kompetensi Inti 4 (Keterampilan) | C8: Analisis dan Rekomendasi KI
A9: Memahami, menerapkan, menganalisis, dan mengevaluasi tentang pengetahuan faktual, konseptual, operasional dasar, dan metakognitif sesuai dengan bidang dan lingkup kerja Bisnis Daring dan Pemasaran pada tingkat teknis, spesifik, detil, dan kompleks, berkenaan dengan ilmu pengetahuan, teknologi, seni, budaya, dan humaniora dalam konteks pengembangan potensi diri sebagai bagian dari keluarga, sekolah, dunia kerja, warga masyarakat nasional, regional, dan internasional. | B9: Melaksanakan tugas spesifik dengan menggunakan alat, informasi, dan prosedur kerja yang lazim dilakukan serta memecahkan masalah sesuai dengan lingkup Administrasi Transaksi sebagai Dasar Bidang Bisnis dan Manajemen. Menampilkan kinerja di bawah bimbingan dengan mutu dan kuantitas yang terukur sesuai dengan standar kompetensi kerja. Menunjukkan keterampilan menalar, mengolah, dan menyaji secara efektif, kreatif, produktif, kritis, mandiri, kolaboratif, komunikatif, dan solutif dalam ranah abstrak terkait dengan pengembangan dari yang dipelajarinya di sekolah, serta mampu melaksanakan tugas spesifik di bawah pengawasan langsung. Menunjukkan keterampilan mempersepsi, kesiapan, meniru, membiasakan, gerak mahir, menjadikan gerak alami dalam ranah konkret terkait dengan pengembangan dari yang dipelajarinya di sekolah, serta mampu melaksanakan tugas spesifik di bawah pengawasan langsung. | C9: KI-3 pengetahuan dan KI-4 keterampilan, adalah untuk program pendidikan 3 tahun. KI-3 dan KI-4 tersebut sesuai menjadi rujukan KD-KD mata pelajaran Administrasi Transaksi (3 Tahun).
A11: Mengetahui : | C11: ="Barabai, "&data!C24 -> Barabai, 16 April 2020
A12: Kepala SMKN 1 Barabai | C12: Guru Mata Pelajaran
A16: =data!C22 -> Norta Dewi Yuniati, S.P, M.Pd | C16: =data!C23 -> Abdian Noor, S.Pd
A17: =data!D22&" "&data!E22 -> NIP. 19710623 200604 2 021 | C17: =data!D23&" "&data!E23 -> NIP. 19680906 199412 1 005

Sheet kd
A1: ANALISIS KOMPETENSI DASAR
A3: Mata Pelajaran | B3: =ki!B3 -> : Administrasi Transakssi | F3: Tahun Pelajaran | G3: =ki!B5 -> : 2018 / 2019
A4: Semester | B4: =": "&data!C20 -> : I (GANJIL) | F4: Kelas | G4: =ki!B6 -> : XI BDP
A6: Kompetensi Dasar Pengetahuan (KD dari KI-3) | B6: Kompetensi Dasar Keterampilan (KD dari KI-4) | C6: Analisis KD Pengetahuan | D6: Rekomendasi KD Pengetahuan | E6: Analisis KD Keterampilan | F6: Rekomendasi KD Keterampilan | G6: Rekomendasi KD-KD pada Mapel | H6: PPK
C7: Tingkat Dimensi Kognitif dan Bentuk Dimensi Pengetahuan | D7: Kesesuaian Dimensi Kognitif dengan Bentuk Pengetahuan | E7: Bentuk Taksonomi dan Tingkat Taksonomi | F7: Kesetaraan Taksonomi KD-dari KI-3 dg KD dari KI-4 | G7: - Ketercapaian Dimensi Kognitif dan Bentuk Pengetahuan semua KD-3 dalam Mata Pelajaran_x000D_ | H7: Nilai-Nilai Karakter yang dapat Diintegrasikan dalam Materi dan Model Pembelajaran
G8: - Ketercapaian Taksonomi semua KD-4 dalam Mata Pelajaran
A9: =silabus!A35 -> 3.10 Menganalisis dokumenj transaksi penjualan | B9: =silabus!A36 -> 4.10 Membuat administrasi penjualan | C9: Tingkat dimensi kognitif adalah Memahami (C2), dan jenis bahan teknik adalah bentuk pengetahuan prosedural | D9: Memahami (C2), sesuai dipasangkan dengan jenis bahan teknik adalah bentuk pengetahuan prosedural | E9: Memilah adalah keterampilan konkret, tingkat Manipulasi | F9: KD-3 memahami (C2) setara dengan KD-4 memilah | G9: KD-3 dari KD-KD pengetahuan Mata Pelajaran Dasar Perancangan Teknik Mesin sudah memenuhi Dimensi Kognitif tuntutan KI-3 yaitu memahami, menerapkan, menganalisis. Rekomendasi : Tingkat taksonomi menerapkan (C3) direkomendasikan pada KD 3.2 dari Memahami menjadi Menerapkan pengolahan bahan logam Sedangkan KD 4.2 menjadi Membuat bahan logam Bentuk Pengetahuan juga sudah terpenuhi yaitu konseptual, prosedural, dan metakognitif. KD-4 dari KD-KD keterampilan Mata Pelajaran Dasar Perancangan Teknik Mesin sudah memenuhi Tingkat Taksonomi tuntutan KI-4 pada ranah konkret yaitu mengolah, menalar, dan menyajikan. Tingkat taksonomi (KKO) tertinggi sesuai tuntutan KI-4, ada pada KD 4.9 Menunjukkan sistem kontrol | H9: - Rasa ingin tahu - Mandiri - Bertanggung jawab
A10: =silabus!#REF! -> #REF! | B10: =silabus!#REF! -> #REF! | C10: Tingkat dimensi kognitif adalah Memahami (C2), dan prinsip pengolahan bahan logam adalah bentuk pengetahuan prosedural | D10: Memahami (C2), sesuai dipasangkan dengan prnsip pengolahan bahan logam | E10: Mengidentifikasi adalah keterampilan konkret, tingkat Manipulasi | F10: KD-3 memahami (C2) setara dengan KD-4 mengidentifikasi | H10: =H9 -> - Rasa ingin tahu - Mandiri - Bertanggung jawab
A11: =silabus!#REF! -> #REF! | B11: =silabus!#REF! -> #REF! | C11: Tingkat dimensi kognitif adalah Memahami (C2), dan prinsip pengolahan bahan non logam adalah bentuk pengetahuan prosedural | D11: Memahami (C2), sesuai dipasangkan dengan prinsip pengolahan bahan non logam | E11: Mengidentifikasi adalah keterampilan konkret, tingkat Manipulasi | F11: KD-3 memahami (C2) setara dengan KD-4 mengidentifikasi | H11: =H10 -> - Rasa ingin tahu - Mandiri - Bertanggung jawab
A12: =silabus!#REF! -> #REF! | B12: =silabus!#REF! -> #REF! | C12: Tingkat dimensi kognitif adalah Memahami (C2), dan persyaratan perlakuan panas logam adalah bentuk pengetahuan prosedural | D12: Memahami (C2), sesuai dipasangkan dengan persyaratan perlakuan panas logam | E12: Mengidentifikasi adalah keterampilan konkret, tingkat Manipulasi | F12: KD-3 memahami (C2) setara dengan KD-4 mengidentifikasi | H12: =H11 -> - Rasa ingin tahu - Mandiri - Bertanggung jawab
A13: =silabus!#REF! -> #REF! | B13: =silabus!#REF! -> #REF! | C13: Tingkat dimensi kognitif adalah Menerapkan (C3), dan teknik pengujian logam (ferrous dan non ferrous) adalah bentuk pengetahuan prosedural | D13: Menerapkan (C3), sesuai dipasangkan dengan teknik pengujian logam (ferrous dan non ferrous) | E13: Melakukan adalah keterampilan konkret, tingkat Manipulasi | F13: KD-3 menerapkan (C3) setara dengan KD-4 melakukan | H13: =H12 -> - Rasa ingin tahu - Mandiri - Bertanggung jawab
A14: =silabus!#REF! -> #REF! | B14: =silabus!#REF! -> #REF! | C14: Tingkat dimensi kognitif adalah Menerapkan (C3), dan teknik penanganan material adalah bentuk pengetahuan prosedural | D14: Menerapkan (C3), sesuai dipasangkan dengan teknik penanganan material | E14: Melakukan adalah keterampilan konkret, tingkat Manipulasi | F14: KD-3 menerapkan (C3) setara dengan KD-4 melakukan | H14: =H13 -> - Rasa ingin tahu - Mandiri - Bertanggung jawab
A15: =silabus!#REF! -> #REF! | B15: =silabus!#REF! -> #REF! | C15: Tingkat dimensi kognitif adalah Memahami (C2), dan prinsip kerja mesin tenaga fluida adalah bentuk pengetahuan prosedural | D15: Memahami (C2), sesuai dipasangkan dengan prinsip kerja mesin tenaga fluida | E15: Mengidentifikasi adalah keterampilan konkret, tingkat Manipulasi | F15: KD-3 memahami (C2) setara dengan KD-4 mengidentifikasi | H15: =H14 -> - Rasa ingin tahu - Mandiri - Bertanggung jawab
A16: =silabus!#REF! -> #REF! | B16: =silabus!#REF! -> #REF! | C16: Tingkat dimensi kognitif adalah Memahami (C2), dan dasar-dasar kelistrikan adalah bentuk pengetahuan prosedural | D16: Memahami (C2), sesuai dipasangkan dengan dasar-dasar kelistrikan | E16: Mempraktikkan adalah keterampilan konkret, tingkat Manipulasi | F16: KD-3 memahami (C2) setara dengan KD-4 mempraktikkan | H16: =H15 -> - Rasa ingin tahu - Mandiri - Bertanggung jawab
A17: =silabus!#REF! -> #REF! | B17: =silabus!#REF! -> #REF! | C17: Tingkat dimensi kognitif adalah Menganalisis (C4), dan sistem kontrol adalah bentuk pengetahuan prosedural | D17: Menganalisis (C4), sesuai dipasangkan dengan sistem kontrol | E17: Menunjukkan adalah keterampilan konkret, tingkat Presisi | F17: KD-3 menganalisis (C4) setara dengan KD-4 menunjukkan | H17: =H16 -> - Rasa ingin tahu - Mandiri - Bertanggung jawab
A18: =silabus!#REF! -> #REF! | B18: =silabus!#REF! -> #REF! | H18: =H17 -> - Rasa ingin tahu - Mandiri - Bertanggung jawab
A19: =silabus!#REF! -> #REF! | B19: =silabus!#REF! -> #REF! | H19: =H18 -> - Rasa ingin tahu - Mandiri - Bertanggung jawab
A20: =silabus!#REF! -> #REF! | B20: =silabus!#REF! -> #REF! | H20: =H19 -> - Rasa ingin tahu - Mandiri - Bertanggung jawab
A21: =silabus!#REF! -> #REF! | B21: =silabus!#REF! -> #REF! | H21: =H20 -> - Rasa ingin tahu - Mandiri - Bertanggung jawab
A22: =silabus!#REF! -> #REF! | B22: =silabus!#REF! -> #REF! | H22: =H21 -> - Rasa ingin tahu - Mandiri - Bertanggung jawab
A23: =silabus!#REF! -> #REF! | B23: =silabus!#REF! -> #REF! | H23: =H22 -> - Rasa ingin tahu - Mandiri - Bertanggung jawab
A25: Semester | B25: =": "&data!C21 -> : II (GENAP)
A27: Kompetensi Dasar Pengetahuan (KD dari KI-3) | B27: Kompetensi Dasar Keterampilan (KD dari KI-4) | C27: Analisis KD Pengetahuan | D27: Rekomendasi KD Pengetahuan | E27: Analisis KD Keterampilan | F27: Rekomendasi KD Keterampilan | G27: Rekomendasi KD-KD pada Mapel | H27: PPK
C28: Tingkat Dimensi Kognitif dan Bentuk Dimensi Pengetahuan | D28: Kesesuaian Dimensi Kognitif dengan Bentuk Pengetahuan | E28: Bentuk Taksonomi dan Tingkat Taksonomi | F28: Kesetaraan Taksonomi KD-dari KI-3 dg KD dari KI-4 | G28: - Ketercapaian Dimensi Kognitif dan Bentuk Pengetahuan semua KD-3 dalam Mata Pelajaran_x000D_ | H28: Nilai-Nilai Karakter yang dapat Diintegrasikan dalam Materi dan Model Pembelajaran
G29: - Ketercapaian Taksonomi semua KD-4 dalam Mata Pelajaran
A30: =silabus!#REF! -> #REF! | B30: =silabus!#REF! -> #REF! | C30: Tingkat dimensi kognitif adalah Memahami (C2), dan konsep besaran dan sistem satuan adalah bentuk pengetahuan prosedural | D30: Memahami (C2), sesuai dipasangkan dengan konsep besaran dan sistem satuan | E30: Mengidentifikasi adalah keterampilan konkret, tingkat Manipulasi | F30: KD-3 memahami (C2) setara dengan KD-4 mengidentifikasi | G30: KD-3 dari KD-KD pengetahuan Mata Pelajaran Dasar Perancangan Teknik Mesin sudah memenuhi Dimensi Kognitif tuntutan KI-3 yaitu memahami, menerapkan, menganalisis. Rekomendasi : Tingkat taksonomi menerapkan (C3) direkomendasikan pada KD 3.10 dari Memahami menjadi Menerapkan besaran dan sistem satuan Sedangkan KD 4.11 menjadi Menunjukkan besaran dan sistem satuan Bentuk Pengetahuan juga sudah terpenuhi yaitu konseptual, prosedural, dan metakognitif. KD-4 dari KD-KD keterampilan Mata Pelajaran Dasar Perancangan Teknik Mesin sudah memenuhi Tingkat Taksonomi tuntutan KI-4 pada ranah abstrak yaitu mengolah, menalar, dan menyajikan. Tingkat taksonomi (KKO) tertinggi sesuai tuntutan KI-4, ada pada KD 4.18 Merumuskan hasil perhitungan gaya, tegangan dan momen pada sambungan: keling, pasak, baut dan las | H30: =H23 -> - Rasa ingin tahu - Mandiri - Bertanggung jawab
A31: =silabus!#REF! -> #REF! | B31: =silabus!#REF! -> #REF! | C31: Tingkat dimensi kognitif adalah Menerapkan (C3), dan langkah-langkah vector, gaya, resultan gaya dan kesetimbangan adalah bentuk pengetahuan prosedural | D31: Menerapkan (C3), sesuai dipasangkan dengan langkah-langkah vector, gaya, resultan gaya dan kesetimbangan | E31: Melakukan adalah keterampilan abstrak, tingkat Mencoba | F31: KD-3 menerapkan (C3) setara dengan KD-4 melakukan | H31: =H30 -> - Rasa ingin tahu - Mandiri - Bertanggung jawab
A32: =silabus!#REF! -> #REF! | B32: =silabus!#REF! -> #REF! | C32: Tingkat dimensi kognitif adalah Menganalisis (C4), dan sistem tegangan dan momen pada suatu konstruksi adalah bentuk pengetahuan prosedural | D32: Menganalisis (C4), sesuai dipasangkan dengan sistem tegangan dan momen pada suatu konstruksi | E32: Menghitung adalah keterampilan abstrak, tingkat Mencoba | F32: KD-3 menganalisis (C4) setara dengan KD-4 menghitung | H32: =H31 -> - Rasa ingin tahu - Mandiri - Bertanggung jawab
A33: =silabus!#REF! -> #REF! | B33: =silabus!#REF! -> #REF! | C33: Tingkat dimensi kognitif adalah Menganalisis (C4), dan sistem gaya aksi dan reaksi dari macam-macam tumpuan adalah bentuk pengetahuan prosedural | D33: Menganalisis (C4), sesuai dipasangkan dengan sistem gaya aksi dan reaksi dari macam-macam tumpuan | E33: Menghitung adalah keterampilan abstrak, tingkat Mencoba | F33: KD-3 menganalisis (C4) setara dengan KD-4 menghitung | H33: =H32 -> - Rasa ingin tahu - Mandiri - Bertanggung jawab
A34: =silabus!#REF! -> #REF! | B34: =silabus!#REF! -> #REF! | C34: Tingkat dimensi kognitif adalah Menganalisis (C4), dan sistem gerak translasi, rotasi dan keseimbangan benda tegar adalah bentuk pengetahuan prosedural | D34: Menganalisis (C4), sesuai dipasangkan dengan sistem gerak translasi, rotasi dan keseimbangan benda tegar | E34: Menghitung adalah keterampilan abstrak, tingkat Mencoba | F34: KD-3 menganalisis (C4) setara dengan KD-4 menghitung | H34: =H33 -> - Rasa ingin tahu - Mandiri - Bertanggung jawab
A35: =silabus!#REF! -> #REF! | B35: =silabus!#REF! -> #REF! | C35: Tingkat dimensi kognitif adalah Menganalisis (C4), dan sistem tegangan dan momen pada suatu konstruksi adalah bentuk pengetahuan prosedural | D35: Menganalisis (C4), sesuai dipasangkan dengan sistem tegangan dan momen pada suatu konstruksi | E35: Menghitung adalah keterampilan abstrak, tingkat Mencoba | F35: KD-3 menganalisis (C4) setara dengan KD-4 menghitung | H35: =H34 -> - Rasa ingin tahu - Mandiri - Bertanggung jawab
A36: =silabus!#REF! -> #REF! | B36: =silabus!#REF! -> #REF! | C36: Tingkat dimensi kognitif adalah Menerapkan (C3), dan teknik kekuatan poros dan pasak adalah bentuk pengetahuan prosedural | D36: Menerapkan (C3), sesuai dipasangkan dengan teknik kekuatan poros dan pasak | E36: Menghitung adalah keterampilan abstrak, tingkat Mencoba | F36: KD-3 menganalisis (C4) setara dengan KD-4 menghitung | H36: =H35 -> - Rasa ingin tahu - Mandiri - Bertanggung jawab
A37: =silabus!#REF! -> #REF! | B37: =silabus!#REF! -> #REF! | C37: Tingkat dimensi kognitif adalah Menerapkan (C3), dan teknik kekuatan transmisi (pulley & belt, rantai, kopling, roda gigi) adalah bentuk pengetahuan prosedural | D37: Menerapkan (C3), sesuai dipasangkan dengan teknik kekuatan transmisi (pulley & belt, rantai, kopling, roda gigi) | E37: Menghitung adalah keterampilan abstrak, tingkat Mencoba | F37: KD-3 menganalisis (C4) setara dengan KD-4 menghitung | H37: =H36 -> - Rasa ingin tahu - Mandiri - Bertanggung jawab
A38: =silabus!#REF! -> #REF! | B38: =silabus!#REF! -> #REF! | C38: Tingkat dimensi kognitif adalah Mengevaluasi (C5), dan hasil perhitungan gaya, tegangan dan momen pada sambungan: keling, pasak, baut dan las adalah bentuk pengetahuan prosedural | D38: Mengevaluasi (C5), sesuai dipasangkan dengan hasil perhitungan gaya, tegangan dan momen pada sambungan: keling, pasak, baut dan las | E38: Merumuskan adalah keterampilan abstrak, tingkat Menalar | F38: KD-3 mengevaluasi (C4) setara dengan KD-4 merumuskan | H38: =H37 -> - Rasa ingin tahu - Mandiri - Bertanggung jawab
A39: =silabus!A37 -> 0 | B39: =silabus!A38 -> 0 | H39: =H38 -> - Rasa ingin tahu - Mandiri - Bertanggung jawab
A40: =silabus!A39 -> 0 | B40: =silabus!A40 -> 0 | H40: =H39 -> - Rasa ingin tahu - Mandiri - Bertanggung jawab
A41: =silabus!A41 -> 0 | B41: =silabus!A42 -> 0 | H41: =H40 -> - Rasa ingin tahu - Mandiri - Bertanggung jawab
A42: =silabus!A43 -> 0 | B42: =silabus!A44 -> 0 | H42: =H41 -> - Rasa ingin tahu - Mandiri - Bertanggung jawab
A43: =silabus!A45 -> 0 | B43: =silabus!A46 -> 0 | H43: =H42 -> - Rasa ingin tahu - Mandiri - Bertanggung jawab
A44: =silabus!A47 -> 0 | B44: =silabus!A48 -> 0 | H44: =H43 -> - Rasa ingin tahu - Mandiri - Bertanggung jawab
...

Sheet kkmi
A1: ANALISIS KKM INDIKATOR
A3: Mata Pelajaran | C3: =kd!B3 -> : Administrasi Transakssi | D3: Tahun Pelajaran | F3: =kd!G3 -> : 2018 / 2019
A4: Semester | C4: =kd!B4 -> : I (GANJIL) | D4: Kelas | F4: =kd!G4 -> : XI BDP
A6: No | B6: Kompetensi Dasar / Indikator | D6: Kompleksitas | E6: Pendukung | F6: Intake | G6: KKM
A7: 1 | B7: =silabus!A35 -> 3.10 Menganalisis dokumenj transaksi penjualan
B8: =silabus!B35 -> 3.10.1 Menjelaskan Jenis dokumen administrasi penjualan 3.10.2 Memahami langkah pembuatan dokumen administrasi penjualan | D8: 80 | E8: 70 | F8: 60 | G8: =AVERAGE(D8:F8) -> 70
A9: 2 | B9: =silabus!A36 -> 4.10 Membuat administrasi penjualan
B10: =silabus!B36 -> 4.10.1 Membuat dokumen administrasi penjualan | D10: =D8 -> 80 | E10: =E8 -> 70 | F10: =F8 -> 60 | G10: =AVERAGE(D10:F10) -> 70
A11: 3 | B11: =silabus!#REF! -> #REF!
B12: =silabus!#REF! -> #REF! | D12: =D10 -> 80 | E12: =E10 -> 70 | F12: =F10 -> 60 | G12: =AVERAGE(D12:F12) -> 70
A13: 4 | B13: =silabus!#REF! -> #REF!
B14: =silabus!#REF! -> #REF! | D14: =D12 -> 80 | E14: =E12 -> 70 | F14: =F12 -> 60 | G14: =AVERAGE(D14:F14) -> 70
A15: 5 | B15: =silabus!#REF! -> #REF!
B16: =silabus!#REF! -> #REF! | D16: =D14 -> 80 | E16: =E14 -> 70 | F16: =F14 -> 60 | G16: =AVERAGE(D16:F16) -> 70
A17: 6 | B17: =silabus!#REF! -> #REF!
B18: =silabus!#REF! -> #REF! | D18: =D16 -> 80 | E18: =E16 -> 70 | F18: =F16 -> 60 | G18: =AVERAGE(D18:F18) -> 70
A19: 7 | B19: =silabus!#REF! -> #REF!
B20: =silabus!#REF! -> #REF! | D20: =D18 -> 80 | E20: =E18 -> 70 | F20: =F18 -> 60 | G20: =AVERAGE(D20:F20) -> 70
A21: 8 | B21: =silabus!#REF! -> #REF!
B22: =silabus!#REF! -> #REF! | D22: =D20 -> 80 | E22: =E20 -> 70 | F22: =F20 -> 60 | G22: =AVERAGE(D22:F22) -> 70
A23: 9 | B23: =silabus!#REF! -> #REF!
B24: =silabus!#REF! -> #REF! | D24: =D22 -> 80 | E24: =E22 -> 70 | F24: =F22 -> 60 | G24: =AVERAGE(D24:F24) -> 70
A25: 10 | B25: =silabus!#REF! -> #REF!
B26: =silabus!#REF! -> #REF! | D26: =D24 -> 80 | E26: =E24 -> 70 | F26: =F24 -> 60 | G26: =AVERAGE(D26:F26) -> 70
A27: 11 | B27: =silabus!#REF! -> #REF!
B28: =silabus!#REF! -> #REF! | D28: =D26 -> 80 | E28: =E26 -> 70 | F28: =F26 -> 60 | G28: =AVERAGE(D28:F28) -> 70
A29: 12 | B29: =silabus!#REF! -> #REF!
B30: =silabus!#REF! -> #REF! | D30: =D28 -> 80 | E30: =E28 -> 70 | F30: =F28 -> 60 | G30: =AVERAGE(D30:F30) -> 70
A31: 13 | B31: =silabus!#REF! -> #REF!
B32: =silabus!#REF! -> #REF! | D32: =D30 -> 80 | E32: =E30 -> 70 | F32: =F30 -> 60 | G32: =AVERAGE(D32:F32) -> 70
A33: 14 | B33: =silabus!#REF! -> #REF!
B34: =silabus!#REF! -> #REF! | D34: =D32 -> 80 | E34: =E32 -> 70 | F34: =F32 -> 60 | G34: =AVERAGE(D34:F34) -> 70
A35: 15 | B35: =silabus!#REF! -> #REF!
B36: =silabus!#REF! -> #REF! | D36: =D34 -> 80 | E36: =E34 -> 70 | F36: =F34 -> 60 | G36: =AVERAGE(D36:F36) -> 70
A37: 16 | B37: =silabus!#REF! -> #REF!
B38: =silabus!#REF! -> #REF! | D38: =D36 -> 80 | E38: =E36 -> 70 | F38: =F36 -> 60 | G38: =AVERAGE(D38:F38) -> 70
A39: 17 | B39: =silabus!#REF! -> #REF!
B40: =silabus!#REF! -> #REF! | D40: =D38 -> 80 | E40: =E38 -> 70 | F40: =F38 -> 60 | G40: =AVERAGE(D40:F40) -> 70
A41: 18 | B41: =silabus!#REF! -> #REF!
B42: =silabus!#REF! -> #REF! | D42: =D40 -> 80 | E42: =E40 -> 70 | F42: =F40 -> 60 | G42: =AVERAGE(D42:F42) -> 70
...

Sheet Sheet1

Sheet Sheet2

Sheet Sheet3

Sheet Sheet4

Sheet Sheet5

Sheet Sheet6

Sheet Sheet7

Sheet Sheet8

Sheet Sheet9

Sheet Sheet10

Sheet Sheet11

Sheet kkmmpp
A1: ANALISIS KKM MATA PELAJARAN (PENGETAHUAN)
A3: Mata Pelajaran | C3: =kd!B3 -> : Administrasi Transakssi | D3: Tahun Pelajaran | F3: =kkmi!F3 -> : 2018 / 2019
A4: Semester | C4: =kd!B4 -> : I (GANJIL) | D4: Kelas | F4: =kkmi!F4 -> : XI BDP
A6: No | B6: Kompetensi Dasar / Indikator | D6: KKM Indikator | E6: KKM KD | F6: KKM Pengetahuan
A7: 1 | B7: =silabus!A35 -> 3.10 Menganalisis dokumenj transaksi penjualan | G7: 1
B8: =silabus!B35 -> 3.10.1 Menjelaskan Jenis dokumen administrasi penjualan 3.10.2 Memahami langkah pembuatan dokumen administrasi penjualan | D8: 75 | E8: 75 | F8: =AVERAGE(E8:E36) -> 75 | G8: 1
A9: 2 | B9: =silabus!#REF! -> #REF! | G9: 1
B10: =silabus!#REF! -> #REF! | D10: =D8 -> 75 | E10: =E8 -> 75 | G10: 1
A11: 3 | B11: =silabus!#REF! -> #REF! | G11: 1
B12: =silabus!#REF! -> #REF! | D12: =D10 -> 75 | E12: =E10 -> 75 | G12: 1
A13: 4 | B13: =silabus!#REF! -> #REF! | G13: 1
B14: =silabus!#REF! -> #REF! | D14: =D12 -> 75 | E14: =E12 -> 75 | G14: 1
A15: 5 | B15: =silabus!#REF! -> #REF! | G15: 1
B16: =silabus!#REF! -> #REF! | D16: =D14 -> 75 | E16: =E14 -> 75 | G16: 1
A17: 6 | B17: =silabus!#REF! -> #REF! | G17: 1
B18: =silabus!#REF! -> #REF! | D18: =D16 -> 75 | E18: =E16 -> 75 | G18: 1
A19: 7 | B19: =silabus!#REF! -> #REF! | G19: 1
B20: =silabus!#REF! -> #REF! | D20: =D18 -> 75 | E20: =E18 -> 75 | G20: 1
A21: 8 | B21: =silabus!#REF! -> #REF! | G21: 1
B22: =silabus!#REF! -> #REF! | D22: =D20 -> 75 | E22: =E20 -> 75 | G22: 1
A23: 9 | B23: =silabus!#REF! -> #REF! | G23: 1
B24: =silabus!#REF! -> #REF! | D24: =D22 -> 75 | E24: =E22 -> 75 | G24: 1
A25: 10 | B25: =silabus!#REF! -> #REF! | G25: 1
B26: =silabus!#REF! -> #REF! | D26: =D24 -> 75 | E26: =E24 -> 75 | G26: 1
A27: 11 | B27: =silabus!#REF! -> #REF! | G27: 1
B28: =silabus!#REF! -> #REF! | D28: =D26 -> 75 | E28: =E26 -> 75 | G28: 1
A29: 12 | B29: =silabus!#REF! -> #REF! | G29: 1
B30: =silabus!#REF! -> #REF! | D30: =D28 -> 75 | E30: =E28 -> 75 | G30: 1
A31: 13 | B31: =silabus!#REF! -> #REF! | G31: 1
B32: =silabus!#REF! -> #REF! | D32: =D30 -> 75 | E32: =E30 -> 75 | G32: 1
A33: 14 | B33: =silabus!#REF! -> #REF! | G33: 1
B34: =silabus!#REF! -> #REF! | D34: =D32 -> 75 | E34: =E32 -> 75 | G34: 1
A35: 15 | B35: =silabus!#REF! -> #REF! | G35: 1
B36: =silabus!#REF! -> #REF! | D36: =D34 -> 75 | E36: =E34 -> 75 | G36: 1
A38: =kd!A25 -> Semester | C38: =kd!B25 -> : II (GENAP)
A40: No | B40: Kompetensi Dasar / Indikator | D40: KKM Indikator | E40: KKM KD | F40: KKM Pengetahuan
A41: 1 | B41: =silabus!#REF! -> #REF! | G41: 1
B42: =silabus!#REF! -> #REF! | D42: =D36 -> 75 | E42: =E36 -> 75 | F42: =AVERAGE(E42:E70) -> 75 | G42: 1
A43: 2 | B43: =silabus!#REF! -> #REF! | G43: 1
B44: =silabus!#REF! -> #REF! | D44: =D42 -> 75 | E44: =E42 -> 75 | G44: 1
...

Sheet kkmmpk
A1: ANALISIS KKM MATA PELAJARAN (KETERAMPILAN)
A3: Mata Pelajaran | C3: =kd!B3 -> : Administrasi Transakssi | D3: Tahun Pelajaran | F3: =kkmi!F3 -> : 2018 / 2019
A4: Kelas | C4: =kd!B4 -> : I (GANJIL) | D4: Kelas | F4: =kkmi!F4 -> : XI BDP
A6: No | B6: Kompetensi Dasar / Indikator | D6: KKM Indikator | E6: KKM KD | F6: KKM Keterampilan
A7: 1 | B7: =silabus!A36 -> 4.10 Membuat administrasi penjualan
B8: =silabus!B36 -> 4.10.1 Membuat dokumen administrasi penjualan | D8: 75 | E8: 75 | F8: =AVERAGE(E8:E36) -> 75
A9: 2 | B9: =silabus!#REF! -> #REF!
B10: =silabus!#REF! -> #REF! | D10: =D8 -> 75 | E10: =E8 -> 75
A11: 3 | B11: =silabus!#REF! -> #REF!
B12: =silabus!#REF! -> #REF! | D12: =D10 -> 75 | E12: =E10 -> 75
A13: 4 | B13: =silabus!#REF! -> #REF!
B14: =silabus!#REF! -> #REF! | D14: =D12 -> 75 | E14: =E12 -> 75
A15: 5 | B15: =silabus!#REF! -> #REF!
B16: =silabus!#REF! -> #REF! | D16: =D14 -> 75 | E16: =E14 -> 75
A17: 6 | B17: =silabus!#REF! -> #REF!
B18: =silabus!#REF! -> #REF! | D18: =D16 -> 75 | E18: =E16 -> 75
A19: 7 | B19: =silabus!#REF! -> #REF!
B20: =silabus!#REF! -> #REF! | D20: =D18 -> 75 | E20: =E18 -> 75
A21: 8 | B21: =silabus!#REF! -> #REF!
B22: =silabus!#REF! -> #REF! | D22: =D20 -> 75 | E22: =E20 -> 75
A23: 9 | B23: =silabus!#REF! -> #REF!
B24: =silabus!#REF! -> #REF! | D24: =D22 -> 75 | E24: =E22 -> 75
A25: 10 | B25: =silabus!#REF! -> #REF!
B26: =silabus!#REF! -> #REF! | D26: =D24 -> 75 | E26: =E24 -> 75
A27: 11 | B27: =silabus!#REF! -> #REF!
B28: =silabus!#REF! -> #REF! | D28: =D26 -> 75 | E28: =E26 -> 75
A29: 12 | B29: =silabus!#REF! -> #REF!
B30: =silabus!#REF! -> #REF! | D30: =D28 -> 75 | E30: =E28 -> 75
A31: 13 | B31: =silabus!#REF! -> #REF!
B32: =silabus!#REF! -> #REF! | D32: =D30 -> 75 | E32: =E30 -> 75
A33: 14 | B33: =silabus!#REF! -> #REF!
B34: =silabus!#REF! -> #REF! | D34: =D32 -> 75 | E34: =E32 -> 75
A35: 15 | B35: =silabus!#REF! -> #REF!
B36: =silabus!#REF! -> #REF! | D36: =D34 -> 75 | E36: =E34 -> 75
A38: =kd!A25 -> Semester | C38: =kd!B25 -> : II (GENAP)
A40: No | B40: Kompetensi Dasar / Indikator | D40: KKM Indikator | E40: KKM KD | F40: KKM Keterampilan
A41: 1 | B41: =silabus!#REF! -> #REF!
B42: =silabus!#REF! -> #REF! | D42: =D36 -> 75 | E42: =E36 -> 75 | F42: =AVERAGE(E42:E70) -> 75
A43: 2 | B43: =silabus!#REF! -> #REF!
B44: =silabus!#REF! -> #REF! | D44: =D42 -> 75 | E44: =E42 -> 75
...

Sheet kalender
A1: KALENDER PENDIDIKAN SMKN 2 KANDANGAN
A2: ="TAHUN PELAJARAN "&data!C19 -> TAHUN PELAJARAN 2018 / 2019
A3: 43282
A4: 43282 | I4: =A4+31 -> 43313 | Q4: =I4+31 -> 43344 | Y4: =Q4+31 -> 43375 | AG4: =Y4+31 -> 43406 | AO4: =AG4+31 -> 43437
A5: =TEXT($A$3,"dddd") -> Minggu | B5: 1 | C5: 8 | D5: 15 | E5: 22 | F5: 29 | I5: M | K5: 5 | L5: 12 | M5: 19 | N5: 26 | Q5: M | S5: 2 | T5: 9 | U5: 16 | V5: 23 | W5: 30 | Y5: M | AA5: 7 | AB5: 14 | AC5: 21 | AD5: 28 | AG5: M | AI5: 4 | AJ5: 11 | AK5: 18 | AL5: 25 | AO5: M | AQ5: 2 | AR5: 9 | AS5: 16 | AT5: 23 | AU5: 30
A6: =TEXT($A$3+1,"dddd") -> Senin | B6: 2 | C6: 9 | D6: 16 | E6: 23 | F6: 30 | I6: =A6 -> Senin | K6: 6 | L6: 13 | M6: 20 | N6: 27 | Q6: =I6 -> Senin | S6: 3 | T6: 10 | U6: 17 | V6: 24 | Y6: =Q6 -> Senin | Z6: 1 | AA6: 8 | AB6: 15 | AC6: 22 | AD6: 29 | AG6: =Y6 -> Senin | AI6: 5 | AJ6: 12 | AK6: 19 | AL6: 26 | AO6: =AG6 -> Senin | AQ6: 3 | AR6: 10 | AS6: 17 | AT6: 24 | AU6: 31
A7: =TEXT($A$3+2,"dddd") -> Selasa | B7: 3 | C7: 10 | D7: 17 | E7: 24 | F7: 31 | I7: =A7 -> Selasa | K7: 7 | L7: 14 | M7: 21 | N7: 28 | Q7: =I7 -> Selasa | S7: 4 | T7: 11 | U7: 18 | V7: 25 | Y7: =Q7 -> Selasa | Z7: 2 | AA7: 9 | AB7: 16 | AC7: 23 | AD7: 30 | AG7: =Y7 -> Selasa | AI7: 6 | AJ7: 13 | AK7: 20 | AL7: 27 | AO7: =AG7 -> Selasa | AQ7: 4 | AR7: 11 | AS7: 18 | AT7: 25
A8: =TEXT($A$3+3,"dddd") -> Rabu | B8: 4 | C8: 11 | D8: 18 | E8: 25 | I8: =A8 -> Rabu | J8: 1 | K8: 8 | L8: 15 | M8: 22 | N8: 29 | Q8: =I8 -> Rabu | S8: 5 | T8: 12 | U8: 19 | V8: 26 | Y8: =Q8 -> Rabu | Z8: 3 | AA8: 10 | AB8: 17 | AC8: 24 | AD8: 31 | AG8: =Y8 -> Rabu | AI8: 7 | AJ8: 14 | AK8: 21 | AL8: 28 | AO8: =AG8 -> Rabu | AQ8: 5 | AR8: 12 | AS8: 19 | AT8: 26
A9: =TEXT($A$3+4,"dddd") -> Kamis | B9: 5 | C9: 12 | D9: 19 | E9: 26 | I9: =A9 -> Kamis | J9: 2 | K9: 9 | L9: 16 | M9: 23 | N9: 30 | Q9: =I9 -> Kamis | S9: 6 | T9: 13 | U9: 20 | V9: 27 | Y9: =Q9 -> Kamis | Z9: 4 | AA9: 11 | AB9: 18 | AC9: 25 | AG9: =Y9 -> Kamis | AH9: 1 | AI9: 8 | AJ9: 15 | AK9: 22 | AL9: 29 | AO9: =AG9 -> Kamis | AQ9: 6 | AR9: 13 | AS9: 20 | AT9: 27
A10: =TEXT($A$3+5,"dddd") -> Jumat | B10: 6 | C10: 13 | D10: 20 | E10: 27 | I10: =A10 -> Jumat | J10: 3 | K10: 10 | L10: 17 | M10: 24 | N10: 31 | Q10: =I10 -> Jumat | S10: 7 | T10: 14 | U10: 21 | V10: 28 | Y10: =Q10 -> Jumat | Z10: 5 | AA10: 12 | AB10: 19 | AC10: 26 | AG10: =Y10 -> Jumat | AH10: 2 | AI10: 9 | AJ10: 16 | AK10: 23 | AL10: 30 | AO10: =AG10 -> Jumat | AQ10: 7 | AR10: 14 | AS10: 21 | AT10: 28
A11: =TEXT($A$3+6,"dddd") -> Sabtu | B11: 7 | C11: 14 | D11: 21 | E11: 28 | I11: =A11 -> Sabtu | J11: 4 | K11: 11 | L11: 18 | M11: 25 | Q11: =I11 -> Sabtu | R11: 1 | S11: 8 | T11: 15 | U11: 22 | V11: 28 | Y11: =Q11 -> Sabtu | Z11: 6 | AA11: 13 | AB11: 20 | AC11: 27 | AG11: =Y11 -> Sabtu | AH11: 3 | AI11: 10 | AJ11: 17 | AK11: 24 | AO11: =AG11 -> Sabtu | AP11: 1 | AQ11: 8 | AR11: 15 | AS11: 22 | AT11: 29
A12: =IF(TEXT(data!$C$7,"dddd")=kalender!A6,COUNT(kalender!B6:G6),IF(TEXT(data!$C$7,"dddd")=kalender!A7,COUNT(kalender!B7:G7),IF(TEXT(data!$C$7,"dddd")=kalender!A8,COUNT(kalender!B8:G8),IF(TEXT(data!$C$7,"dddd")=kalender!A9,COUNT(kalender!B9:G9),IF(TEXT(data!$C$7,"dddd")=kalender!A10,COUNT(kalender!B10:G10),IF(TEXT(data!$C$7,"dddd")=kalender!A11,COUNT(kalender!B11:G11),"")))))) | I12: =IF(TEXT(data!$C$7,"dddd")=kalender!I6,COUNT(kalender!J6:O6),IF(TEXT(data!$C$7,"dddd")=kalender!I7,COUNT(kalender!J7:O7),IF(TEXT(data!$C$7,"dddd")=kalender!I8,COUNT(kalender!J8:O8),IF(TEXT(data!$C$7,"dddd")=kalender!I9,COUNT(kalender!J9:O9),IF(TEXT(data!$C$7,"dddd")=kalender!I10,COUNT(kalender!J10:O10),IF(TEXT(data!$C$7,"dddd")=kalender!I11,COUNT(kalender!J11:O11),"")))))) | Q12: =IF(TEXT(data!$C$7,"dddd")=kalender!Q6,COUNT(kalender!R6:W6),IF(TEXT(data!$C$7,"dddd")=kalender!Q7,COUNT(kalender!R7:W7),IF(TEXT(data!$C$7,"dddd")=kalender!Q8,COUNT(kalender!R8:W8),IF(TEXT(data!$C$7,"dddd")=kalender!Q9,COUNT(kalender!R9:W9),IF(TEXT(data!$C$7,"dddd")=kalender!Q10,COUNT(kalender!R10:W10),IF(TEXT(data!$C$7,"dddd")=kalender!Q11,COUNT(kalender!R11:W11),"")))))) | Y12: =IF(TEXT(data!$C$7,"dddd")=kalender!Y6,COUNT(kalender!Z6:AE6),IF(TEXT(data!$C$7,"dddd")=kalender!Y7,COUNT(kalender!Z7:AE7),IF(TEXT(data!$C$7,"dddd")=kalender!Y8,COUNT(kalender!Z8:AE8),IF(TEXT(data!$C$7,"dddd")=kalender!Y9,COUNT(kalender!Z9:AE9),IF(TEXT(data!$C$7,"dddd")=kalender!Y10,COUNT(kalender!Z10:AE10),IF(TEXT(data!$C$7,"dddd")=kalender!Y11,COUNT(kalender!Z11:AE11),"")))))) | AG12: =IF(TEXT(data!$C$7,"dddd")=kalender!AG6,COUNT(kalender!AH6:AM6),IF(TEXT(data!$C$7,"dddd")=kalender!AG7,COUNT(kalender!AH7:AM7),IF(TEXT(data!$C$7,"dddd")=kalender!AG8,COUNT(kalender!AH8:AM8),IF(TEXT(data!$C$7,"dddd")=kalender!AG9,COUNT(kalender!AH9:AM9),IF(TEXT(data!$C$7,"dddd")=kalender!AG10,COUNT(kalender!AH10:AM10),IF(TEXT(data!$C$7,"dddd")=kalender!AG11,COUNT(kalender!AH11:AM11),"")))))) | AO12: =IF(TEXT(data!$C$7,"dddd")=kalender!AO6,COUNT(kalender!AP6:AU6),IF(TEXT(data!$C$7,"dddd")=kalender!AO7,COUNT(kalender!AP7:AU7),IF(TEXT(data!$C$7,"dddd")=kalender!AO8,COUNT(kalender!AP8:AU8),IF(TEXT(data!$C$7,"dddd")=kalender!AO9,COUNT(kalender!AP9:AU9),IF(TEXT(data!$C$7,"dddd")=kalender!AO10,COUNT(kalender!AP10:AU10),IF(TEXT(data!$C$7,"dddd")=kalender!AO11,COUNT(kalender!AP11:AU11),"")))))) | AU12: =IF(AU11>0,1,"")
A13: 6, | I13: 17 Hari Kemerdekaan | AO13: 7 Ulangan Akhir Semester,
A14: 13 libur semester genap | AO14: 14,
AO15: 21 Bagi raport,
AO16: 28 Libur Akhir Semester
A18: =COUNTA(A13:A17) -> 2 | I18: =COUNTA(I13:I17) -> 1 | Q18: =COUNTA(Q13:Q17) -> 0 | Y18: =COUNTA(Y13:Y17) -> 0 | AG18: =COUNTA(AG13:AG17) -> 0 | AO18: =COUNTA(AO13:AO17) -> 4
A20: =AO4+30 -> 43467 | I20: =A20+31 -> 43498 | Q20: =I20+31 -> 43529 | Y20: =Q20+31 -> 43560 | AG20: =Y20+31 -> 43591 | AO20: =AG20+31 -> 43622
A21: =TEXT($A$3,"dddd") -> Minggu | C21: 6 | D21: 13 | E21: 20 | F21: 27 | I21: =TEXT($A$3,"dddd") -> Minggu | K21: 3 | L21: 10 | M21: 17 | N21: 24 | Q21: =TEXT($A$3,"dddd") -> Minggu | S21: 3 | T21: 10 | U21: 17 | V21: 24 | W21: 31 | Y21: =TEXT($A$3,"dddd") -> Minggu | AA21: 7 | AB21: 14 | AC21: 21 | AD21: 28 | AG21: =TEXT($A$3,"dddd") -> Minggu | AI21: 5 | AJ21: 12 | AK21: 19 | AL21: 26 | AO21: =TEXT($A$3,"dddd") -> Minggu | AQ21: 2 | AR21: 9 | AS21: 16 | AT21: 23 | AU21: 30
A22: =TEXT($A$3+1,"dddd") -> Senin | C22: 7 | D22: 14 | E22: 21 | F22: 28 | I22: =TEXT($A$3+1,"dddd") -> Senin | K22: 4 | L22: 11 | M22: 18 | N22: 25 | Q22: =TEXT($A$3+1,"dddd") -> Senin | S22: 4 | T22: 11 | U22: 18 | V22: 25 | Y22: =TEXT($A$3+1,"dddd") -> Senin | Z22: 1 | AA22: 8 | AB22: 15 | AC22: 22 | AD22: 29 | AG22: =TEXT($A$3+1,"dddd") -> Senin | AI22: 6 | AJ22: 12 | AK22: 20 | AL22: 27 | AO22: =TEXT($A$3+1,"dddd") -> Senin | AQ22: 3 | AR22: 10 | AS22: 17 | AT22: 24
A23: =TEXT($A$3+2,"dddd") -> Selasa | B23: 1 | C23: 8 | D23: 15 | E23: 22 | F23: 28 | I23: =TEXT($A$3+2,"dddd") -> Selasa | K23: 5 | L23: 12 | M23: 19 | N23: 26 | Q23: =TEXT($A$3+2,"dddd") -> Selasa | S23: 5 | T23: 12 | U23: 19 | V23: 26 | Y23: =TEXT($A$3+2,"dddd") -> Selasa | Z23: 2 | AA23: 9 | AB23: 16 | AC23: 23 | AD23: 30 | AG23: =TEXT($A$3+2,"dddd") -> Selasa | AI23: 7 | AJ23: 14 | AK23: 21 | AL23: 28 | AO23: =TEXT($A$3+2,"dddd") -> Selasa | AQ23: 4 | AR23: 11 | AS23: 18 | AT23: 25
A24: =TEXT($A$3+3,"dddd") -> Rabu | B24: 2 | C24: 9 | D24: 16 | E24: 23 | F24: 30 | I24: =TEXT($A$3+3,"dddd") -> Rabu | K24: 6 | L24: 13 | M24: 20 | N24: 27 | Q24: =TEXT($A$3+3,"dddd") -> Rabu | S24: 6 | T24: 13 | U24: 20 | V24: 27 | Y24: =TEXT($A$3+3,"dddd") -> Rabu | Z24: 3 | AA24: 10 | AB24: 17 | AC24: 24 | AG24: =TEXT($A$3+3,"dddd") -> Rabu | AH24: 1 | AI24: 8 | AJ24: 15 | AK24: 22 | AL24: 29 | AO24: =TEXT($A$3+3,"dddd") -> Rabu | AQ24: 5 | AR24: 12 | AS24: 19 | AT24: 26
A25: =TEXT($A$3+4,"dddd") -> Kamis | B25: 3 | C25: 10 | D25: 17 | E25: 24 | F25: 31 | I25: =TEXT($A$3+4,"dddd") -> Kamis | K25: 7 | L25: 14 | M25: 21 | N25: 28 | Q25: =TEXT($A$3+4,"dddd") -> Kamis | S25: 7 | T25: 14 | U25: 21 | V25: 28 | Y25: =TEXT($A$3+4,"dddd") -> Kamis | Z25: 4 | AA25: 11 | AB25: 18 | AC25: 25 | AG25: =TEXT($A$3+4,"dddd") -> Kamis | AH25: 2 | AI25: 9 | AJ25: 16 | AK25: 23 | AL25: 30 | AO25: =TEXT($A$3+4,"dddd") -> Kamis | AQ25: 6 | AR25: 13 | AS25: 20 | AT25: 27
A26: =TEXT($A$3+5,"dddd") -> Jumat | B26: 4 | C26: 11 | D26: 18 | E26: 25 | I26: =TEXT($A$3+5,"dddd") -> Jumat | J26: 1 | K26: 8 | L26: 15 | M26: 22 | Q26: =TEXT($A$3+5,"dddd") -> Jumat | R26: 1 | S26: 8 | T26: 15 | U26: 22 | V26: 29 | Y26: =TEXT($A$3+5,"dddd") -> Jumat | Z26: 5 | AA26: 12 | AB26: 19 | AC26: 26 | AG26: =TEXT($A$3+5,"dddd") -> Jumat | AH26: 3 | AI26: 10 | AJ26: 17 | AK26: 24 | AL26: 31 | AO26: =TEXT($A$3+5,"dddd") -> Jumat | AQ26: 7 | AR26: 14 | AS26: 21 | AT26: 28
A27: =TEXT($A$3+6,"dddd") -> Sabtu | B27: 5 | C27: 12 | D27: 19 | E27: 26 | I27: =TEXT($A$3+6,"dddd") -> Sabtu | J27: 2 | K27: 9 | L27: 16 | M27: 23 | Q27: =TEXT($A$3+6,"dddd") -> Sabtu | R27: 2 | S27: 9 | T27: 16 | U27: 23 | V27: 30 | Y27: =TEXT($A$3+6,"dddd") -> Sabtu | Z27: 6 | AA27: 13 | AB27: 20 | AC27: 27 | AG27: =TEXT($A$3+6,"dddd") -> Sabtu | AH27: 4 | AI27: 11 | AJ27: 18 | AK27: 25 | AO27: =TEXT($A$3+6,"dddd") -> Sabtu | AP27: 1 | AQ27: 8 | AR27: 15 | AS27: 22 | AT27: 29
A28: =IF(TEXT(data!$C$9,"dddd")=kalender!A22,COUNT(kalender!B22:G22),IF(TEXT(data!$C$9,"dddd")=kalender!A23,COUNT(kalender!B23:G23),IF(TEXT(data!$C$9,"dddd")=kalender!A24,COUNT(kalender!B24:G24),IF(TEXT(data!$C$9,"dddd")=kalender!A25,COUNT(kalender!B25:G25),IF(TEXT(data!$C$9,"dddd")=kalender!A26,COUNT(kalender!B26:G26),IF(TEXT(data!$C$9,"dddd")=kalender!A27,COUNT(kalender!B27:G27),"")))))) -> 4 | I28: =IF(TEXT(data!$C$9,"dddd")=kalender!I22,COUNT(kalender!J22:O22),IF(TEXT(data!$C$9,"dddd")=kalender!I23,COUNT(kalender!J23:O23),IF(TEXT(data!$C$9,"dddd")=kalender!I24,COUNT(kalender!J24:O24),IF(TEXT(data!$C$9,"dddd")=kalender!I25,COUNT(kalender!J25:O25),IF(TEXT(data!$C$9,"dddd")=kalender!I26,COUNT(kalender!J26:O26),IF(TEXT(data!$C$9,"dddd")=kalender!I27,COUNT(kalender!J27:O27),"")))))) -> 4 | Q28: =IF(TEXT(data!$C$9,"dddd")=kalender!Q22,COUNT(kalender!R22:W22),IF(TEXT(data!$C$9,"dddd")=kalender!Q23,COUNT(kalender!R23:W23),IF(TEXT(data!$C$9,"dddd")=kalender!Q24,COUNT(kalender!R24:W24),IF(TEXT(data!$C$9,"dddd")=kalender!Q25,COUNT(kalender!R25:W25),IF(TEXT(data!$C$9,"dddd")=kalender!Q26,COUNT(kalender!R26:W26),IF(TEXT(data!$C$9,"dddd")=kalender!Q27,COUNT(kalender!R27:W27),"")))))) -> 4 | Y28: =IF(TEXT(data!$C$9,"dddd")=kalender!Y22,COUNT(kalender!Z22:AE22),IF(TEXT(data!$C$9,"dddd")=kalender!Y23,COUNT(kalender!Z23:AE23),IF(TEXT(data!$C$9,"dddd")=kalender!Y24,COUNT(kalender!Z24:AE24),IF(TEXT(data!$C$9,"dddd")=kalender!Y25,COUNT(kalender!Z25:AE25),IF(TEXT(data!$C$9,"dddd")=kalender!Y26,COUNT(kalender!Z26:AE26),IF(TEXT(data!$C$9,"dddd")=kalender!Y27,COUNT(kalender!Z27:AE27),"")))))) -> 5 | AG28: =IF(TEXT(data!$C$9,"dddd")=kalender!AG22,COUNT(kalender!AH22:AM22),IF(TEXT(data!$C$9,"dddd")=kalender!AG23,COUNT(kalender!AH23:AM23),IF(TEXT(data!$C$9,"dddd")=kalender!AG24,COUNT(kalender!AH24:AM24),IF(TEXT(data!$C$9,"dddd")=kalender!AG25,COUNT(kalender!AH25:AM25),IF(TEXT(data!$C$9,"dddd")=kalender!AG26,COUNT(kalender!AH26:AM26),IF(TEXT(data!$C$9,"dddd")=kalender!AG27,COUNT(kalender!AH27:AM27),"")))))) -> 4 | AO28: =IF(TEXT(data!$C$9,"dddd")=kalender!AO22,COUNT(kalender!AP22:AU22),IF(TEXT(data!$C$9,"dddd")=kalender!AO23,COUNT(kalender!AP23:AU23),IF(TEXT(data!$C$9,"dddd")=kalender!AO24,COUNT(kalender!AP24:AU24),IF(TEXT(data!$C$9,"dddd")=kalender!AO25,COUNT(kalender!AP25:AU25),IF(TEXT(data!$C$9,"dddd")=kalender!AO26,COUNT(kalender!AP26:AU26),IF(TEXT(data!$C$9,"dddd")=kalender!AO27,COUNT(kalender!AP27:AU27),"")))))) -> 4
A34: =COUNTA(A29:A33) -> 0 | I34: =COUNTA(I29:I33) -> 0 | Q34: =COUNTA(Q29:Q33) -> 0 | Y34: =COUNTA(Y29:Y33) -> 0 | AG34: =COUNTA(AG29:AG33) -> 0 | AO34: =COUNTA(AO29:AO33) -> 0

Sheet alokasi
A1: PEMERINTAH KABUPATEN HULU SUNGAI SELATAN
A2: DINAS PENDIDIKAN
A3: SEKOLAH MENENGAH KEJURUAN NEGERI 2 KANDANGAN
A4: Jln .Gambah Dalam No 77 Telp. 22156 Kandangan 71215
A5: Website : www.smkn2kandangan.sch.id Email : smkn2kdg@yahoo.co.id
A7: ="ANALISIS ALOKASI WAKTU SEMESTER "&data!C20 -> ANALISIS ALOKASI WAKTU SEMESTER I (GANJIL)
A8: ="TAHUN PELAJARAN "&data!C19 -> TAHUN PELAJARAN 2018 / 2019
A10: A. Distribusi Minggu Efektif dan Tidak Efektif
A12: No | B12: Bulan | C12: Jumlah Minggu | D12: ∑ Minggu Tidak Efektif | E12: ∑ Minggu Efektif | F12: Keterangan
A13: 1 | B13: =kalender!A4 -> 43282 | C13: =kalender!A12 | D13: =kalender!A18 -> 2 | E13: =C13-D13 -> #VALUE! | F13: =kalender!A13&" "&kalender!A14&" "&kalender!A15&" "&kalender!A16&" "&kalender!A17 -> 6, 13 libur semester genap
A14: 2 | B14: =B13+31 -> 43313 | C14: =kalender!I12 | D14: =kalender!I18 -> 1 | E14: =C14-D14 -> #VALUE! | F14: =kalender!I13&" "&kalender!I14&" "&kalender!I15&" "&kalender!I16&" "&kalender!I17 -> 17 Hari Kemerdekaan
A15: 3 | B15: =B14+31 -> 43344 | C15: =kalender!Q12 | D15: =kalender!Q18 -> 0 | E15: =C15-D15 -> #VALUE! | F15: =kalender!Q13&" "&kalender!Q14&" "&kalender!Q15&" "&kalender!Q16&" "&kalender!Q17
A16: 4 | B16: =B15+31 -> 43375 | C16: =kalender!Y12 | D16: =kalender!Y18 -> 0 | E16: =C16-D16 -> #VALUE! | F16: =kalender!Y13&" "&kalender!Y14&" "&kalender!Y15&" "&kalender!Y16&" "&kalender!Y17
A17: 5 | B17: =B16+31 -> 43406 | C17: =kalender!AG12 | D17: =kalender!AG18 -> 0 | E17: =C17-D17 -> #VALUE! | F17: =kalender!AG13&" "&kalender!AG14&" "&kalender!AG15&" "&kalender!AG16&" "&kalender!AG17
A18: 6 | B18: =B17+31 -> 43437 | C18: =kalender!AO12 | D18: =kalender!AO18 -> 4 | E18: =C18-D18 -> #VALUE! | F18: =kalender!AO13&" "&kalender!AO14&" "&kalender!AO15&" "&kalender!AO16&" "&kalender!AO17 -> 7 Ulangan Akhir Semester, 14, 21 Bagi raport, 28 Libur Akhir Semester
A19: Total | C19: =SUM(C13:C18) -> 0 | D19: =SUM(D13:D18) -> 7 | E19: =SUM(E13:F18) -> #VALUE!
A21: B. Alokasi Waktu Tatap Muka
A23: 1 | B23: Mata Pelajaran : | D23: =": "&data!C5 -> : Administrasi Transakssi
A24: 2 | B24: Kelas : | D24: =": "&data!C6&" "&data!D6 -> : XI BDP 1
A25: 3 | B25: Hari Tatap Muka : | D25: =": "&TEXT(data!C7,"dddd")&", "&IF(data!C8="","",TEXT(data!C8,"dddd")) -> : Thursday,
A26: 4 | B26: Jam Tatap Muka/Minggu : | D26: =": "&data!C12&" jam/minggu" -> : 6 jam/minggu
A27: 5 | B27: Jumlah Jam Tatap Muka Semester : | D27: =": "&data!C12&" jam x "&E19&" "&"minggu" -> #VALUE!
A28: 6 | B28: Jumlah Jam Tatap Dalam Silabus : | D28: =": "&prota!$E$55&" jam" -> #REF!
A30: C. Beban Kompetensi
A32: 1 | B32: Jumlah Kompetensi Inti : | D32: =COUNTA(silabus!A14:A18) -> 4
A33: 2 | B33: Jumlah Kompetensi Dasar : | D33: =COUNT(silabus!F35:F36) -> 2
A34: 3 | B34: Jumlah Indikator : | D34: =SUM(silabus!H35:H36) -> 4
B36: =ki!A11 -> Mengetahui : | E36: =ki!C11 -> Barabai, 16 April 2020
B37: =ki!A12 -> Kepala SMKN 1 Barabai | E37: =ki!C12 -> Guru Mata Pelajaran
B41: =ki!A16 -> Norta Dewi Yuniati, S.P, M.Pd | E41: =ki!C16 -> Abdian Noor, S.Pd
B42: =ki!A17 -> NIP. 19710623 200604 2 021 | E42: =ki!C17 -> NIP. 19680906 199412 1 005
A43: PEMERINTAH KABUPATEN HULU SUNGAI SELATAN
A44: DINAS PENDIDIKAN
A45: SEKOLAH MENENGAH KEJURUAN NEGERI 2 KANDANGAN
A46: Jln .Gambah Dalam No 77 Telp. 22156 Kandangan 71215
A47: Website : www.smkn2kandangan.sch.id Email : smkn2kdg@yahoo.co.id
A49: ="ANALISIS ALOKASI WAKTU SEMESTER "&data!C21 -> ANALISIS ALOKASI WAKTU SEMESTER II (GENAP)
A50: ="TAHUN PELAJARAN "&data!C19 -> TAHUN PELAJARAN 2018 / 2019
A52: A. Distribusi Minggu Efektif dan Tidak Efektif
A54: No | B54: Bulan | C54: Jumlah Minggu | D54: ∑ Minggu Tidak Efektif | E54: ∑ Minggu Efektif | F54: Keterangan
...

Sheet prota
A1: PEMERINTAH PROVINSI KALIMANTAN SELATAN
A2: DINAS PENDIDIKAN DAN KEBUDAYAAN
A3: SEKOLAH MENENGAH KEJURUAN NEGERI 2 KANDANGAN
A4: Jln .Gambah Dalam No 77 Telp. 22156 Kandangan 71215
A5: Website : www.smkn2kandangan.sch.id Email : smkn2kdg@yahoo.co.id
A7: PROGRAM TAHUNAN
A8: ="TAHUN PELAJARAN "&data!C19 -> TAHUN PELAJARAN 2018 / 2019
A10: Kode | C10: =": "&data!C4 -> : C3.5
A11: Mata Pelajaran | C11: =": "&data!C5 -> : Administrasi Transakssi
A12: Kelas | C12: =": "&data!C6&" "&data!D6 -> : XI BDP 1
A13: Bidang Keahlian | C13: =": "&data!C16 -> : Bisnis dan Manajemen
A14: Program Keahlian | C14: =": "&data!C17 -> : Bisnis dan Pemasaran
A15: Paket Keahlian | C15: =": "&data!C18 -> : Bisnis Daring dan Pemasaran
A16: Jumlah Jam | C16: =": "&E55+E89&" Jam Pelajaran" -> #REF!
A18: KI-1 : | B18: =silabus!B14 -> Menghayati dan mengamalkan ajaran agama yang dianutnya
A19: KI-2 : | B19: =silabus!B15 -> Menghayati dan mengamalkan perilaku jujur, disiplin, santun, peduli (gotong royong, kerja sama, toleran, damai), bertanggung-jawab, responsif, dan proaktif melalui keteladanan, pemberian nasihat, penguatan, pembiasaan, dan pengkondisian secara berkesinambungan serta menunjukkan sikap sebagai bagian dari solusi atas berbagai permasalahan dalam berinteraksi secara efektif dengan lingkungan sosial dan alam serta dalam menempatkan diri sebagai cerminan bangsa dalam pergaulan dunia
A20: KI-3 : | B20: =silabus!B16 -> Memahami, menerapkan, menganalisis, dan mengevaluasi tentang pengetahuan faktual, konseptual, operasional dasar, dan metakognitif sesuai dengan bidang dan lingkup kerja Bisnis Daring dan Pemasaran pada tingkat teknis, spesifik, detil, dan kompleks, berkenaan dengan ilmu pengetahuan, teknologi, seni, budaya, dan humaniora dalam konteks pengembangan potensi diri sebagai bagian dari keluarga, sekolah, dunia kerja, warga masyarakat nasional, regional, dan internasional.
A21: KI-4 : | B21: =silabus!B17 -> Melaksanakan tugas spesifik dengan menggunakan alat, informasi, dan prosedur kerja yang lazim dilakukan serta memecahkan masalah sesuai dengan lingkup Administrasi Umum sebagai Dasar Bidang Bisnis dan Manajemen. Menampilkan kinerja di bawah bimbingan dengan mutu dan kuantitas yang terukur sesuai dengan standar kompetensi kerja. Menunjukkan keterampilan menalar, mengolah, dan menyaji secara efektif, kreatif, produktif, kritis, mandiri, kolaboratif, komunikatif, dan solutif dalam ranah abstrak terkait dengan pengembangan dari yang dipelajarinya di sekolah, serta mampu melaksanakan tugas spesifik di bawah pengawasan langsung. Menunjukkan keterampilan mempersepsi, kesiapan, meniru, membiasakan, gerak mahir, menjadikan gerak alami dalam ranah konkret terkait dengan pengembangan dari yang dipelajarinya di sekolah, serta mampu melaksanakan tugas spesifik di bawah pengawasan langsung.
A23: No | B23: Kompetensi Dasar | E23: Alokasi Waktu (JP)
A24: =data!A20&" "&data!C20 -> Semester I (GANJIL)
A25: 1 | B25: =silabus!A35 -> 3.10 Menganalisis dokumenj transaksi penjualan | E25: =silabus!F35 -> 3
B26: =silabus!A36 -> 4.10 Membuat administrasi penjualan | E26: =silabus!F36 -> 3
A27: =A25+1 -> 2 | B27: =silabus!#REF! -> #REF! | E27: =silabus!#REF! -> #REF!
B28: =silabus!#REF! -> #REF! | E28: =silabus!#REF! -> #REF!
A29: =A27+1 -> 3 | B29: =silabus!#REF! -> #REF! | E29: =silabus!#REF! -> #REF!
B30: =silabus!#REF! -> #REF! | E30: =silabus!#REF! -> #REF!
A31: =A29+1 -> 4 | B31: =silabus!#REF! -> #REF! | E31: =silabus!#REF! -> #REF!
B32: =silabus!#REF! -> #REF! | E32: =silabus!#REF! -> #REF!
A33: =A31+1 -> 5 | B33: =silabus!#REF! -> #REF! | E33: =silabus!#REF! -> #REF!
B34: =silabus!#REF! -> #REF! | E34: =silabus!#REF! -> #REF!
A35: =A33+1 -> 6 | B35: =silabus!#REF! -> #REF! | E35: =silabus!#REF! -> #REF!
B36: =silabus!#REF! -> #REF! | E36: =silabus!#REF! -> #REF!
A37: =A35+1 -> 7 | B37: =silabus!#REF! -> #REF! | E37: =silabus!#REF! -> #REF!
B38: =silabus!#REF! -> #REF! | E38: =silabus!#REF! -> #REF!
A39: =A37+1 -> 8 | B39: =silabus!#REF! -> #REF! | E39: =silabus!#REF! -> #REF!
B40: =silabus!#REF! -> #REF! | E40: =silabus!#REF! -> #REF!
A41: =A39+1 -> 9 | B41: =silabus!#REF! -> #REF! | E41: =silabus!#REF! -> #REF!
B42: =silabus!#REF! -> #REF! | E42: =silabus!#REF! -> #REF!
A43: =A41+1 -> 10 | B43: =silabus!#REF! -> #REF! | E43: =silabus!#REF! -> #REF!
B44: =silabus!#REF! -> #REF! | E44: =silabus!#REF! -> #REF!
...

Sheet promes
A1: PROGRAM SEMESTER
C3: =data!A17 -> Program Keahlian | K3: : | L3: =data!C17 -> Bisnis dan Pemasaran
C4: =data!A5 -> Mata Pelajaran | K4: : | L4: =data!C5 -> Administrasi Transakssi
C5: =data!A6 -> Kelas | K5: : | L5: =data!C6&" "&data!D6 -> XI BDP 1
C6: =data!A20 -> Semester | K6: : | L6: =data!C20 -> I (GANJIL)
C7: =data!A19 -> Tahun Pelajaran | K7: : | L7: =data!C19 -> 2018 / 2019
C8: =data!A12 -> Jumlah Jam | K8: : | L8: =C45&" jam real" -> #REF!
A10: No | B10: Standar KompetensiI / Kompetensi Dasar | C10: JP | D10: =kalender!A4 -> 43282 | I10: =D10+31 -> 43313 | N10: =I10+31 -> 43344 | S10: =N10+31 -> 43375 | X10: =S10+31 -> 43406 | AC10: =X10+31 -> 43437 | AH10: Pencapaian Target
D11: 1 | E11: 2 | F11: 3 | G11: 4 | H11: 5 | I11: 1 | J11: 2 | K11: 3 | L11: 4 | M11: 5 | N11: 1 | O11: 2 | P11: 3 | Q11: 4 | R11: 5 | S11: 1 | T11: 2 | U11: 3 | V11: 4 | W11: 5 | X11: 1 | Y11: 2 | Z11: 3 | AA11: 4 | AB11: 5 | AC11: 1 | AD11: 2 | AE11: 3 | AF11: 4 | AG11: 5 | AH11: Rencana | AI11: Pelaksanaan
B12: =L4 -> Administrasi Transakssi
A13: 1 | B13: =silabus!A35 -> 3.10 Menganalisis dokumenj transaksi penjualan | C13: =silabus!F35 -> 3 | D13: Libur Akhir Semester | F13: 4 | K13: Hari Kemerdekaan | AD13: Ujian Akhir Semester | AE13: Tidak Efektif | AF13: Bagi Rapor | AG13: Libur Akhir Semester | AH13: =(SUM(D13:AG13)/$C$45)*100 -> #REF! | AI13: =AH13 -> #REF! | AJ13: =IF(C13=SUM(D13:AG13),"ok","cek") -> cek
B14: =silabus!A36 -> 4.10 Membuat administrasi penjualan | C14: =silabus!F36 -> 3 | G14: 4 | AH14: =(SUM(D14:AG14)/$C$45)*100 -> #REF! | AI14: =AH14+AI13 -> #REF! | AJ14: =IF(C14=SUM(D14:AG14),"ok","cek") -> cek
A15: 2 | B15: =silabus!#REF! -> #REF! | C15: =silabus!#REF! -> #REF! | I15: 4 | AH15: =(SUM(D15:AG15)/$C$45)*100 -> #REF! | AI15: =AH15+AI14 -> #REF! | AJ15: =IF(C15=SUM(D15:AG15),"ok","cek") -> #REF!
B16: =silabus!#REF! -> #REF! | C16: =silabus!#REF! -> #REF! | J16: 4 | AH16: =(SUM(D16:AG16)/$C$45)*100 -> #REF! | AI16: =AH16+AI15 -> #REF! | AJ16: =IF(C16=SUM(D16:AG16),"ok","cek") -> #REF!
A17: 3 | B17: =silabus!#REF! -> #REF! | C17: =silabus!#REF! -> #REF! | L17: 4 | AH17: =(SUM(D17:AG17)/$C$45)*100 -> #REF! | AI17: =AH17+AI16 -> #REF! | AJ17: =IF(C17=SUM(D17:AG17),"ok","cek") -> #REF!
B18: =silabus!#REF! -> #REF! | C18: =silabus!#REF! -> #REF! | M18: 4 | AH18: =(SUM(D18:AG18)/$C$45)*100 -> #REF! | AI18: =AH18+AI17 -> #REF! | AJ18: =IF(C18=SUM(D18:AG18),"ok","cek") -> #REF!
A19: 4 | B19: =silabus!#REF! -> #REF! | C19: =silabus!#REF! -> #REF! | O19: 4 | AH19: =(SUM(D19:AG19)/$C$45)*100 -> #REF! | AI19: =AH19+AI18 -> #REF! | AJ19: =IF(C19=SUM(D19:AG19),"ok","cek") -> #REF!
B20: =silabus!#REF! -> #REF! | C20: =silabus!#REF! -> #REF! | P20: 4 | AH20: =(SUM(D20:AG20)/$C$45)*100 -> #REF! | AI20: =AH20+AI19 -> #REF! | AJ20: =IF(C20=SUM(D20:AG20),"ok","cek") -> #REF!
A21: 5 | B21: =silabus!#REF! -> #REF! | C21: =silabus!#REF! -> #REF! | Q21: 4 | AH21: =(SUM(D21:AG21)/$C$45)*100 -> #REF! | AI21: =AH21+AI20 -> #REF! | AJ21: =IF(C21=SUM(D21:AG21),"ok","cek") -> #REF!
B22: =silabus!#REF! -> #REF! | C22: =silabus!#REF! -> #REF! | R22: 4 | AH22: =(SUM(D22:AG22)/$C$45)*100 -> #REF! | AI22: =AH22+AI21 -> #REF! | AJ22: =IF(C22=SUM(D22:AG22),"ok","cek") -> #REF!
