Workbook

Sheet data
A1: ISILAH DENGAN DATA YANG BENAR
A3: Sekolah | B3: : | C3: SMKN 1 Barabai
A4: Kode Pelajaran | B4: : | C4: C3.5
A5: Mata Pelajaran | B5: : | C5: Administrasi Transakssi
A6: Kelas | B6: : | C6: XI BDP | D6: 1
A7: Tanggal Pertama Belajar Ganjil | B7: : | C7: 43937 | D7: =IF(C8="",7,C8-C7) -> 7
A8: Tanggal Kedua Belajar Ganjil | B8: : | D8: =IF(C8="",7,7-D7) -> 7
A9: Tanggal Pertama Belajar Genap | B9: : | C9: 43479 | D9: =IF(C10="",7,C10-C9) -> 7
A10: Tanggal Kedua Belajar Genap | B10: : | D10: =IF(C10="",7,7-D9) -> 7
A11: Jumlah Jam | B11: : | C11: 108 | D11: semester 1 dan 2
A12: Jumlah Jam | B12: : | C12: 6 | D12: per minggu
A13: Pendekatan Pembelajaran | B13: : | C13: Saintifik
A14: Model Pembelajaran | B14: : | C14: Problem based learning
A15: Metode Pembelajaran | B15: : | C15: Paparan, diskusi, tanya jawab, praktik dan eksperimen
A16: Bidang Keahlian | B16: : | C16: Bisnis dan Manajemen
A17: Program Keahlian | B17: : | C17: Bisnis dan Pemasaran
A18: Paket Keahlian | B18: : | C18: Bisnis Daring dan Pemasaran
A19: Tahun Pelajaran | B19: : | C19: 2018 / 2019
A20: Semester | B20: : | C20: I (GANJIL)
A21: Semester | B21: : | C21: II (GENAP)
A22: Nama Kepala Sekolah | B22: : | C22: Norta Dewi Yuniati, S.P, M.Pd | D22: NIP. | E22: 19710623 200604 2 021
A23: Nama Guru | B23: : | C23: Abdian Noor, S.Pd | D23: NIP. | E23: 19680906 199412 1 005
A24: Tanggal Perangkat | B24: : | C24: 16 April 2020
C32: Bisnis dan Pemasaran | E32: Akuntansi dan Keuangan Lembaga
C33: Manajemen Perkantoran | E33: Otomatisasi dan Tata Kelola Perkantoran
C34: Teknik Komputer dan Informatika | E34: Bisnis Daring dan Pemasaran
E35: Multimedia
E36: Teknik Komputer dan Jaringan
E37: Tata Boga
E38: Tata Busana

Sheet matrik
A1: ="MATRIK PERANCAH PEMANDUAN SINTAKS MODEL PEMBELAJARAN "&data!C14 -> MATRIK PERANCAH PEMANDUAN SINTAKS MODEL PEMBELAJARAN Problem based learning
A2: ="Dengan Pendekatan Saintifik Pada Mata Pelajaran "&data!C5 -> Dengan Pendekatan Saintifik Pada Mata Pelajaran Administrasi Transakssi
A4: Semester | B4: Genap
A5: Tahun Pelajaran | B5: =silabus!B6 -> : 2018 / 2019
A6: Kelas | B6: =kkmi!F4 -> : XI BDP
A8: KD-3 : | B8: 3.10 Menganalisis dokumenj transaksi penjualan
A9: KD-4 : | B9: 4.10 Membuat administrasi penjualan
A11: Indikator Pencapaian Kompetensi | B11: Tujuan Pembelajaran | C11: Sintaks Model Pembelajaran | D11: Pendekatan Saintifik
D12: Mengamati | E12: Menanya | F12: Mengumpulkan Informasi | G12: Menalar | H12: Mengomunikasikan
A13: 3.10.1 Menjelaskan Jenis dokumen administrasi penjualan 3.10.2 Memahami langkah pembuatan dokumen administrasi penjualan | B13: 3.1.1.1 Setelah berdiskusi dan menggali informasi peserta didik dapat menjelaskan jenis dokumen administrasi penjualan, secara santun | C13: a. Mengidentifikasi masalah b. Menetapkan masalah melalui berpikir tentang masalah dan menseleksi informasi yang relevan c. Mengembangkan solusi melalui pengidentifikasian alternatif, tukar pikiran dan mengecek perbedaan pandang d. Melakukan tindakan strategis e. Melihat ulang dan mengevaluasi pengaruh dari solusi yang dilakukan | D13: Mengamati jenis dokumen administrasi yang sering dilakukan dalam penjualan | E13: Mengkondisikan situasi belajar untuk membiasakan mengajukan pertanyaan jenis dokumen administrasi | F13: Mengumpulkan data yang dipertanyakan dan menentukan sumber (melalui benda konkrit, dokumen, buku, eksperimen) untuk menjawab pertanyaan yang diajukan tentang jenis dokumen administrasi penjualan | G13: Mengkategorikan data dan menentukan hubungannya, selanjutnya disimpulkan dengan urutan dari yang sederhana sampai pada yang lebih kompleks terkait dengan jenis komunikasi daring | H13: Menyampaikan hasil konseptualisasi tentang Jenis dokumen administrasi penjualan melalui media lisan dan tulisan.
A14: 4.10.1 Membuat dokumen administrasi penjualan | B14: 4.1.1.1 Setelah praktik peserta didik dapat membuat dokumen admnistrasi penjualan, dengan baik dan benar
A17: KD-3 :
A18: KD-4 :
A20: Indikator Pencapaian Kompetensi | B20: Tujuan Pembelajaran | C20: Sintaks Model Pembelajaran | D20: Pendekatan Saintifik
D21: Mengamati | E21: Menanya | F21: Mengumpulkan Informasi | G21: Menalar | H21: Mengomunikasikan
C22: =#REF! -> #REF!
A25: KD-3 :
A26: KD-4 :
A28: Indikator Pencapaian Kompetensi | B28: Tujuan Pembelajaran | C28: Sintaks Model Pembelajaran | D28: Pendekatan Saintifik
D29: Mengamati | E29: Menanya | F29: Mengumpulkan Informasi | G29: Menalar | H29: Mengomunikasikan
C30: =C22 -> #REF!
A33: KD-3 :
A34: KD-4 :
A36: Indikator Pencapaian Kompetensi | B36: Tujuan Pembelajaran | C36: Sintaks Model Pembelajaran | D36: Pendekatan Saintifik
D37: Mengamati | E37: Menanya | F37: Mengumpulkan Informasi | G37: Menalar | H37: Mengomunikasikan
C38: =C30 -> #REF!
A41: KD-3 :
A42: KD-4 :
A44: Indikator Pencapaian Kompetensi | B44: Tujuan Pembelajaran | C44: Sintaks Model Pembelajaran | D44: Pendekatan Saintifik
D45: Mengamati | E45: Menanya | F45: Mengumpulkan Informasi | G45: Menalar | H45: Mengomunikasikan
C46: =C38 -> #REF!
A49: KD-3 :
A50: KD-4 :
A52: Indikator Pencapaian Kompetensi | B52: Tujuan Pembelajaran | C52: Sintaks Model Pembelajaran | D52: Pendekatan Saintifik
D53: Mengamati | E53: Menanya | F53: Mengumpulkan Informasi | G53: Menalar | H53: Mengomunikasikan
C54: =C46 -> #REF!
A57: KD-3 :
A58: KD-4 :
A60: Indikator Pencapaian Kompetensi | B60: Tujuan Pembelajaran | C60: Sintaks Model Pembelajaran | D60: Pendekatan Saintifik
D61: Mengamati | E61: Menanya | F61: Mengumpulkan Informasi | G61: Menalar | H61: Mengomunikasikan
C62: =C54 -> #REF!
B65: =ki!A11 -> Mengetahui : | F65: =ki!C11 -> Barabai, 16 April 2020
B66: =ki!A12 -> Kepala SMKN 1 Barabai | F66: =ki!C12 -> Guru Mata Pelajaran
B70: =ki!A16 -> Norta Dewi Yuniati, S.P, M.Pd | F70: =ki!C16 -> Abdian Noor, S.Pd
B71: =ki!A17 -> NIP. 19710623 200604 2 021 | F71: =ki!C17 -> NIP. 19680906 199412 1 005

Sheet silabus
A1: SILABUS MATA PELAJARAN
A3: Satuan Pendidikan | B3: =": "&data!C3 -> : SMKN 1 Barabai
A4: Mata Pelajaran | B4: =": "&data!C5 -> : Administrasi Transakssi
A5: Semester | B5: =": "&data!C20&" dan "&data!C21 -> : I (GANJIL) dan II (GENAP)
A6: Tahun Pelajaran | B6: =": "&data!C19 -> : 2018 / 2019
A7: Kelas | B7: =": "&data!C6 -> : XI BDP
A8: Waktu Total | B8: =": "&data!C11&" JP" -> : 108 JP
A9: Waktu Semester Ganjil | B9: =": "&H34&" JP" -> : 6 JP
A10: Waktu Semester Genap | B10: : 6 JP
A12: Kompetensi Inti :
A14: KI-1 : | B14: Menghayati dan mengamalkan ajaran agama yang dianutnya | I14: =144/2 -> 72
A15: KI-2 : | B15: Menghayati dan mengamalkan perilaku jujur, disiplin, santun, peduli (gotong royong, kerja sama, toleran, damai), bertanggung-jawab, responsif, dan proaktif melalui keteladanan, pemberian nasihat, penguatan, pembiasaan, dan pengkondisian secara berkesinambungan serta menunjukkan sikap sebagai bagian dari solusi atas berbagai permasalahan dalam berinteraksi secara efektif dengan lingkungan sosial dan alam serta dalam menempatkan diri sebagai cerminan bangsa dalam pergaulan dunia | I15: =72/9 -> 8
A16: KI-3 : | B16: Memahami, menerapkan, menganalisis, dan mengevaluasi tentang pengetahuan faktual, konseptual, operasional dasar, dan metakognitif sesuai dengan bidang dan lingkup kerja Bisnis Daring dan Pemasaran pada tingkat teknis, spesifik, detil, dan kompleks, berkenaan dengan ilmu pengetahuan, teknologi, seni, budaya, dan humaniora dalam konteks pengembangan potensi diri sebagai bagian dari keluarga, sekolah, dunia kerja, warga masyarakat nasional, regional, dan internasional.
A17: KI-4 : | B17: Melaksanakan tugas spesifik dengan menggunakan alat, informasi, dan prosedur kerja yang lazim dilakukan serta memecahkan masalah sesuai dengan lingkup Administrasi Umum sebagai Dasar Bidang Bisnis dan Manajemen. Menampilkan kinerja di bawah bimbingan dengan mutu dan kuantitas yang terukur sesuai dengan standar kompetensi kerja. Menunjukkan keterampilan menalar, mengolah, dan menyaji secara efektif, kreatif, produktif, kritis, mandiri, kolaboratif, komunikatif, dan solutif dalam ranah abstrak terkait dengan pengembangan dari yang dipelajarinya di sekolah, serta mampu melaksanakan tugas spesifik di bawah pengawasan langsung. Menunjukkan keterampilan mempersepsi, kesiapan, meniru, membiasakan, gerak mahir, menjadikan gerak alami dalam ranah konkret terkait dengan pengembangan dari yang dipelajarinya di sekolah, serta mampu melaksanakan tugas spesifik di bawah pengawasan langsung.
A19: KD 1.1 :
A20: KD 1.2 :
A21: KD 2.1 :
A22: KD 2.2 :
A23: KD 2.3 :
A24: KD 2.4 :
A25: KD 2.5 :
A26: KD 2.6 :
A27: KD 2.7 :
A28: KD 2.8 :
A29: KD 2.9 :
A30: KD 2.10 :
A32: =data!A20&" "&data!C20 -> Semester I (GANJIL)
A34: Kompetensi Dasar | B34: Indikator Pencapaian Kompetensi | C34: Materi Pembelajaran | D34: Kegiatan Pembelajaran | E34: Penilaian | F34: Alokasi Waktu | G34: Sumber Belajar | H34: =SUM(F35:F36) -> 6
A35: =matrik!B8 -> 3.10 Menganalisis dokumenj transaksi penjualan | B35: =matrik!A13 -> 3.10.1 Menjelaskan Jenis dokumen administrasi penjualan 3.10.2 Memahami langkah pembuatan dokumen administrasi penjualan | C35: Komunikasi Daring - Jenis komunikasi daring - Surat Elektronik (E-Mail) - Chat Mobile device - Kolaborasi data dengan google drive | D35: =matrik!$D$12&CHAR(10)&matrik!D13&CHAR(10)&matrik!$E$12&CHAR(10)&matrik!E13&CHAR(10)&matrik!$F$12&CHAR(10)&matrik!F13&CHAR(10)&matrik!$G$12&CHAR(10)&matrik!G13&CHAR(10)&matrik!$H$12&CHAR(10)&matrik!H13 -> Mengamati Mengamati jenis dokumen administrasi yang sering dilakukan dalam penjualan Menanya Mengkondisikan situasi belajar untuk membiasakan mengajukan pertanyaan jenis dokumen administrasi Mengumpulkan Informasi Mengumpulkan data yang dipertanyakan dan menentukan sumber (melalui benda konkrit, dokumen, buku, eksperimen) untuk menjawab pertanyaan yang diajukan tentang jenis dokumen administrasi penjualan Menalar Mengkategorikan data dan menentukan hubungannya, selanjutnya disimpulkan dengan urutan dari yang sederhana sampai pada yang lebih kompleks terkait dengan jenis komunikasi daring Mengomunikasikan Menyampaikan hasil konseptualisasi tentang Jenis dokumen administrasi penjualan melalui media lisan dan tulisan. | E35: Tes tertulis | F35: 3 | G35: - Buku Pengetahuan Bahan - Tempat Usaha/Toko/MM | H35: 2
A36: =matrik!B9 -> 4.10 Membuat administrasi penjualan | B36: =matrik!A14 -> 4.10.1 Membuat dokumen administrasi penjualan | E36: Tes kinerja | F36: 3 | H36: 2
A37: =matrik!B17 -> 0 | B37: =matrik!A22 -> 0 | D37: =matrik!$D$12&CHAR(10)&matrik!D22&CHAR(10)&matrik!$E$12&CHAR(10)&matrik!E22&CHAR(10)&matrik!$F$12&CHAR(10)&matrik!F22&CHAR(10)&matrik!$G$12&CHAR(10)&matrik!G22&CHAR(10)&matrik!$H$12&CHAR(10)&matrik!H22 -> Mengamati Menanya Mengumpulkan Informasi Menalar Mengomunikasikan | E37: =$E$35 -> Tes tertulis | F37: =IF(C37="","",$F$35) | H37: 2
A38: =matrik!B18 -> 0 | B38: =matrik!A23 -> 0 | E38: =$E$36 -> Tes kinerja | F38: =IF(C37="","",$F$36) | H38: 2
A39: =matrik!B25 -> 0 | B39: =matrik!A30 -> 0 | D39: =matrik!$D$12&CHAR(10)&matrik!D30&CHAR(10)&matrik!$E$12&CHAR(10)&matrik!E30&CHAR(10)&matrik!$F$12&CHAR(10)&matrik!F30&CHAR(10)&matrik!$G$12&CHAR(10)&matrik!G30&CHAR(10)&matrik!$H$12&CHAR(10)&matrik!H30 -> Mengamati Menanya Mengumpulkan Informasi Menalar Mengomunikasikan | E39: =$E$35 -> Tes tertulis | F39: =IF(C39="","",$F$35) | H39: 2
A40: =matrik!B26 -> 0 | B40: =matrik!A31 -> 0 | E40: =$E$36 -> Tes kinerja | F40: =IF(C39="","",$F$36) | H40: 2
A41: =matrik!B33 -> 0 | B41: =matrik!A38 -> 0 | D41: =matrik!$D$12&CHAR(10)&matrik!D38&CHAR(10)&matrik!$E$12&CHAR(10)&matrik!E38&CHAR(10)&matrik!$F$12&CHAR(10)&matrik!F38&CHAR(10)&matrik!$G$12&CHAR(10)&matrik!G38&CHAR(10)&matrik!$H$12&CHAR(10)&matrik!H38 -> Mengamati Menanya Mengumpulkan Informasi Menalar Mengomunikasikan | E41: =$E$35 -> Tes tertulis | F41: =IF(C41="","",$F$35) | H41: 2
A42: =matrik!B34 -> 0 | B42: =matrik!A39 -> 0 | E42: =$E$36 -> Tes kinerja | F42: =IF(C41="","",$F$36) | H42: 2
A43: =matrik!B41 -> 0 | B43: =matrik!A46 -> 0 | D43: =matrik!$D$12&CHAR(10)&matrik!D46&CHAR(10)&matrik!$E$12&CHAR(10)&matrik!E46&CHAR(10)&matrik!$F$12&CHAR(10)&matrik!F46&CHAR(10)&matrik!$G$12&CHAR(10)&matrik!G46&CHAR(10)&matrik!$H$12&CHAR(10)&matrik!H46 -> Mengamati Menanya Mengumpulkan Informasi Menalar Mengomunikasikan | E43: =$E$35 -> Tes tertulis | F43: =IF(C43="","",$F$35) | H43: 2
A44: =matrik!B42 -> 0 | B44: =matrik!A47 -> 0 | E44: =$E$36 -> Tes kinerja | F44: =IF(C43="","",$F$36) | H44: 2
A45: =matrik!B49 -> 0 | B45: =matrik!A54 -> 0 | D45: =matrik!$D$12&CHAR(10)&matrik!D54&CHAR(10)&matrik!$E$12&CHAR(10)&matrik!E54&CHAR(10)&matrik!$F$12&CHAR(10)&matrik!F54&CHAR(10)&matrik!$G$12&CHAR(10)&matrik!G54&CHAR(10)&matrik!$H$12&CHAR(10)&matrik!H54 -> Mengamati Menanya Mengumpulkan Informasi Menalar Mengomunikasikan | E45: =$E$35 -> Tes tertulis | F45: =IF(C45="","",$F$35) | H45: 2
A46: =matrik!B50 -> 0 | B46: =matrik!A55 -> 0 | E46: =$E$36 -> Tes kinerja | F46: =IF(C45="","",$F$36) | H46: 2
A47: =matrik!B57 -> 0 | B47: =matrik!A62 -> 0 | D47: =matrik!$D$12&CHAR(10)&matrik!D62&CHAR(10)&matrik!$E$12&CHAR(10)&matrik!E62&CHAR(10)&matrik!$F$12&CHAR(10)&matrik!F62&CHAR(10)&matrik!$G$12&CHAR(10)&matrik!G62&CHAR(10)&matrik!$H$12&CHAR(10)&matrik!H62 -> Mengamati Menanya Mengumpulkan Informasi Menalar Mengomunikasikan | E47: =$E$35 -> Tes tertulis | F47: =IF(C47="","",$F$35) | H47: 2
A48: =matrik!B58 -> 0 | B48: =matrik!A63 -> 0 | E48: =$E$36 -> Tes kinerja | F48: =IF(C47="","",$F$36) | H48: 2
B50: =matrik!B65 -> Mengetahui : | E50: =matrik!F65 -> Barabai, 16 April 2020
B51: =matrik!B66 -> Kepala SMKN 1 Barabai | E51: =matrik!F66 -> Guru Mata Pelajaran
B55: =matrik!B70 -> Norta Dewi Yuniati, S.P, M.Pd | E55: =matrik!F70 -> Abdian Noor, S.Pd
B56: =matrik!B71 -> NIP. 19710623 200604 2 021 | E56: =matrik!F71 -> NIP. 19680906 199412 1 005

Sheet ki
A1: ANALISIS KOMPETENSI INTI
A3: Mata Pelajaran | B3: =": "&data!C5 -> : Administrasi Transakssi
A4: Semester | B4: =": "&data!C20&" / "&data!C21 -> : I (GANJIL) / II (GENAP)
A5: Tahun Pelajaran | B5: =": "&data!C19 -> : 2018 / 2019
A6: Kelas | B6: =": "&data!C6 -> : XI BDP
A8: Kompetensi Inti 3 (Pengetahuan) | B8: Kompetensi Inti 4 (Keterampilan) | C8: Analisis dan Rekomendasi KI
A9: Memahami, menerapkan, menganalisis, dan mengevaluasi tentang pengetahuan faktual, konseptual, operasional dasar, dan metakognitif sesuai dengan bidang dan lingkup kerja Bisnis Daring dan Pemasaran pada tingkat teknis, spesifik, detil, dan kompleks, berkenaan dengan ilmu pengetahuan, teknologi, seni, budaya, dan humaniora dalam konteks pengembangan potensi diri sebagai bagian dari keluarga, sekolah, dunia kerja, warga masyarakat nasional, regional, dan internasional. | B9: Melaksanakan tugas spesifik dengan menggunakan alat, informasi, dan prosedur kerja yang lazim dilakukan serta memecahkan masalah sesuai dengan lingkup Administrasi Transaksi sebagai Dasar Bidang Bisnis dan Manajemen. Menampilkan kinerja di bawah bimbingan dengan mutu dan kuantitas yang terukur sesuai dengan standar kompetensi kerja. Menunjukkan keterampilan menalar, mengolah, dan menyaji secara efektif, kreatif, produktif, kritis, mandiri, kolaboratif, komunikatif, dan solutif dalam ranah abstrak terkait dengan pengembangan dari yang dipelajarinya di sekolah, serta mampu melaksanakan tugas spesifik di bawah pengawasan langsung. Menunjukkan keterampilan mempersepsi, kesiapan, meniru, membiasakan, gerak mahir, menjadikan gerak alami dalam ranah konkret terkait dengan pengembangan dari yang dipelajarinya di sekolah, serta mampu melaksanakan tugas spesifik di bawah pengawasan langsung. | C9: KI-3 pengetahuan dan KI-4 keterampilan, adalah untuk program pendidikan 3 tahun. KI-3 dan KI-4 tersebut sesuai menjadi rujukan KD-KD mata pelajaran Administrasi Transaksi (3 Tahun).
A11: Mengetahui : | C11: ="Barabai, "&data!C24 -> Barabai, 16 April 2020
A12: Kepala SMKN 1 Barabai | C12: Guru Mata Pelajaran
A16: =data!C22 -> Norta Dewi Yuniati, S.P, M.Pd | C16: =data!C23 -> Abdian Noor, S.Pd
A17: =data!D22&" "&data!E22 -> NIP. 19710623 200604 2 021 | C17: =data!D23&" "&data!E23 -> NIP. 19680906 199412 1 005

Sheet kd
A1: ANALISIS KOMPETENSI DASAR
A3: Mata Pelajaran | B3: =ki!B3 -> : Administrasi Transakssi | F3: Tahun Pelajaran | G3: =ki!B5 -> : 2018 / 2019
A4: Semester | B4: =": "&data!C20 -> : I (GANJIL) | F4: Kelas | G4: =ki!B6 -> : XI BDP
A6: Kompetensi Dasar Pengetahuan (KD dari KI-3) | B6: Kompetensi Dasar Keterampilan (KD dari KI-4) | C6: Analisis KD Pengetahuan | D6: Rekomendasi KD Pengetahuan | E6: Analisis KD Keterampilan | F6: Rekomendasi KD Keterampilan | G6: Rekomendasi KD-KD pada Mapel | H6: PPK
C7: Tingkat Dimensi Kognitif dan Bentuk Dimensi Pengetahuan | D7: Kesesuaian Dimensi Kognitif dengan Bentuk Pengetahuan | E7: Bentuk Taksonomi dan Tingkat Taksonomi | F7: Kesetaraan Taksonomi KD-dari KI-3 dg KD dari KI-4 | G7: - Ketercapaian Dimensi Kognitif dan Bentuk Pengetahuan semua KD-3 dalam Mata Pelajaran_x000D_ | H7: Nilai-Nilai Karakter yang dapat Diintegrasikan dalam Materi dan Model Pembelajaran
G8: - Ketercapaian Taksonomi semua KD-4 dalam Mata Pelajaran
A9: =silabus!A35 -> 3.10 Menganalisis dokumenj transaksi penjualan | B9: =silabus!A36 -> 4.10 Membuat administrasi penjualan | C9: Tingkat dimensi kognitif adalah Memahami (C2), dan jenis bahan teknik adalah bentuk pengetahuan prosedural | D9: Memahami (C2), sesuai dipasangkan dengan jenis bahan teknik adalah bentuk pengetahuan prosedural | E9: Memilah adalah keterampilan konkret, tingkat Manipulasi | F9: KD-3 memahami (C2) setara dengan KD-4 memilah | G9: KD-3 dari KD-KD pengetahuan Mata Pelajaran Dasar Perancangan Teknik Mesin sudah memenuhi Dimensi Kognitif tuntutan KI-3 yaitu memahami, menerapkan, menganalisis. Rekomendasi : Tingkat taksonomi menerapkan (C3) direkomendasikan pada KD 3.2 dari Memahami menjadi Menerapkan pengolahan bahan logam Sedangkan KD 4.2 menjadi Membuat bahan logam Bentuk Pengetahuan juga sudah terpenuhi yaitu konseptual, prosedural, dan metakognitif. KD-4 dari KD-KD keterampilan Mata Pelajaran Dasar Perancangan Teknik Mesin sudah memenuhi Tingkat Taksonomi tuntutan KI-4 pada ranah konkret yaitu mengolah, menalar, dan menyajikan. Tingkat taksonomi (KKO) tertinggi sesuai tuntutan KI-4, ada pada KD 4.9 Menunjukkan sistem kontrol | H9: - Rasa ingin tahu - Mandiri - Bertanggung jawab
A10: =silabus!#REF! -> #REF! | B10: =silabus!#REF! -> #REF! | C10: Tingkat dimensi kognitif adalah Memahami (C2), dan prinsip pengolahan bahan logam adalah bentuk pengetahuan prosedural | D10: Memahami (C2), sesuai dipasangkan dengan prnsip pengolahan bahan logam | E10: Mengidentifikasi adalah keterampilan konkret, tingkat Manipulasi | F10: KD-3 memahami (C2) setara dengan KD-4 mengidentifikasi | H10: =H9 -> - Rasa ingin tahu - Mandiri - Bertanggung jawab
A11: =silabus!#REF! -> #REF! | B11: =silabus!#REF! -> #REF! | C11: Tingkat dimensi kognitif adalah Memahami (C2), dan prinsip pengolahan bahan non logam adalah bentuk pengetahuan prosedural | D11: Memahami (C2), sesuai dipasangkan dengan prinsip pengolahan bahan non logam | E11: Mengidentifikasi adalah keterampilan konkret, tingkat Manipulasi | F11: KD-3 memahami (C2) setara dengan KD-4 mengidentifikasi | H11: =H10 -> - Rasa ingin tahu - Mandiri - Bertanggung jawab
A12: =silabus!#REF! -> #REF! | B12: =silabus!#REF! -> #REF! | C12: Tingkat dimensi kognitif adalah Memahami (C2), dan persyaratan perlakuan panas logam adalah bentuk pengetahuan prosedural | D12: Memahami (C2), sesuai dipasangkan dengan persyaratan perlakuan panas logam | E12: Mengidentifikasi adalah keterampilan konkret, tingkat Manipulasi | F12: KD-3 memahami (C2) setara dengan KD-4 mengidentifikasi | H12: =H11 -> - Rasa ingin tahu - Mandiri - Bertanggung jawab
A13: =silabus!#REF! -> #REF! | B13: =silabus!#REF! -> #REF! | C13: Tingkat dimensi kognitif adalah Menerapkan (C3), dan teknik pengujian logam (ferrous dan non ferrous) adalah bentuk pengetahuan prosedural | D13: Menerapkan (C3), sesuai dipasangkan dengan teknik pengujian logam (ferrous dan non ferrous) | E13: Melakukan adalah keterampilan konkret, tingkat Manipulasi | F13: KD-3 menerapkan (C3) setara dengan KD-4 melakukan | H13: =H12 -> - Rasa ingin tahu - Mandiri - Bertanggung jawab
A14: =silabus!#REF! -> #REF! | B14: =silabus!#REF! -> #REF! | C14: Tingkat dimensi kognitif adalah Menerapkan (C3), dan teknik penanganan material adalah bentuk pengetahuan prosedural | D14: Menerapkan (C3), sesuai dipasangkan dengan teknik penanganan material | E14: Melakukan adalah keterampilan konkret, tingkat Manipulasi | F14: KD-3 menerapkan (C3) setara dengan KD-4 melakukan | H14: =H13 -> - Rasa ingin tahu - Mandiri - Bertanggung jawab
A15: =silabus!#REF! -> #REF! | B15: =silabus!#REF! -> #REF! | C15: Tingkat dimensi kognitif adalah Memahami (C2), dan prinsip kerja mesin tenaga fluida adalah bentuk pengetahuan prosedural | D15: Memahami (C2), sesuai dipasangkan dengan prinsip kerja mesin tenaga fluida | E15: Mengidentifikasi adalah keterampilan konkret, tingkat Manipulasi | F15: KD-3 memahami (C2) setara dengan KD-4 mengidentifikasi | H15: =H14 -> - Rasa ingin tahu - Mandiri - Bertanggung jawab
A16: =silabus!#REF! -> #REF! | B16: =silabus!#REF! -> #REF! | C16: Tingkat dimensi kognitif adalah Memahami (C2), dan dasar-dasar kelistrikan adalah bentuk pengetahuan prosedural | D16: Memahami (C2), sesuai dipasangkan dengan dasar-dasar kelistrikan | E16: Mempraktikkan adalah keterampilan konkret, tingkat Manipulasi | F16: KD-3 memahami (C2) setara dengan KD-4 mempraktikkan | H16: =H15 -> - Rasa ingin tahu - Mandiri - Bertanggung jawab
A17: =silabus!#REF! -> #REF! | B17: =silabus!#REF! -> #REF! | C17: Tingkat dimensi kognitif adalah Menganalisis (C4), dan sistem kontrol adalah bentuk pengetahuan prosedural | D17: Menganalisis (C4), sesuai dipasangkan dengan sistem kontrol | E17: Menunjukkan adalah keterampilan konkret, tingkat Presisi | F17: KD-3 menganalisis (C4) setara dengan KD-4 menunjukkan | H17: =H16 -> - Rasa ingin tahu - Mandiri - Bertanggung jawab
A18: =silabus!#REF! -> #REF! | B18: =silabus!#REF! -> #REF! | H18: =H17 -> - Rasa ingin tahu - Mandiri - Bertanggung jawab
A19: =silabus!#REF! -> #REF! | B19: =silabus!#REF! -> #REF! | H19: =H18 -> - Rasa ingin tahu - Mandiri - Bertanggung jawab
A20: =silabus!#REF! -> #REF! | B20: =silabus!#REF! -> #REF! | H20: =H19 -> - Rasa ingin tahu - Mandiri - Bertanggung jawab
A21: =silabus!#REF! -> #REF! | B21: =silabus!#REF! -> #REF! | H21: =H20 -> - Rasa ingin tahu - Mandiri - Bertanggung jawab
A22: =silabus!#REF! -> #REF! | B22: =silabus!#REF! -> #REF! | H22: =H21 -> - Rasa ingin tahu - Mandiri - Bertanggung jawab
A23: =silabus!#REF! -> #REF! | B23: =silabus!#REF! -> #REF! | H23: =H22 -> - Rasa ingin tahu - Mandiri - Bertanggung jawab
A25: Semester | B25: =": "&data!C21 -> : II (GENAP)
A27: Kompetensi Dasar Pengetahuan (KD dari KI-3) | B27: Kompetensi Dasar Keterampilan (KD dari KI-4) | C27: Analisis KD Pengetahuan | D27: Rekomendasi KD Pengetahuan | E27: Analisis KD Keterampilan | F27: Rekomendasi KD Keterampilan | G27: Rekomendasi KD-KD pada Mapel | H27: PPK
C28: Tingkat Dimensi Kognitif dan Bentuk Dimensi Pengetahuan | D28: Kesesuaian Dimensi Kognitif dengan Bentuk Pengetahuan | E28: Bentuk Taksonomi dan Tingkat Taksonomi | F28: Kesetaraan Taksonomi KD-dari KI-3 dg KD dari KI-4 | G28: - Ketercapaian Dimensi Kognitif dan Bentuk Pengetahuan semua KD-3 dalam Mata Pelajaran_x000D_ | H28: Nilai-Nilai Karakter yang dapat Diintegrasikan dalam Materi dan Model Pembelajaran
G29: - Ketercapaian Taksonomi semua KD-4 dalam Mata Pelajaran
A30: =silabus!#REF! -> #REF! | B30: =silabus!#REF! -> #REF! | C30: Tingkat dimensi kognitif adalah Memahami (C2), dan konsep besaran dan sistem satuan adalah bentuk pengetahuan prosedural | D30: Memahami (C2), sesuai dipasangkan dengan konsep besaran dan sistem satuan | E30: Mengidentifikasi adalah keterampilan konkret, tingkat Manipulasi | F30: KD-3 memahami (C2) setara dengan KD-4 mengidentifikasi | G30: KD-3 dari KD-KD pengetahuan Mata Pelajaran Dasar Perancangan Teknik Mesin sudah memenuhi Dimensi Kognitif tuntutan KI-3 yaitu memahami, menerapkan, menganalisis. Rekomendasi : Tingkat taksonomi menerapkan (C3) direkomendasikan pada KD 3.10 dari Memahami menjadi Menerapkan besaran dan sistem satuan Sedangkan KD 4.11 menjadi Menunjukkan besaran dan sistem satuan Bentuk Pengetahuan juga sudah terpenuhi yaitu konseptual, prosedural, dan metakognitif. KD-4 dari KD-KD keterampilan Mata Pelajaran Dasar Perancangan Teknik Mesin sudah memenuhi Tingkat Taksonomi tuntutan KI-4 pada ranah abstrak yaitu mengolah, menalar, dan menyajikan. Tingkat taksonomi (KKO) tertinggi sesuai tuntutan KI-4, ada pada KD 4.18 Merumuskan hasil perhitungan gaya, tegangan dan momen pada sambungan: keling, pasak, baut dan las | H30: =H23 -> - Rasa ingin tahu - Mandiri - Bertanggung jawab
A31: =silabus!#REF! -> #REF! | B31: =silabus!#REF! -> #REF! | C31: Tingkat dimensi kognitif adalah Menerapkan (C3), dan langkah-langkah vector, gaya, resultan gaya dan kesetimbangan adalah bentuk pengetahuan prosedural | D31: Menerapkan (C3), sesuai dipasangkan dengan langkah-langkah vector, gaya, resultan gaya dan kesetimbangan | E31: Melakukan adalah keterampilan abstrak, tingkat Mencoba | F31: KD-3 menerapkan (C3) setara dengan KD-4 melakukan | H31: =H30 -> - Rasa ingin tahu - Mandiri - Bertanggung jawab
A32: =silabus!#REF! -> #REF! | B32: =silabus!#REF! -> #REF! | C32: Tingkat dimensi kognitif adalah Menganalisis (C4), dan sistem tegangan dan momen pada suatu konstruksi adalah bentuk pengetahuan prosedural | D32: Menganalisis (C4), sesuai dipasangkan dengan sistem tegangan dan momen pada suatu konstruksi | E32: Menghitung adalah keterampilan abstrak, tingkat Mencoba | F32: KD-3 menganalisis (C4) setara dengan KD-4 menghitung | H32: =H31 -> - Rasa ingin tahu - Mandiri - Bertanggung jawab
A33: =silabus!#REF! -> #REF! | B33: =silabus!#REF! -> #REF! | C33: Tingkat dimensi kognitif adalah Menganalisis (C4), dan sistem gaya aksi dan reaksi dari macam-macam tumpuan adalah bentuk pengetahuan prosedural | D33: Menganalisis (C4), sesuai dipasangkan dengan sistem gaya aksi dan reaksi dari macam-macam tumpuan | E33: Menghitung adalah keterampilan abstrak, tingkat Mencoba | F33: KD-3 menganalisis (C4) setara dengan KD-4 menghitung | H33: =H32 -> - Rasa ingin tahu - Mandiri - Bertanggung jawab
A34: =silabus!#REF! -> #REF! | B34: =silabus!#REF! -> #REF! | C34: Tingkat dimensi kognitif adalah Menganalisis (C4), dan sistem gerak translasi, rotasi dan keseimbangan benda tegar adalah bentuk pengetahuan prosedural | D34: Menganalisis (C4), sesuai dipasangkan dengan sistem gerak translasi, rotasi dan keseimbangan benda tegar | E34: Menghitung adalah keterampilan abstrak, tingkat Mencoba | F34: KD-3 menganalisis (C4) setara dengan KD-4 menghitung | H34: =H33 -> - Rasa ingin tahu - Mandiri - Bertanggung jawab
A35: =silabus!#REF! -> #REF! | B35: =silabus!#REF! -> #REF! | C35: Tingkat dimensi kognitif adalah Menganalisis (C4), dan sistem tegangan dan momen pada suatu konstruksi adalah bentuk pengetahuan prosedural | D35: Menganalisis (C4), sesuai dipasangkan dengan sistem tegangan dan momen pada suatu konstruksi | E35: Menghitung adalah keterampilan abstrak, tingkat Mencoba | F35: KD-3 menganalisis (C4) setara dengan KD-4 menghitung | H35: =H34 -> - Rasa ingin tahu - Mandiri - Bertanggung jawab
A36: =silabus!#REF! -> #REF! | B36: =silabus!#REF! -> #REF! | C36: Tingkat dimensi kognitif adalah Menerapkan (C3), dan teknik kekuatan poros dan pasak adalah bentuk pengetahuan prosedural | D36: Menerapkan (C3), sesuai dipasangkan dengan teknik kekuatan poros dan pasak | E36: Menghitung adalah keterampilan abstrak, tingkat Mencoba | F36: KD-3 menganalisis (C4) setara dengan KD-4 menghitung | H36: =H35 -> - Rasa ingin tahu - Mandiri - Bertanggung jawab
A37: =silabus!#REF! -> #REF! | B37: =silabus!#REF! -> #REF! | C37: Tingkat dimensi kognitif adalah Menerapkan (C3), dan teknik kekuatan transmisi (pulley & belt, rantai, kopling, roda gigi) adalah bentuk pengetahuan prosedural | D37: Menerapkan (C3), sesuai dipasangkan dengan teknik kekuatan transmisi (pulley & belt, rantai, kopling, roda gigi) | E37: Menghitung adalah keterampilan abstrak, tingkat Mencoba | F37: KD-3 menganalisis (C4) setara dengan KD-4 menghitung | H37: =H36 -> - Rasa ingin tahu - Mandiri - Bertanggung jawab
A38: =silabus!#REF! -> #REF! | B38: =silabus!#REF! -> #REF! | C38: Tingkat dimensi kognitif adalah Mengevaluasi (C5), dan hasil perhitungan gaya, tegangan dan momen pada sambungan: keling, pasak, baut dan las adalah bentuk pengetahuan prosedural | D38: Mengevaluasi (C5), sesuai dipasangkan dengan hasil perhitungan gaya, tegangan dan momen pada sambungan: keling, pasak, baut dan las | E38: Merumuskan adalah keterampilan abstrak, tingkat Menalar | F38: KD-3 mengevaluasi (C4) setara dengan KD-4 merumuskan | H38: =H37 -> - Rasa ingin tahu - Mandiri - Bertanggung jawab
A39: =silabus!A37 -> 0 | B39: =silabus!A38 -> 0 | H39: =H38 -> - Rasa ingin tahu - Mandiri - Bertanggung jawab
A40: =silabus!A39 -> 0 | B40: =silabus!A40 -> 0 | H40: =H39 -> - Rasa ingin tahu - Mandiri - Bertanggung jawab
A41: =silabus!A41 -> 0 | B41: =silabus!A42 -> 0 | H41: =H40 -> - Rasa ingin tahu - Mandiri - Bertanggung jawab
A42: =silabus!A43 -> 0 | B42: =silabus!A44 -> 0 | H42: =H41 -> - Rasa ingin tahu - Mandiri - Bertanggung jawab
A43: =silabus!A45 -> 0 | B43: =silabus!A46 -> 0 | H43: =H42 -> - Rasa ingin tahu - Mandiri - Bertanggung jawab
A44: =silabus!A47 -> 0 | B44: =silabus!A48 -> 0 | H44: =H43 -> - Rasa ingin tahu - Mandiri - Bertanggung jawab
B46: =ki!A11 -> Mengetahui : | F46: =ki!C11 -> Barabai, 16 April 2020
B47: =ki!A12 -> Kepala SMKN 1 Barabai | F47: =ki!C12 -> Guru Mata Pelajaran
B51: =ki!A16 -> Norta Dewi Yuniati, S.P, M.Pd | F51: =ki!C16 -> Abdian Noor, S.Pd
B52: =ki!A17 -> NIP. 19710623 200604 2 021 | F52: =ki!C17 -> NIP. 19680906 199412 1 005

Sheet kkmi
A1: ANALISIS KKM INDIKATOR
A3: Mata Pelajaran | C3: =kd!B3 -> : Administrasi Transakssi | D3: Tahun Pelajaran | F3: =kd!G3 -> : 2018 / 2019
A4: Semester | C4: =kd!B4 -> : I (GANJIL) | D4: Kelas | F4: =kd!G4 -> : XI BDP
A6: No | B6: Kompetensi Dasar / Indikator | D6: Kompleksitas | E6: Pendukung | F6: Intake | G6: KKM
A7: 1 | B7: =silabus!A35 -> 3.10 Menganalisis dokumenj transaksi penjualan
B8: =silabus!B35 -> 3.10.1 Menjelaskan Jenis dokumen administrasi penjualan 3.10.2 Memahami langkah pembuatan dokumen administrasi penjualan | D8: 80 | E8: 70 | F8: 60 | G8: =AVERAGE(D8:F8) -> 70
A9: 2 | B9: =silabus!A36 -> 4.10 Membuat administrasi penjualan
B10: =silabus!B36 -> 4.10.1 Membuat dokumen administrasi penjualan | D10: =D8 -> 80 | E10: =E8 -> 70 | F10: =F8 -> 60 | G10: =AVERAGE(D10:F10) -> 70
A11: 3 | B11: =silabus!#REF! -> #REF!
B12: =silabus!#REF! -> #REF! | D12: =D10 -> 80 | E12: =E10 -> 70 | F12: =F10 -> 60 | G12: =AVERAGE(D12:F12) -> 70
A13: 4 | B13: =silabus!#REF! -> #REF!
B14: =silabus!#REF! -> #REF! | D14: =D12 -> 80 | E14: =E12 -> 70 | F14: =F12 -> 60 | G14: =AVERAGE(D14:F14) -> 70
A15: 5 | B15: =silabus!#REF! -> #REF!
B16: =silabus!#REF! -> #REF! | D16: =D14 -> 80 | E16: =E14 -> 70 | F16: =F14 -> 60 | G16: =AVERAGE(D16:F16) -> 70
A17: 6 | B17: =silabus!#REF! -> #REF!
B18: =silabus!#REF! -> #REF! | D18: =D16 -> 80 | E18: =E16 -> 70 | F18: =F16 -> 60 | G18: =AVERAGE(D18:F18) -> 70
A19: 7 | B19: =silabus!#REF! -> #REF!
B20: =silabus!#REF! -> #REF! | D20: =D18 -> 80 | E20: =E18 -> 70 | F20: =F18 -> 60 | G20: =AVERAGE(D20:F20) -> 70
A21: 8 | B21: =silabus!#REF! -> #REF!
B22: =silabus!#REF! -> #REF! | D22: =D20 -> 80 | E22: =E20 -> 70 | F22: =F20 -> 60 | G22: =AVERAGE(D22:F22) -> 70
A23: 9 | B23: =silabus!#REF! -> #REF!
B24: =silabus!#REF! -> #REF! | D24: =D22 -> 80 | E24: =E22 -> 70 | F24: =F22 -> 60 | G24: =AVERAGE(D24:F24) -> 70
A25: 10 | B25: =silabus!#REF! -> #REF!
B26: =silabus!#REF! -> #REF! | D26: =D24 -> 80 | E26: =E24 -> 70 | F26: =F24 -> 60 | G26: =AVERAGE(D26:F26) -> 70
A27: 11 | B27: =silabus!#REF! -> #REF!
B28: =silabus!#REF! -> #REF! | D28: =D26 -> 80 | E28: =E26 -> 70 | F28: =F26 -> 60 | G28: =AVERAGE(D28:F28) -> 70
A29: 12 | B29: =silabus!#REF! -> #REF!
B30: =silabus!#REF! -> #REF! | D30: =D28 -> 80 | E30: =E28 -> 70 | F30: =F28 -> 60 | G30: =AVERAGE(D30:F30) -> 70
A31: 13 | B31: =silabus!#REF! -> #REF!
B32: =silabus!#REF! -> #REF! | D32: =D30 -> 80 | E32: =E30 -> 70 | F32: =F30 -> 60 | G32: =AVERAGE(D32:F32) -> 70
A33: 14 | B33: =silabus!#REF! -> #REF!
B34: =silabus!#REF! -> #REF! | D34: =D32 -> 80 | E34: =E32 -> 70 | F34: =F32 -> 60 | G34: =AVERAGE(D34:F34) -> 70
A35: 15 | B35: =silabus!#REF! -> #REF!
B36: =silabus!#REF! -> #REF! | D36: =D34 -> 80 | E36: =E34 -> 70 | F36: =F34 -> 60 | G36: =AVERAGE(D36:F36) -> 70
A37: 16 | B37: =silabus!#REF! -> #REF!
B38: =silabus!#REF! -> #REF! | D38: =D36 -> 80 | E38: =E36 -> 70 | F38: =F36 -> 60 | G38: =AVERAGE(D38:F38) -> 70
A39: 17 | B39: =silabus!#REF! -> #REF!
B40: =silabus!#REF! -> #REF! | D40: =D38 -> 80 | E40: =E38 -> 70 | F40: =F38 -> 60 | G40: =AVERAGE(D40:F40) -> 70
A41: 18 | B41: =silabus!#REF! -> #REF!
B42: =silabus!#REF! -> #REF! | D42: =D40 -> 80 | E42: =E40 -> 70 | F42: =F40 -> 60 | G42: =AVERAGE(D42:F42) -> 70
A43: 19 | B43: =silabus!#REF! -> #REF!
B44: =silabus!#REF! -> #REF! | D44: =D42 -> 80 | E44: =E42 -> 70 | F44: =F42 -> 60 | G44: =AVERAGE(D44:F44) -> 70
A45: 20 | B45: =silabus!#REF! -> #REF!
B46: =silabus!#REF! -> #REF! | D46: =D44 -> 80 | E46: =E44 -> 70 | F46: =F44 -> 60 | G46: =AVERAGE(D46:F46) -> 70
A47: 21 | B47: =silabus!#REF! -> #REF!
B48: =silabus!#REF! -> #REF! | D48: =D46 -> 80 | E48: =E46 -> 70 | F48: =F46 -> 60 | G48: =AVERAGE(D48:F48) -> 70
A49: 22 | B49: =silabus!#REF! -> #REF!
B50: =silabus!#REF! -> #REF! | D50: =D48 -> 80 | E50: =E48 -> 70 | F50: =F48 -> 60 | G50: =AVERAGE(D50:F50) -> 70
A51: 23 | B51: =silabus!#REF! -> #REF!
B52: =silabus!#REF! -> #REF! | D52: =D50 -> 80 | E52: =E50 -> 70 | F52: =F50 -> 60 | G52: =AVERAGE(D52:F52) -> 70
A53: 24 | B53: =silabus!#REF! -> #REF!
B54: =silabus!#REF! -> #REF! | D54: =D52 -> 80 | E54: =E52 -> 70 | F54: =F52 -> 60 | G54: =AVERAGE(D54:F54) -> 70
A55: 25 | B55: =silabus!#REF! -> #REF!
B56: =silabus!#REF! -> #REF! | D56: =D54 -> 80 | E56: =E54 -> 70 | F56: =F54 -> 60 | G56: =AVERAGE(D56:F56) -> 70
A57: 26 | B57: =silabus!#REF! -> #REF!
B58: =silabus!#REF! -> #REF! | D58: =D56 -> 80 | E58: =E56 -> 70 | F58: =F56 -> 60 | G58: =AVERAGE(D58:F58) -> 70
A59: 27 | B59: =silabus!#REF! -> #REF!
B60: =silabus!#REF! -> #REF! | D60: =D58 -> 80 | E60: =E58 -> 70 | F60: =F58 -> 60 | G60: =AVERAGE(D60:F60) -> 70
A61: 28 | B61: =silabus!#REF! -> #REF!
B62: =silabus!#REF! -> #REF! | D62: =D60 -> 80 | E62: =E60 -> 70 | F62: =F60 -> 60 | G62: =AVERAGE(D62:F62) -> 70
A63: 29 | B63: =silabus!#REF! -> #REF!
B64: =silabus!#REF! -> #REF! | D64: =D62 -> 80 | E64: =E62 -> 70 | F64: =F62 -> 60 | G64: =AVERAGE(D64:F64) -> 70
A65: 30 | B65: =silabus!#REF! -> #REF!
B66: =silabus!#REF! -> #REF! | D66: =D64 -> 80 | E66: =E64 -> 70 | F66: =F64 -> 60 | G66: =AVERAGE(D66:F66) -> 70
A68: =kd!A25 -> Semester | C68: =kd!B25 -> : II (GENAP)
A70: No | B70: Kompetensi Dasar / Indikator | D70: Kompleksitas | E70: Pendukung | F70: Intake | G70: KKM
A71: 1 | B71: =silabus!#REF! -> #REF!
B72: =silabus!#REF! -> #REF! | D72: =D66 -> 80 | E72: =E66 -> 70 | F72: =F66 -> 60 | G72: =AVERAGE(D72:F72) -> 70
A73: 2 | B73: =silabus!#REF! -> #REF!
B74: =silabus!#REF! -> #REF! | D74: =D72 -> 80 | E74: =E72 -> 70 | F74: =F72 -> 60 | G74: =AVERAGE(D74:F74) -> 70
A75: 3 | B75: =silabus!#REF! -> #REF!
B76: =silabus!#REF! -> #REF! | D76: =D74 -> 80 | E76: =E74 -> 70 | F76: =F74 -> 60 | G76: =AVERAGE(D76:F76) -> 70
A77: 4 | B77: =silabus!#REF! -> #REF!
B78: =silabus!#REF! -> #REF! | D78: =D76 -> 80 | E78: =E76 -> 70 | F78: =F76 -> 60 | G78: =AVERAGE(D78:F78) -> 70
A79: 5 | B79: =silabus!#REF! -> #REF!
B80: =silabus!#REF! -> #REF! | D80: =D78 -> 80 | E80: =E78 -> 70 | F80: =F78 -> 60 | G80: =AVERAGE(D80:F80) -> 70
A81: 6 | B81: =silabus!#REF! -> #REF!
B82: =silabus!#REF! -> #REF! | D82: =D80 -> 80 | E82: =E80 -> 70 | F82: =F80 -> 60 | G82: =AVERAGE(D82:F82) -> 70
A83: 7 | B83: =silabus!#REF! -> #REF!
B84: =silabus!#REF! -> #REF! | D84: =D82 -> 80 | E84: =E82 -> 70 | F84: =F82 -> 60 | G84: =AVERAGE(D84:F84) -> 70
A85: 8 | B85: =silabus!#REF! -> #REF!
B86: =silabus!#REF! -> #REF! | D86: =D84 -> 80 | E86: =E84 -> 70 | F86: =F84 -> 60 | G86: =AVERAGE(D86:F86) -> 70
A87: 9 | B87: =silabus!#REF! -> #REF!
B88: =silabus!#REF! -> #REF! | D88: =D86 -> 80 | E88: =E86 -> 70 | F88: =F86 -> 60 | G88: =AVERAGE(D88:F88) -> 70
A89: 10 | B89: =silabus!#REF! -> #REF!
B90: =silabus!#REF! -> #REF! | D90: =D88 -> 80 | E90: =E88 -> 70 | F90: =F88 -> 60 | G90: =AVERAGE(D90:F90) -> 70
A91: 11 | B91: =silabus!#REF! -> #REF!
B92: =silabus!#REF! -> #REF! | D92: =D90 -> 80 | E92: =E90 -> 70 | F92: =F90 -> 60 | G92: =AVERAGE(D92:F92) -> 70
A93: 12 | B93: =silabus!#REF! -> #REF!
B94: =silabus!#REF! -> #REF! | D94: =D92 -> 80 | E94: =E92 -> 70 | F94: =F92 -> 60 | G94: =AVERAGE(D94:F94) -> 70
A95: 13 | B95: =silabus!#REF! -> #REF!
B96: =silabus!#REF! -> #REF! | D96: =D94 -> 80 | E96: =E94 -> 70 | F96: =F94 -> 60 | G96: =AVERAGE(D96:F96) -> 70
A97: 14 | B97: =silabus!#REF! -> #REF!
B98: =silabus!#REF! -> #REF! | D98: =D96 -> 80 | E98: =E96 -> 70 | F98: =F96 -> 60 | G98: =AVERAGE(D98:F98) -> 70
A99: 15 | B99: =silabus!#REF! -> #REF!
B100: =silabus!#REF! -> #REF! | D100: =D98 -> 80 | E100: =E98 -> 70 | F100: =F98 -> 60 | G100: =AVERAGE(D100:F100) -> 70
A101: 16 | B101: =silabus!#REF! -> #REF!
B102: =silabus!#REF! -> #REF! | D102: =D100 -> 80 | E102: =E100 -> 70 | F102: =F100 -> 60 | G102: =AVERAGE(D102:F102) -> 70
A103: 17 | B103: =silabus!#REF! -> #REF!
B104: =silabus!#REF! -> #REF! | D104: =D102 -> 80 | E104: =E102 -> 70 | F104: =F102 -> 60 | G104: =AVERAGE(D104:F104) -> 70
...

Sheet Sheet1

Sheet Sheet2

Sheet Sheet3

Sheet Sheet4

Sheet Sheet5

Sheet Sheet6

Sheet Sheet7

Sheet Sheet8

Sheet Sheet9

Sheet Sheet10

Sheet Sheet11

Sheet kkmmpp
A1: ANALISIS KKM MATA PELAJARAN (PENGETAHUAN)
A3: Mata Pelajaran | C3: =kd!B3 -> : Administrasi Transakssi | D3: Tahun Pelajaran | F3: =kkmi!F3 -> : 2018 / 2019
A4: Semester | C4: =kd!B4 -> : I (GANJIL) | D4: Kelas | F4: =kkmi!F4 -> : XI BDP
A6: No | B6: Kompetensi Dasar / Indikator | D6: KKM Indikator | E6: KKM KD | F6: KKM Pengetahuan
A7: 1 | B7: =silabus!A35 -> 3.10 Menganalisis dokumenj transaksi penjualan | G7: 1
B8: =silabus!B35 -> 3.10.1 Menjelaskan Jenis dokumen administrasi penjualan 3.10.2 Memahami langkah pembuatan dokumen administrasi penjualan | D8: 75 | E8: 75 | F8: =AVERAGE(E8:E36) -> 75 | G8: 1
A9: 2 | B9: =silabus!#REF! -> #REF! | G9: 1
B10: =silabus!#REF! -> #REF! | D10: =D8 -> 75 | E10: =E8 -> 75 | G10: 1
A11: 3 | B11: =silabus!#REF! -> #REF! | G11: 1
B12: =silabus!#REF! -> #REF! | D12: =D10 -> 75 | E12: =E10 -> 75 | G12: 1
A13: 4 | B13: =silabus!#REF! -> #REF! | G13: 1
B14: =silabus!#REF! -> #REF! | D14: =D12 -> 75 | E14: =E12 -> 75 | G14: 1
A15: 5 | B15: =silabus!#REF! -> #REF! | G15: 1
B16: =silabus!#REF! -> #REF! | D16: =D14 -> 75 | E16: =E14 -> 75 | G16: 1
A17: 6 | B17: =silabus!#REF! -> #REF! | G17: 1
B18: =silabus!#REF! -> #REF! | D18: =D16 -> 75 | E18: =E16 -> 75 | G18: 1
A19: 7 | B19: =silabus!#REF! -> #REF! | G19: 1
B20: =silabus!#REF! -> #REF! | D20: =D18 -> 75 | E20: =E18 -> 75 | G20: 1
A21: 8 | B21: =silabus!#REF! -> #REF! | G21: 1
B22: =silabus!#REF! -> #REF! | D22: =D20 -> 75 | E22: =E20 -> 75 | G22: 1
A23: 9 | B23: =silabus!#REF! -> #REF! | G23: 1
B24: =silabus!#REF! -> #REF! | D24: =D22 -> 75 | E24: =E22 -> 75 | G24: 1
A25: 10 | B25: =silabus!#REF! -> #REF! | G25: 1
B26: =silabus!#REF! -> #REF! | D26: =D24 -> 75 | E26: =E24 -> 75 | G26: 1
A27: 11 | B27: =silabus!#REF! -> #REF! | G27: 1
B28: =silabus!#REF! -> #REF! | D28: =D26 -> 75 | E28: =E26 -> 75 | G28: 1
A29: 12 | B29: =silabus!#REF! -> #REF! | G29: 1
B30: =silabus!#REF! -> #REF! | D30: =D28 -> 75 | E30: =E28 -> 75 | G30: 1
A31: 13 | B31: =silabus!#REF! -> #REF! | G31: 1
B32: =silabus!#REF! -> #REF! | D32: =D30 -> 75 | E32: =E30 -> 75 | G32: 1
A33: 14 | B33: =silabus!#REF! -> #REF! | G33: 1
B34: =silabus!#REF! -> #REF! | D34: =D32 -> 75 | E34: =E32 -> 75 | G34: 1
A35: 15 | B35: =silabus!#REF! -> #REF! | G35: 1
B36: =silabus!#REF! -> #REF! | D36: =D34 -> 75 | E36: =E34 -> 75 | G36: 1
A38: =kd!A25 -> Semester | C38: =kd!B25 -> : II (GENAP)
A40: No | B40: Kompetensi Dasar / Indikator | D40: KKM Indikator | E40: KKM KD | F40: KKM Pengetahuan
A41: 1 | B41: =silabus!#REF! -> #REF! | G41: 1
B42: =silabus!#REF! -> #REF! | D42: =D36 -> 75 | E42: =E36 -> 75 | F42: =AVERAGE(E42:E70) -> 75 | G42: 1
A43: 2 | B43: =silabus!#REF! -> #REF! | G43: 1
B44: =silabus!#REF! -> #REF! | D44: =D42 -> 75 | E44: =E42 -> 75 | G44: 1
A45: 3 | B45: =silabus!#REF! -> #REF! | G45: 1
B46: =silabus!#REF! -> #REF! | D46: =D44 -> 75 | E46: =E44 -> 75 | G46: 1
A47: 4 | B47: =silabus!#REF! -> #REF! | G47: 1
B48: =silabus!#REF! -> #REF! | D48: =D46 -> 75 | E48: =E46 -> 75 | G48: 1
A49: 5 | B49: =silabus!#REF! -> #REF! | G49: 1
B50: =silabus!#REF! -> #REF! | D50: =D48 -> 75 | E50: =E48 -> 75 | G50: 1
A51: 6 | B51: =silabus!#REF! -> #REF! | G51: 1
B52: =silabus!#REF! -> #REF! | D52: =D50 -> 75 | E52: =E50 -> 75 | G52: 1
A53: 7 | B53: =silabus!#REF! -> #REF! | G53: 1
B54: =silabus!#REF! -> #REF! | D54: =D52 -> 75 | E54: =E52 -> 75 | G54: 1
A55: 8 | B55: =silabus!#REF! -> #REF! | G55: 1
B56: =silabus!#REF! -> #REF! | D56: =D54 -> 75 | E56: =E54 -> 75 | G56: 1
A57: 9 | B57: =silabus!#REF! -> #REF! | G57: 1
B58: =silabus!#REF! -> #REF! | D58: =D56 -> 75 | E58: =E56 -> 75 | G58: 1
A59: 10 | B59: =silabus!A37 -> 0 | G59: 1
B60: =silabus!B37 -> 0 | D60: =D58 -> 75 | E60: =E58 -> 75 | G60: 1
A61: 11 | B61: =silabus!A39 -> 0 | G61: 1
B62: =silabus!B39 -> 0 | D62: =D60 -> 75 | E62: =E60 -> 75 | G62: 1
A63: 12 | B63: =silabus!A41 -> 0 | G63: 1
B64: =silabus!B41 -> 0 | D64: =D62 -> 75 | E64: =E62 -> 75 | G64: 1
A65: 13 | B65: =silabus!A43 -> 0 | G65: 1
B66: =silabus!B43 -> 0 | D66: =D64 -> 75 | E66: =E64 -> 75 | G66: 1
A67: 14 | B67: =silabus!A45 -> 0 | G67: 1
B68: =silabus!B45 -> 0 | D68: =D66 -> 75 | E68: =E66 -> 75 | G68: 1
A69: 15 | B69: =silabus!A47 -> 0 | G69: 1
B70: =silabus!B47 -> 0 | D70: =D68 -> 75 | E70: =E68 -> 75 | G70: 1
B72: =kd!B46 -> Mengetahui : | D72: =kd!F46 -> Barabai, 16 April 2020
B73: =kd!B47 -> Kepala SMKN 1 Barabai | D73: =kd!F47 -> Guru Mata Pelajaran
B77: =kd!B51 -> Norta Dewi Yuniati, S.P, M.Pd | D77: =kd!F51 -> Abdian Noor, S.Pd
B78: =kd!B52 -> NIP. 19710623 200604 2 021 | D78: =kd!F52 -> NIP. 19680906 199412 1 005

Sheet kkmmpk
A1: ANALISIS KKM MATA PELAJARAN (KETERAMPILAN)
A3: Mata Pelajaran | C3: =kd!B3 -> : Administrasi Transakssi | D3: Tahun Pelajaran | F3: =kkmi!F3 -> : 2018 / 2019
A4: Kelas | C4: =kd!B4 -> : I (GANJIL) | D4: Kelas | F4: =kkmi!F4 -> : XI BDP
A6: No | B6: Kompetensi Dasar / Indikator | D6: KKM Indikator | E6: KKM KD | F6: KKM Keterampilan
A7: 1 | B7: =silabus!A36 -> 4.10 Membuat administrasi penjualan
B8: =silabus!B36 -> 4.10.1 Membuat dokumen administrasi penjualan | D8: 75 | E8: 75 | F8: =AVERAGE(E8:E36) -> 75
A9: 2 | B9: =silabus!#REF! -> #REF!
B10: =silabus!#REF! -> #REF! | D10: =D8 -> 75 | E10: =E8 -> 75
A11: 3 | B11: =silabus!#REF! -> #REF!
B12: =silabus!#REF! -> #REF! | D12: =D10 -> 75 | E12: =E10 -> 75
A13: 4 | B13: =silabus!#REF! -> #REF!
B14: =silabus!#REF! -> #REF! | D14: =D12 -> 75 | E14: =E12 -> 75
A15: 5 | B15: =silabus!#REF! -> #REF!
B16: =silabus!#REF! -> #REF! | D16: =D14 -> 75 | E16: =E14 -> 75
A17: 6 | B17: =silabus!#REF! -> #REF!
B18: =silabus!#REF! -> #REF! | D18: =D16 -> 75 | E18: =E16 -> 75
A19: 7 | B19: =silabus!#REF! -> #REF!
B20: =silabus!#REF! -> #REF! | D20: =D18 -> 75 | E20: =E18 -> 75
A21: 8 | B21: =silabus!#REF! -> #REF!
B22: =silabus!#REF! -> #REF! | D22: =D20 -> 75 | E22: =E20 -> 75
A23: 9 | B23: =silabus!#REF! -> #REF!
B24: =silabus!#REF! -> #REF! | D24: =D22 -> 75 | E24: =E22 -> 75
A25: 10 | B25: =silabus!#REF! -> #REF!
B26: =silabus!#REF! -> #REF! | D26: =D24 -> 75 | E26: =E24 -> 75
A27: 11 | B27: =silabus!#REF! -> #REF!
B28: =silabus!#REF! -> #REF! | D28: =D26 -> 75 | E28: =E26 -> 75
A29: 12 | B29: =silabus!#REF! -> #REF!
B30: =silabus!#REF! -> #REF! | D30: =D28 -> 75 | E30: =E28 -> 75
A31: 13 | B31: =silabus!#REF! -> #REF!
B32: =silabus!#REF! -> #REF! | D32: =D30 -> 75 | E32: =E30 -> 75
A33: 14 | B33: =silabus!#REF! -> #REF!
B34: =silabus!#REF! -> #REF! | D34: =D32 -> 75 | E34: =E32 -> 75
A35: 15 | B35: =silabus!#REF! -> #REF!
B36: =silabus!#REF! -> #REF! | D36: =D34 -> 75 | E36: =E34 -> 75
A38: =kd!A25 -> Semester | C38: =kd!B25 -> : II (GENAP)
A40: No | B40: Kompetensi Dasar / Indikator | D40: KKM Indikator | E40: KKM KD | F40: KKM Keterampilan
A41: 1 | B41: =silabus!#REF! -> #REF!
B42: =silabus!#REF! -> #REF! | D42: =D36 -> 75 | E42: =E36 -> 75 | F42: =AVERAGE(E42:E70) -> 75
A43: 2 | B43: =silabus!#REF! -> #REF!
B44: =silabus!#REF! -> #REF! | D44: =D42 -> 75 | E44: =E42 -> 75
A45: 3 | B45: =silabus!#REF! -> #REF!
B46: =silabus!#REF! -> #REF! | D46: =D44 -> 75 | E46: =E44 -> 75
A47: 4 | B47: =silabus!#REF! -> #REF!
B48: =silabus!#REF! -> #REF! | D48: =D46 -> 75 | E48: =E46 -> 75
A49: 5 | B49: =silabus!#REF! -> #REF!
B50: =silabus!#REF! -> #REF! | D50: =D48 -> 75 | E50: =E48 -> 75
A51: 6 | B51: =silabus!#REF! -> #REF!
B52: =silabus!#REF! -> #REF! | D52: =D50 -> 75 | E52: =E50 -> 75
A53: 7 | B53: =silabus!#REF! -> #REF!
B54: =silabus!#REF! -> #REF! | D54: =D52 -> 75 | E54: =E52 -> 75
A55: 8 | B55: =silabus!#REF! -> #REF!
B56: =silabus!#REF! -> #REF! | D56: =D54 -> 75 | E56: =E54 -> 75
A57: 9 | B57: =silabus!#REF! -> #REF!
B58: =silabus!#REF! -> #REF! | D58: =D56 -> 75 | E58: =E56 -> 75
A59: 10 | B59: =silabus!A38 -> 0
B60: =silabus!B38 -> 0 | D60: =D58 -> 75 | E60: =E58 -> 75
A61: 11 | B61: =silabus!A40 -> 0
B62: =silabus!B40 -> 0 | D62: =D60 -> 75 | E62: =E60 -> 75
A63: 12 | B63: =silabus!A42 -> 0
B64: =silabus!B42 -> 0 | D64: =D62 -> 75 | E64: =E62 -> 75
A65: 13 | B65: =silabus!A44 -> 0
B66: =silabus!B44 -> 0 | D66: =D64 -> 75 | E66: =E64 -> 75
A67: 14 | B67: =silabus!A46 -> 0
B68: =silabus!B46 -> 0 | D68: =D66 -> 75 | E68: =E66 -> 75
A69: 15 | B69: =silabus!A48 -> 0
B70: =silabus!B48 -> 0 | D70: =D68 -> 75 | E70: =E68 -> 75
B72: =kd!B46 -> Mengetahui : | D72: =kd!F46 -> Barabai, 16 April 2020
B73: =kd!B47 -> Kepala SMKN 1 Barabai | D73: =kd!F47 -> Guru Mata Pelajaran
B77: =kd!B51 -> Norta Dewi Yuniati, S.P, M.Pd | D77: =kd!F51 -> Abdian Noor, S.Pd
B78: =kd!B52 -> NIP. 19710623 200604 2 021 | D78: =kd!F52 -> NIP. 19680906 199412 1 005

Sheet kalender
A1: KALENDER PENDIDIKAN SMKN 2 KANDANGAN
A2: ="TAHUN PELAJARAN "&data!C19 -> TAHUN PELAJARAN 2018 / 2019
A3: 43282
A4: 43282 | I4: =A4+31 -> 43313 | Q4: =I4+31 -> 43344 | Y4: =Q4+31 -> 43375 | AG4: =Y4+31 -> 43406 | AO4: =AG4+31 -> 43437
A5: =TEXT($A$3,"dddd") -> Minggu | B5: 1 | C5: 8 | D5: 15 | E5: 22 | F5: 29 | I5: M | K5: 5 | L5: 12 | M5: 19 | N5: 26 | Q5: M | S5: 2 | T5: 9 | U5: 16 | V5: 23 | W5: 30 | Y5: M | AA5: 7 | AB5: 14 | AC5: 21 | AD5: 28 | AG5: M | AI5: 4 | AJ5: 11 | AK5: 18 | AL5: 25 | AO5: M | AQ5: 2 | AR5: 9 | AS5: 16 | AT5: 23 | AU5: 30
A6: =TEXT($A$3+1,"dddd") -> Senin | B6: 2 | C6: 9 | D6: 16 | E6: 23 | F6: 30 | I6: =A6 -> Senin | K6: 6 | L6: 13 | M6: 20 | N6: 27 | Q6: =I6 -> Senin | S6: 3 | T6: 10 | U6: 17 | V6: 24 | Y6: =Q6 -> Senin | Z6: 1 | AA6: 8 | AB6: 15 | AC6: 22 | AD6: 29 | AG6: =Y6 -> Senin | AI6: 5 | AJ6: 12 | AK6: 19 | AL6: 26 | AO6: =AG6 -> Senin | AQ6: 3 | AR6: 10 | AS6: 17 | AT6: 24 | AU6: 31
A7: =TEXT($A$3+2,"dddd") -> Selasa | B7: 3 | C7: 10 | D7: 17 | E7: 24 | F7: 31 | I7: =A7 -> Selasa | K7: 7 | L7: 14 | M7: 21 | N7: 28 | Q7: =I7 -> Selasa | S7: 4 | T7: 11 | U7: 18 | V7: 25 | Y7: =Q7 -> Selasa | Z7: 2 | AA7: 9 | AB7: 16 | AC7: 23 | AD7: 30 | AG7: =Y7 -> Selasa | AI7: 6 | AJ7: 13 | AK7: 20 | AL7: 27 | AO7: =AG7 -> Selasa | AQ7: 4 | AR7: 11 | AS7: 18 | AT7: 25
A8: =TEXT($A$3+3,"dddd") -> Rabu | B8: 4 | C8: 11 | D8: 18 | E8: 25 | I8: =A8 -> Rabu | J8: 1 | K8: 8 | L8: 15 | M8: 22 | N8: 29 | Q8: =I8 -> Rabu | S8: 5 | T8: 12 | U8: 19 | V8: 26 | Y8: =Q8 -> Rabu | Z8: 3 | AA8: 10 | AB8: 17 | AC8: 24 | AD8: 31 | AG8: =Y8 -> Rabu | AI8: 7 | AJ8: 14 | AK8: 21 | AL8: 28 | AO8: =AG8 -> Rabu | AQ8: 5 | AR8: 12 | AS8: 19 | AT8: 26
A9: =TEXT($A$3+4,"dddd") -> Kamis | B9: 5 | C9: 12 | D9: 19 | E9: 26 | I9: =A9 -> Kamis | J9: 2 | K9: 9 | L9: 16 | M9: 23 | N9: 30 | Q9: =I9 -> Kamis | S9: 6 | T9: 13 | U9: 20 | V9: 27 | Y9: =Q9 -> Kamis | Z9: 4 | AA9: 11 | AB9: 18 | AC9: 25 | AG9: =Y9 -> Kamis | AH9: 1 | AI9: 8 | AJ9: 15 | AK9: 22 | AL9: 29 | AO9: =AG9 -> Kamis | AQ9: 6 | AR9: 13 | AS9: 20 | AT9: 27
A10: =TEXT($A$3+5,"dddd") -> Jumat | B10: 6 | C10: 13 | D10: 20 | E10: 27 | I10: =A10 -> Jumat | J10: 3 | K10: 10 | L10: 17 | M10: 24 | N10: 31 | Q10: =I10 -> Jumat | S10: 7 | T10: 14 | U10: 21 | V10: 28 | Y10: =Q10 -> Jumat | Z10: 5 | AA10: 12 | AB10: 19 | AC10: 26 | AG10: =Y10 -> Jumat | AH10: 2 | AI10: 9 | AJ10: 16 | AK10: 23 | AL10: 30 | AO10: =AG10 -> Jumat | AQ10: 7 | AR10: 14 | AS10: 21 | AT10: 28
A11: =TEXT($A$3+6,"dddd") -> Sabtu | B11: 7 | C11: 14 | D11: 21 | E11: 28 | I11: =A11 -> Sabtu | J11: 4 | K11: 11 | L11: 18 | M11: 25 | Q11: =I11 -> Sabtu | R11: 1 | S11: 8 | T11: 15 | U11: 22 | V11: 28 | Y11: =Q11 -> Sabtu | Z11: 6 | AA11: 13 | AB11: 20 | AC11: 27 | AG11: =Y11 -> Sabtu | AH11: 3 | AI11: 10 | AJ11: 17 | AK11: 24 | AO11: =AG11 -> Sabtu | AP11: 1 | AQ11: 8 | AR11: 15 | AS11: 22 | AT11: 29
A12: =IF(TEXT(data!$C$7,"dddd")=kalender!A6,COUNT(kalender!B6:G6),IF(TEXT(data!$C$7,"dddd")=kalender!A7,COUNT(kalender!B7:G7),IF(TEXT(data!$C$7,"dddd")=kalender!A8,COUNT(kalender!B8:G8),IF(TEXT(data!$C$7,"dddd")=kalender!A9,COUNT(kalender!B9:G9),IF(TEXT(data!$C$7,"dddd")=kalender!A10,COUNT(kalender!B10:G10),IF(TEXT(data!$C$7,"dddd")=kalender!A11,COUNT(kalender!B11:G11),"")))))) | I12: =IF(TEXT(data!$C$7,"dddd")=kalender!I6,COUNT(kalender!J6:O6),IF(TEXT(data!$C$7,"dddd")=kalender!I7,COUNT(kalender!J7:O7),IF(TEXT(data!$C$7,"dddd")=kalender!I8,COUNT(kalender!J8:O8),IF(TEXT(data!$C$7,"dddd")=kalender!I9,COUNT(kalender!J9:O9),IF(TEXT(data!$C$7,"dddd")=kalender!I10,COUNT(kalender!J10:O10),IF(TEXT(data!$C$7,"dddd")=kalender!I11,COUNT(kalender!J11:O11),"")))))) | Q12: =IF(TEXT(data!$C$7,"dddd")=kalender!Q6,COUNT(kalender!R6:W6),IF(TEXT(data!$C$7,"dddd")=kalender!Q7,COUNT(kalender!R7:W7),IF(TEXT(data!$C$7,"dddd")=kalender!Q8,COUNT(kalender!R8:W8),IF(TEXT(data!$C$7,"dddd")=kalender!Q9,COUNT(kalender!R9:W9),IF(TEXT(data!$C$7,"dddd")=kalender!Q10,COUNT(kalender!R10:W10),IF(TEXT(data!$C$7,"dddd")=kalender!Q11,COUNT(kalender!R11:W11),"")))))) | Y12: =IF(TEXT(data!$C$7,"dddd")=kalender!Y6,COUNT(kalender!Z6:AE6),IF(TEXT(data!$C$7,"dddd")=kalender!Y7,COUNT(kalender!Z7:AE7),IF(TEXT(data!$C$7,"dddd")=kalender!Y8,COUNT(kalender!Z8:AE8),IF(TEXT(data!$C$7,"dddd")=kalender!Y9,COUNT(kalender!Z9:AE9),IF(TEXT(data!$C$7,"dddd")=kalender!Y10,COUNT(kalender!Z10:AE10),IF(TEXT(data!$C$7,"dddd")=kalender!Y11,COUNT(kalender!Z11:AE11),"")))))) | AG12: =IF(TEXT(data!$C$7,"dddd")=kalender!AG6,COUNT(kalender!AH6:AM6),IF(TEXT(data!$C$7,"dddd")=kalender!AG7,COUNT(kalender!AH7:AM7),IF(TEXT(data!$C$7,"dddd")=kalender!AG8,COUNT(kalender!AH8:AM8),IF(TEXT(data!$C$7,"dddd")=kalender!AG9,COUNT(kalender!AH9:AM9),IF(TEXT(data!$C$7,"dddd")=kalender!AG10,COUNT(kalender!AH10:AM10),IF(TEXT(data!$C$7,"dddd")=kalender!AG11,COUNT(kalender!AH11:AM11),"")))))) | AO12: =IF(TEXT(data!$C$7,"dddd")=kalender!AO6,COUNT(kalender!AP6:AU6),IF(TEXT(data!$C$7,"dddd")=kalender!AO7,COUNT(kalender!AP7:AU7),IF(TEXT(data!$C$7,"dddd")=kalender!AO8,COUNT(kalender!AP8:AU8),IF(TEXT(data!$C$7,"dddd")=kalender!AO9,COUNT(kalender!AP9:AU9),IF(TEXT(data!$C$7,"dddd")=kalender!AO10,COUNT(kalender!AP10:AU10),IF(TEXT(data!$C$7,"dddd")=kalender!AO11,COUNT(kalender!AP11:AU11),"")))))) | AU12: =IF(AU11>0,1,"")
A13: 6, | I13: 17 Hari Kemerdekaan | AO13: 7 Ulangan Akhir Semester,
A14: 13 libur semester genap | AO14: 14,
AO15: 21 Bagi raport,
AO16: 28 Libur Akhir Semester
A18: =COUNTA(A13:A17) -> 2 | I18: =COUNTA(I13:I17) -> 1 | Q18: =COUNTA(Q13:Q17) -> 0 | Y18: =COUNTA(Y13:Y17) -> 0 | AG18: =COUNTA(AG13:AG17) -> 0 | AO18: =COUNTA(AO13:AO17) -> 4
A20: =AO4+30 -> 43467 | I20: =A20+31 -> 43498 | Q20: =I20+31 -> 43529 | Y20: =Q20+31 -> 43560 | AG20: =Y20+31 -> 43591 | AO20: =AG20+31 -> 43622
A21: =TEXT($A$3,"dddd") -> Minggu | C21: 6 | D21: 13 | E21: 20 | F21: 27 | I21: =TEXT($A$3,"dddd") -> Minggu | K21: 3 | L21: 10 | M21: 17 | N21: 24 | Q21: =TEXT($A$3,"dddd") -> Minggu | S21: 3 | T21: 10 | U21: 17 | V21: 24 | W21: 31 | Y21: =TEXT($A$3,"dddd") -> Minggu | AA21: 7 | AB21: 14 | AC21: 21 | AD21: 28 | AG21: =TEXT($A$3,"dddd") -> Minggu | AI21: 5 | AJ21: 12 | AK21: 19 | AL21: 26 | AO21: =TEXT($A$3,"dddd") -> Minggu | AQ21: 2 | AR21: 9 | AS21: 16 | AT21: 23 | AU21: 30
A22: =TEXT($A$3+1,"dddd") -> Senin | C22: 7 | D22: 14 | E22: 21 | F22: 28 | I22: =TEXT($A$3+1,"dddd") -> Senin | K22: 4 | L22: 11 | M22: 18 | N22: 25 | Q22: =TEXT($A$3+1,"dddd") -> Senin | S22: 4 | T22: 11 | U22: 18 | V22: 25 | Y22: =TEXT($A$3+1,"dddd") -> Senin | Z22: 1 | AA22: 8 | AB22: 15 | AC22: 22 | AD22: 29 | AG22: =TEXT($A$3+1,"dddd") -> Senin | AI22: 6 | AJ22: 12 | AK22: 20 | AL22: 27 | AO22: =TEXT($A$3+1,"dddd") -> Senin | AQ22: 3 | AR22: 10 | AS22: 17 | AT22: 24
A23: =TEXT($A$3+2,"dddd") -> Selasa | B23: 1 | C23: 8 | D23: 15 | E23: 22 | F23: 28 | I23: =TEXT($A$3+2,"dddd") -> Selasa | K23: 5 | L23: 12 | M23: 19 | N23: 26 | Q23: =TEXT($A$3+2,"dddd") -> Selasa | S23: 5 | T23: 12 | U23: 19 | V23: 26 | Y23: =TEXT($A$3+2,"dddd") -> Selasa | Z23: 2 | AA23: 9 | AB23: 16 | AC23: 23 | AD23: 30 | AG23: =TEXT($A$3+2,"dddd") -> Selasa | AI23: 7 | AJ23: 14 | AK23: 21 | AL23: 28 | AO23: =TEXT($A$3+2,"dddd") -> Selasa | AQ23: 4 | AR23: 11 | AS23: 18 | AT23: 25
A24: =TEXT($A$3+3,"dddd") -> Rabu | B24: 2 | C24: 9 | D24: 16 | E24: 23 | F24: 30 | I24: =TEXT($A$3+3,"dddd") -> Rabu | K24: 6 | L24: 13 | M24: 20 | N24: 27 | Q24: =TEXT($A$3+3,"dddd") -> Rabu | S24: 6 | T24: 13 | U24: 20 | V24: 27 | Y24: =TEXT($A$3+3,"dddd") -> Rabu | Z24: 3 | AA24: 10 | AB24: 17 | AC24: 24 | AG24: =TEXT($A$3+3,"dddd") -> Rabu | AH24: 1 | AI24: 8 | AJ24: 15 | AK24: 22 | AL24: 29 | AO24: =TEXT($A$3+3,"dddd") -> Rabu | AQ24: 5 | AR24: 12 | AS24: 19 | AT24: 26
A25: =TEXT($A$3+4,"dddd") -> Kamis | B25: 3 | C25: 10 | D25: 17 | E25: 24 | F25: 31 | I25: =TEXT($A$3+4,"dddd") -> Kamis | K25: 7 | L25: 14 | M25: 21 | N25: 28 | Q25: =TEXT($A$3+4,"dddd") -> Kamis | S25: 7 | T25: 14 | U25: 21 | V25: 28 | Y25: =TEXT($A$3+4,"dddd") -> Kamis | Z25: 4 | AA25: 11 | AB25: 18 | AC25: 25 | AG25: =TEXT($A$3+4,"dddd") -> Kamis | AH25: 2 | AI25: 9 | AJ25: 16 | AK25: 23 | AL25: 30 | AO25: =TEXT($A$3+4,"dddd") -> Kamis | AQ25: 6 | AR25: 13 | AS25: 20 | AT25: 27
A26: =TEXT($A$3+5,"dddd") -> Jumat | B26: 4 | C26: 11 | D26: 18 | E26: 25 | I26: =TEXT($A$3+5,"dddd") -> Jumat | J26: 1 | K26: 8 | L26: 15 | M26: 22 | Q26: =TEXT($A$3+5,"dddd") -> Jumat | R26: 1 | S26: 8 | T26: 15 | U26: 22 | V26: 29 | Y26: =TEXT($A$3+5,"dddd") -> Jumat | Z26: 5 | AA26: 12 | AB26: 19 | AC26: 26 | AG26: =TEXT($A$3+5,"dddd") -> Jumat | AH26: 3 | AI26: 10 | AJ26: 17 | AK26: 24 | AL26: 31 | AO26: =TEXT($A$3+5,"dddd") -> Jumat | AQ26: 7 | AR26: 14 | AS26: 21 | AT26: 28
A27: =TEXT($A$3+6,"dddd") -> Sabtu | B27: 5 | C27: 12 | D27: 19 | E27: 26 | I27: =TEXT($A$3+6,"dddd") -> Sabtu | J27: 2 | K27: 9 | L27: 16 | M27: 23 | Q27: =TEXT($A$3+6,"dddd") -> Sabtu | R27: 2 | S27: 9 | T27: 16 | U27: 23 | V27: 30 | Y27: =TEXT($A$3+6,"dddd") -> Sabtu | Z27: 6 | AA27: 13 | AB27: 20 | AC27: 27 | AG27: =TEXT($A$3+6,"dddd") -> Sabtu | AH27: 4 | AI27: 11 | AJ27: 18 | AK27: 25 | AO27: =TEXT($A$3+6,"dddd") -> Sabtu | AP27: 1 | AQ27: 8 | AR27: 15 | AS27: 22 | AT27: 29
A28: =IF(TEXT(data!$C$9,"dddd")=kalender!A22,COUNT(kalender!B22:G22),IF(TEXT(data!$C$9,"dddd")=kalender!A23,COUNT(kalender!B23:G23),IF(TEXT(data!$C$9,"dddd")=kalender!A24,COUNT(kalender!B24:G24),IF(TEXT(data!$C$9,"dddd")=kalender!A25,COUNT(kalender!B25:G25),IF(TEXT(data!$C$9,"dddd")=kalender!A26,COUNT(kalender!B26:G26),IF(TEXT(data!$C$9,"dddd")=kalender!A27,COUNT(kalender!B27:G27),"")))))) -> 4 | I28: =IF(TEXT(data!$C$9,"dddd")=kalender!I22,COUNT(kalender!J22:O22),IF(TEXT(data!$C$9,"dddd")=kalender!I23,COUNT(kalender!J23:O23),IF(TEXT(data!$C$9,"dddd")=kalender!I24,COUNT(kalender!J24:O24),IF(TEXT(data!$C$9,"dddd")=kalender!I25,COUNT(kalender!J25:O25),IF(TEXT(data!$C$9,"dddd")=kalender!I26,COUNT(kalender!J26:O26),IF(TEXT(data!$C$9,"dddd")=kalender!I27,COUNT(kalender!J27:O27),"")))))) -> 4 | Q28: =IF(TEXT(data!$C$9,"dddd")=kalender!Q22,COUNT(kalender!R22:W22),IF(TEXT(data!$C$9,"dddd")=kalender!Q23,COUNT(kalender!R23:W23),IF(TEXT(data!$C$9,"dddd")=kalender!Q24,COUNT(kalender!R24:W24),IF(TEXT(data!$C$9,"dddd")=kalender!Q25,COUNT(kalender!R25:W25),IF(TEXT(data!$C$9,"dddd")=kalender!Q26,COUNT(kalender!R26:W26),IF(TEXT(data!$C$9,"dddd")=kalender!Q27,COUNT(kalender!R27:W27),"")))))) -> 4 | Y28: =IF(TEXT(data!$C$9,"dddd")=kalender!Y22,COUNT(kalender!Z22:AE22),IF(TEXT(data!$C$9,"dddd")=kalender!Y23,COUNT(kalender!Z23:AE23),IF(TEXT(data!$C$9,"dddd")=kalender!Y24,COUNT(kalender!Z24:AE24),IF(TEXT(data!$C$9,"dddd")=kalender!Y25,COUNT(kalender!Z25:AE25),IF(TEXT(data!$C$9,"dddd")=kalender!Y26,COUNT(kalender!Z26:AE26),IF(TEXT(data!$C$9,"dddd")=kalender!Y27,COUNT(kalender!Z27:AE27),"")))))) -> 5 | AG28: =IF(TEXT(data!$C$9,"dddd")=kalender!AG22,COUNT(kalender!AH22:AM22),IF(TEXT(data!$C$9,"dddd")=kalender!AG23,COUNT(kalender!AH23:AM23),IF(TEXT(data!$C$9,"dddd")=kalender!AG24,COUNT(kalender!AH24:AM24),IF(TEXT(data!$C$9,"dddd")=kalender!AG25,COUNT(kalender!AH25:AM25),IF(TEXT(data!$C$9,"dddd")=kalender!AG26,COUNT(kalender!AH26:AM26),IF(TEXT(data!$C$9,"dddd")=kalender!AG27,COUNT(kalender!AH27:AM27),"")))))) -> 4 | AO28: =IF(TEXT(data!$C$9,"dddd")=kalender!AO22,COUNT(kalender!AP22:AU22),IF(TEXT(data!$C$9,"dddd")=kalender!AO23,COUNT(kalender!AP23:AU23),IF(TEXT(data!$C$9,"dddd")=kalender!AO24,COUNT(kalender!AP24:AU24),IF(TEXT(data!$C$9,"dddd")=kalender!AO25,COUNT(kalender!AP25:AU25),IF(TEXT(data!$C$9,"dddd")=kalender!AO26,COUNT(kalender!AP26:AU26),IF(TEXT(data!$C$9,"dddd")=kalender!AO27,COUNT(kalender!AP27:AU27),"")))))) -> 4
A34: =COUNTA(A29:A33) -> 0 | I34: =COUNTA(I29:I33) -> 0 | Q34: =COUNTA(Q29:Q33) -> 0 | Y34: =COUNTA(Y29:Y33) -> 0 | AG34: =COUNTA(AG29:AG33) -> 0 | AO34: =COUNTA(AO29:AO33) -> 0

Sheet alokasi
A1: PEMERINTAH KABUPATEN HULU SUNGAI SELATAN
A2: DINAS PENDIDIKAN
A3: SEKOLAH MENENGAH KEJURUAN NEGERI 2 KANDANGAN
A4: Jln .Gambah Dalam No 77 Telp. 22156 Kandangan 71215
A5: Website : www.smkn2kandangan.sch.id Email : smkn2kdg@yahoo.co.id
A7: ="ANALISIS ALOKASI WAKTU SEMESTER "&data!C20 -> ANALISIS ALOKASI WAKTU SEMESTER I (GANJIL)
A8: ="TAHUN PELAJARAN "&data!C19 -> TAHUN PELAJARAN 2018 / 2019
A10: A. Distribusi Minggu Efektif dan Tidak Efektif
A12: No | B12: Bulan | C12: Jumlah Minggu | D12: ∑ Minggu Tidak Efektif | E12: ∑ Minggu Efektif | F12: Keterangan
A13: 1 | B13: =kalender!A4 -> 43282 | C13: =kalender!A12 | D13: =kalender!A18 -> 2 | E13: =C13-D13 -> #VALUE! | F13: =kalender!A13&" "&kalender!A14&" "&kalender!A15&" "&kalender!A16&" "&kalender!A17 -> 6, 13 libur semester genap
A14: 2 | B14: =B13+31 -> 43313 | C14: =kalender!I12 | D14: =kalender!I18 -> 1 | E14: =C14-D14 -> #VALUE! | F14: =kalender!I13&" "&kalender!I14&" "&kalender!I15&" "&kalender!I16&" "&kalender!I17 -> 17 Hari Kemerdekaan
A15: 3 | B15: =B14+31 -> 43344 | C15: =kalender!Q12 | D15: =kalender!Q18 -> 0 | E15: =C15-D15 -> #VALUE! | F15: =kalender!Q13&" "&kalender!Q14&" "&kalender!Q15&" "&kalender!Q16&" "&kalender!Q17
A16: 4 | B16: =B15+31 -> 43375 | C16: =kalender!Y12 | D16: =kalender!Y18 -> 0 | E16: =C16-D16 -> #VALUE! | F16: =kalender!Y13&" "&kalender!Y14&" "&kalender!Y15&" "&kalender!Y16&" "&kalender!Y17
A17: 5 | B17: =B16+31 -> 43406 | C17: =kalender!AG12 | D17: =kalender!AG18 -> 0 | E17: =C17-D17 -> #VALUE! | F17: =kalender!AG13&" "&kalender!AG14&" "&kalender!AG15&" "&kalender!AG16&" "&kalender!AG17
A18: 6 | B18: =B17+31 -> 43437 | C18: =kalender!AO12 | D18: =kalender!AO18 -> 4 | E18: =C18-D18 -> #VALUE! | F18: =kalender!AO13&" "&kalender!AO14&" "&kalender!AO15&" "&kalender!AO16&" "&kalender!AO17 -> 7 Ulangan Akhir Semester, 14, 21 Bagi raport, 28 Libur Akhir Semester
A19: Total | C19: =SUM(C13:C18) -> 0 | D19: =SUM(D13:D18) -> 7 | E19: =SUM(E13:F18) -> #VALUE!
A21: B. Alokasi Waktu Tatap Muka
A23: 1 | B23: Mata Pelajaran : | D23: =": "&data!C5 -> : Administrasi Transakssi
A24: 2 | B24: Kelas : | D24: =": "&data!C6&" "&data!D6 -> : XI BDP 1
A25: 3 | B25: Hari Tatap Muka : | D25: =": "&TEXT(data!C7,"dddd")&", "&IF(data!C8="","",TEXT(data!C8,"dddd")) -> : Thursday,
A26: 4 | B26: Jam Tatap Muka/Minggu : | D26: =": "&data!C12&" jam/minggu" -> : 6 jam/minggu
A27: 5 | B27: Jumlah Jam Tatap Muka Semester : | D27: =": "&data!C12&" jam x "&E19&" "&"minggu" -> #VALUE!
A28: 6 | B28: Jumlah Jam Tatap Dalam Silabus : | D28: =": "&prota!$E$55&" jam" -> #REF!
A30: C. Beban Kompetensi
A32: 1 | B32: Jumlah Kompetensi Inti : | D32: =COUNTA(silabus!A14:A18) -> 4
A33: 2 | B33: Jumlah Kompetensi Dasar : | D33: =COUNT(silabus!F35:F36) -> 2
A34: 3 | B34: Jumlah Indikator : | D34: =SUM(silabus!H35:H36) -> 4
B36: =ki!A11 -> Mengetahui : | E36: =ki!C11 -> Barabai, 16 April 2020
B37: =ki!A12 -> Kepala SMKN 1 Barabai | E37: =ki!C12 -> Guru Mata Pelajaran
B41: =ki!A16 -> Norta Dewi Yuniati, S.P, M.Pd | E41: =ki!C16 -> Abdian Noor, S.Pd
B42: =ki!A17 -> NIP. 19710623 200604 2 021 | E42: =ki!C17 -> NIP. 19680906 199412 1 005
A43: PEMERINTAH KABUPATEN HULU SUNGAI SELATAN
A44: DINAS PENDIDIKAN
A45: SEKOLAH MENENGAH KEJURUAN NEGERI 2 KANDANGAN
A46: Jln .Gambah Dalam No 77 Telp. 22156 Kandangan 71215
A47: Website : www.smkn2kandangan.sch.id Email : smkn2kdg@yahoo.co.id
A49: ="ANALISIS ALOKASI WAKTU SEMESTER "&data!C21 -> ANALISIS ALOKASI WAKTU SEMESTER II (GENAP)
A50: ="TAHUN PELAJARAN "&data!C19 -> TAHUN PELAJARAN 2018 / 2019
A52: A. Distribusi Minggu Efektif dan Tidak Efektif
A54: No | B54: Bulan | C54: Jumlah Minggu | D54: ∑ Minggu Tidak Efektif | E54: ∑ Minggu Efektif | F54: Keterangan
A55: 1 | B55: =kalender!A20 -> 43467 | C55: =kalender!A28 -> 4 | D55: =kalender!A34 -> 0 | E55: =C55-D55 -> 4 | F55: =kalender!A29&" "&kalender!A30&" "&kalender!A31&" "&kalender!A32&" "&kalender!A33
A56: 2 | B56: =B55+31 -> 43498 | C56: =kalender!I28 -> 4 | D56: =kalender!I34 -> 0 | E56: =C56-D56 -> 4 | F56: =kalender!I29&" "&kalender!I30&" "&kalender!I31&" "&kalender!I32&" "&kalender!I33
A57: 3 | B57: =B56+31 -> 43529 | C57: =kalender!Q28 -> 4 | D57: =kalender!Q34 -> 0 | E57: =C57-D57 -> 4 | F57: =kalender!Q29&" "&kalender!Q30&" "&kalender!Q31&" "&kalender!Q32&" "&kalender!Q33
A58: 4 | B58: =B57+31 -> 43560 | C58: =kalender!Y28 -> 5 | D58: =kalender!Y34 -> 0 | E58: =C58-D58 -> 5 | F58: =kalender!Y29&" "&kalender!Y30&" "&kalender!Y31&" "&kalender!Y32&" "&kalender!Y33
A59: 5 | B59: =B58+31 -> 43591 | C59: =kalender!AG28 -> 4 | D59: =kalender!AG34 -> 0 | E59: =C59-D59 -> 4 | F59: =kalender!AG29&" "&kalender!AG30&" "&kalender!AG31&" "&kalender!AG32&" "&kalender!AG33
A60: 6 | B60: =B59+31 -> 43622 | C60: =kalender!AO28 -> 4 | D60: =kalender!AO34 -> 0 | E60: =C60-D60 -> 4 | F60: =kalender!AO29&" "&kalender!AO30&" "&kalender!AO31&" "&kalender!AO32&" "&kalender!AO33
A61: Total | C61: =SUM(C55:C60) -> 25 | D61: =SUM(D55:D60) -> 0 | E61: =SUM(E55:F60) -> 25
A63: B. Alokasi Waktu Tatap Muka
A65: 1 | B65: Mata Pelajaran : | D65: =D23 -> : Administrasi Transakssi
A66: 2 | B66: Kelas : | D66: =D24 -> : XI BDP 1
A67: 3 | B67: Hari Tatap Muka : | D67: =": "&TEXT(data!C9,"dddd")&", "&IF(data!C10="","",TEXT(data!C10,"dddd")) -> : Monday,
A68: 4 | B68: Jam Tatap Muka/Minggu : | D68: =D26 -> : 6 jam/minggu
A69: 5 | B69: Jumlah Jam Tatap Muka Semester : | D69: =": "&data!C12&" jam x "&E61&" "&"minggu" -> : 6 jam x 25 minggu
A70: 6 | B70: Jumlah Jam Tatap Dalam Silabus : | D70: =": "&prota!$E$89&" jam" -> #REF!
A72: C. Beban Kompetensi
A74: 1 | B74: Jumlah Kompetensi Inti : | D74: =D32 -> 4
A75: 2 | B75: Jumlah Kompetensi Dasar : | D75: =COUNT(silabus!F37:F48) -> 0
A76: 3 | B76: Jumlah Indikator : | D76: =SUM(silabus!H37:H48) -> 24
B78: =B36 -> Mengetahui : | E78: =E36 -> Barabai, 16 April 2020
B79: =B37 -> Kepala SMKN 1 Barabai | E79: =E37 -> Guru Mata Pelajaran
B83: =B41 -> Norta Dewi Yuniati, S.P, M.Pd | E83: =E41 -> Abdian Noor, S.Pd
B84: =B42 -> NIP. 19710623 200604 2 021 | E84: =E42 -> NIP. 19680906 199412 1 005

Sheet prota
A1: PEMERINTAH PROVINSI KALIMANTAN SELATAN
A2: DINAS PENDIDIKAN DAN KEBUDAYAAN
A3: SEKOLAH MENENGAH KEJURUAN NEGERI 2 KANDANGAN
A4: Jln .Gambah Dalam No 77 Telp. 22156 Kandangan 71215
A5: Website : www.smkn2kandangan.sch.id Email : smkn2kdg@yahoo.co.id
A7: PROGRAM TAHUNAN
A8: ="TAHUN PELAJARAN "&data!C19 -> TAHUN PELAJARAN 2018 / 2019
A10: Kode | C10: =": "&data!C4 -> : C3.5
A11: Mata Pelajaran | C11: =": "&data!C5 -> : Administrasi Transakssi
A12: Kelas | C12: =": "&data!C6&" "&data!D6 -> : XI BDP 1
A13: Bidang Keahlian | C13: =": "&data!C16 -> : Bisnis dan Manajemen
A14: Program Keahlian | C14: =": "&data!C17 -> : Bisnis dan Pemasaran
A15: Paket Keahlian | C15: =": "&data!C18 -> : Bisnis Daring dan Pemasaran
A16: Jumlah Jam | C16: =": "&E55+E89&" Jam Pelajaran" -> #REF!
A18: KI-1 : | B18: =silabus!B14 -> Menghayati dan mengamalkan ajaran agama yang dianutnya
A19: KI-2 : | B19: =silabus!B15 -> Menghayati dan mengamalkan perilaku jujur, disiplin, santun, peduli (gotong royong, kerja sama, toleran, damai), bertanggung-jawab, responsif, dan proaktif melalui keteladanan, pemberian nasihat, penguatan, pembiasaan, dan pengkondisian secara berkesinambungan serta menunjukkan sikap sebagai bagian dari solusi atas berbagai permasalahan dalam berinteraksi secara efektif dengan lingkungan sosial dan alam serta dalam menempatkan diri sebagai cerminan bangsa dalam pergaulan dunia
A20: KI-3 : | B20: =silabus!B16 -> Memahami, menerapkan, menganalisis, dan mengevaluasi tentang pengetahuan faktual, konseptual, operasional dasar, dan metakognitif sesuai dengan bidang dan lingkup kerja Bisnis Daring dan Pemasaran pada tingkat teknis, spesifik, detil, dan kompleks, berkenaan dengan ilmu pengetahuan, teknologi, seni, budaya, dan humaniora dalam konteks pengembangan potensi diri sebagai bagian dari keluarga, sekolah, dunia kerja, warga masyarakat nasional, regional, dan internasional.
A21: KI-4 : | B21: =silabus!B17 -> Melaksanakan tugas spesifik dengan menggunakan alat, informasi, dan prosedur kerja yang lazim dilakukan serta memecahkan masalah sesuai dengan lingkup Administrasi Umum sebagai Dasar Bidang Bisnis dan Manajemen. Menampilkan kinerja di bawah bimbingan dengan mutu dan kuantitas yang terukur sesuai dengan standar kompetensi kerja. Menunjukkan keterampilan menalar, mengolah, dan menyaji secara efektif, kreatif, produktif, kritis, mandiri, kolaboratif, komunikatif, dan solutif dalam ranah abstrak terkait dengan pengembangan dari yang dipelajarinya di sekolah, serta mampu melaksanakan tugas spesifik di bawah pengawasan langsung. Menunjukkan keterampilan mempersepsi, kesiapan, meniru, membiasakan, gerak mahir, menjadikan gerak alami dalam ranah konkret terkait dengan pengembangan dari yang dipelajarinya di sekolah, serta mampu melaksanakan tugas spesifik di bawah pengawasan langsung.
A23: No | B23: Kompetensi Dasar | E23: Alokasi Waktu (JP)
A24: =data!A20&" "&data!C20 -> Semester I (GANJIL)
A25: 1 | B25: =silabus!A35 -> 3.10 Menganalisis dokumenj transaksi penjualan | E25: =silabus!F35 -> 3
B26: =silabus!A36 -> 4.10 Membuat administrasi penjualan | E26: =silabus!F36 -> 3
A27: =A25+1 -> 2 | B27: =silabus!#REF! -> #REF! | E27: =silabus!#REF! -> #REF!
B28: =silabus!#REF! -> #REF! | E28: =silabus!#REF! -> #REF!
A29: =A27+1 -> 3 | B29: =silabus!#REF! -> #REF! | E29: =silabus!#REF! -> #REF!
B30: =silabus!#REF! -> #REF! | E30: =silabus!#REF! -> #REF!
A31: =A29+1 -> 4 | B31: =silabus!#REF! -> #REF! | E31: =silabus!#REF! -> #REF!
B32: =silabus!#REF! -> #REF! | E32: =silabus!#REF! -> #REF!
A33: =A31+1 -> 5 | B33: =silabus!#REF! -> #REF! | E33: =silabus!#REF! -> #REF!
B34: =silabus!#REF! -> #REF! | E34: =silabus!#REF! -> #REF!
A35: =A33+1 -> 6 | B35: =silabus!#REF! -> #REF! | E35: =silabus!#REF! -> #REF!
B36: =silabus!#REF! -> #REF! | E36: =silabus!#REF! -> #REF!
A37: =A35+1 -> 7 | B37: =silabus!#REF! -> #REF! | E37: =silabus!#REF! -> #REF!
B38: =silabus!#REF! -> #REF! | E38: =silabus!#REF! -> #REF!
A39: =A37+1 -> 8 | B39: =silabus!#REF! -> #REF! | E39: =silabus!#REF! -> #REF!
B40: =silabus!#REF! -> #REF! | E40: =silabus!#REF! -> #REF!
A41: =A39+1 -> 9 | B41: =silabus!#REF! -> #REF! | E41: =silabus!#REF! -> #REF!
B42: =silabus!#REF! -> #REF! | E42: =silabus!#REF! -> #REF!
A43: =A41+1 -> 10 | B43: =silabus!#REF! -> #REF! | E43: =silabus!#REF! -> #REF!
B44: =silabus!#REF! -> #REF! | E44: =silabus!#REF! -> #REF!
A45: =A43+1 -> 11 | B45: =silabus!#REF! -> #REF! | E45: =silabus!#REF! -> #REF!
B46: =silabus!#REF! -> #REF! | E46: =silabus!#REF! -> #REF!
A47: =A45+1 -> 12 | B47: =silabus!#REF! -> #REF! | E47: =silabus!#REF! -> #REF!
B48: =silabus!#REF! -> #REF! | E48: =silabus!#REF! -> #REF!
A49: =A47+1 -> 13 | B49: =silabus!#REF! -> #REF! | E49: =silabus!#REF! -> #REF!
B50: =silabus!#REF! -> #REF! | E50: =silabus!#REF! -> #REF!
A51: =A49+1 -> 14 | B51: =silabus!#REF! -> #REF! | E51: =silabus!#REF! -> #REF!
B52: =silabus!#REF! -> #REF! | E52: =silabus!#REF! -> #REF!
A53: =A51+1 -> 15 | B53: =silabus!#REF! -> #REF! | E53: =silabus!#REF! -> #REF!
B54: =silabus!#REF! -> #REF! | E54: =silabus!#REF! -> #REF!
A55: ="Jumlah Jam "&" "&A24 -> Jumlah Jam Semester I (GANJIL) | E55: =SUM(E25:E54) -> #REF!
A57: No | B57: Kompetensi Dasar | E57: Alokasi Waktu (JP)
A58: =data!A21&" "&data!C21 -> Semester II (GENAP)
A59: 10 | B59: =silabus!#REF! -> #REF! | E59: =silabus!#REF! -> #REF!
B60: =silabus!#REF! -> #REF! | E60: =silabus!#REF! -> #REF!
A61: =A59+1 -> 11 | B61: =silabus!#REF! -> #REF! | E61: =silabus!#REF! -> #REF!
B62: =silabus!#REF! -> #REF! | E62: =silabus!#REF! -> #REF!
A63: =A61+1 -> 12 | B63: =silabus!#REF! -> #REF! | E63: =silabus!#REF! -> #REF!
B64: =silabus!#REF! -> #REF! | E64: =silabus!#REF! -> #REF!
A65: =A63+1 -> 13 | B65: =silabus!#REF! -> #REF! | E65: =silabus!#REF! -> #REF!
B66: =silabus!#REF! -> #REF! | E66: =silabus!#REF! -> #REF!
A67: =A65+1 -> 14 | B67: =silabus!#REF! -> #REF! | E67: =silabus!#REF! -> #REF!
B68: =silabus!#REF! -> #REF! | E68: =silabus!#REF! -> #REF!
A69: =A67+1 -> 15 | B69: =silabus!#REF! -> #REF! | E69: =silabus!#REF! -> #REF!
B70: =silabus!#REF! -> #REF! | E70: =silabus!#REF! -> #REF!
A71: =A69+1 -> 16 | B71: =silabus!#REF! -> #REF! | E71: =silabus!#REF! -> #REF!
B72: =silabus!#REF! -> #REF! | E72: =silabus!#REF! -> #REF!
A73: =A71+1 -> 17 | B73: =silabus!#REF! -> #REF! | E73: =silabus!#REF! -> #REF!
B74: =silabus!#REF! -> #REF! | E74: =silabus!#REF! -> #REF!
A75: =A73+1 -> 18 | B75: =silabus!#REF! -> #REF! | E75: =silabus!#REF! -> #REF!
B76: =silabus!#REF! -> #REF! | E76: =silabus!#REF! -> #REF!
A77: =A75+1 -> 19 | B77: =silabus!A37 -> 0 | E77: =silabus!F37
B78: =silabus!A38 -> 0 | E78: =silabus!F38
A79: =A77+1 -> 20 | B79: =silabus!A39 -> 0 | E79: =silabus!F39
B80: =silabus!A40 -> 0 | E80: =silabus!F40
A81: =A79+1 -> 21 | B81: =silabus!A41 -> 0 | E81: =silabus!F41
B82: =silabus!A42 -> 0 | E82: =silabus!F42
A83: =A81+1 -> 22 | B83: =silabus!A43 -> 0 | E83: =silabus!F43
B84: =silabus!A44 -> 0 | E84: =silabus!F44
A85: =A83+1 -> 23 | B85: =silabus!A45 -> 0 | E85: =silabus!F45
B86: =silabus!A46 -> 0 | E86: =silabus!F46
A87: =A85+1 -> 24 | B87: =silabus!A47 -> 0 | E87: =silabus!F47
B88: =silabus!A48 -> 0 | E88: =silabus!F48
A89: ="Jumlah Jam "&" "&A58 -> Jumlah Jam Semester II (GENAP) | E89: =SUM(E59:E88) -> #REF!
B91: =ki!A11 -> Mengetahui : | D91: =ki!C11 -> Barabai, 16 April 2020
B92: =ki!A12 -> Kepala SMKN 1 Barabai | D92: =ki!C12 -> Guru Mata Pelajaran
B96: =ki!A16 -> Norta Dewi Yuniati, S.P, M.Pd | D96: =ki!C16 -> Abdian Noor, S.Pd
B97: =ki!A17 -> NIP. 19710623 200604 2 021 | D97: =ki!C17 -> NIP. 19680906 199412 1 005

Sheet promes
A1: PROGRAM SEMESTER
C3: =data!A17 -> Program Keahlian | K3: : | L3: =data!C17 -> Bisnis dan Pemasaran
C4: =data!A5 -> Mata Pelajaran | K4: : | L4: =data!C5 -> Administrasi Transakssi
C5: =data!A6 -> Kelas | K5: : | L5: =data!C6&" "&data!D6 -> XI BDP 1
C6: =data!A20 -> Semester | K6: : | L6: =data!C20 -> I (GANJIL)
C7: =data!A19 -> Tahun Pelajaran | K7: : | L7: =data!C19 -> 2018 / 2019
C8: =data!A12 -> Jumlah Jam | K8: : | L8: =C45&" jam real" -> #REF!
A10: No | B10: Standar KompetensiI / Kompetensi Dasar | C10: JP | D10: =kalender!A4 -> 43282 | I10: =D10+31 -> 43313 | N10: =I10+31 -> 43344 | S10: =N10+31 -> 43375 | X10: =S10+31 -> 43406 | AC10: =X10+31 -> 43437 | AH10: Pencapaian Target
D11: 1 | E11: 2 | F11: 3 | G11: 4 | H11: 5 | I11: 1 | J11: 2 | K11: 3 | L11: 4 | M11: 5 | N11: 1 | O11: 2 | P11: 3 | Q11: 4 | R11: 5 | S11: 1 | T11: 2 | U11: 3 | V11: 4 | W11: 5 | X11: 1 | Y11: 2 | Z11: 3 | AA11: 4 | AB11: 5 | AC11: 1 | AD11: 2 | AE11: 3 | AF11: 4 | AG11: 5 | AH11: Rencana | AI11: Pelaksanaan
B12: =L4 -> Administrasi Transakssi
A13: 1 | B13: =silabus!A35 -> 3.10 Menganalisis dokumenj transaksi penjualan | C13: =silabus!F35 -> 3 | D13: Libur Akhir Semester | F13: 4 | K13: Hari Kemerdekaan | AD13: Ujian Akhir Semester | AE13: Tidak Efektif | AF13: Bagi Rapor | AG13: Libur Akhir Semester | AH13: =(SUM(D13:AG13)/$C$45)*100 -> #REF! | AI13: =AH13 -> #REF! | AJ13: =IF(C13=SUM(D13:AG13),"ok","cek") -> cek
B14: =silabus!A36 -> 4.10 Membuat administrasi penjualan | C14: =silabus!F36 -> 3 | G14: 4 | AH14: =(SUM(D14:AG14)/$C$45)*100 -> #REF! | AI14: =AH14+AI13 -> #REF! | AJ14: =IF(C14=SUM(D14:AG14),"ok","cek") -> cek
A15: 2 | B15: =silabus!#REF! -> #REF! | C15: =silabus!#REF! -> #REF! | I15: 4 | AH15: =(SUM(D15:AG15)/$C$45)*100 -> #REF! | AI15: =AH15+AI14 -> #REF! | AJ15: =IF(C15=SUM(D15:AG15),"ok","cek") -> #REF!
B16: =silabus!#REF! -> #REF! | C16: =silabus!#REF! -> #REF! | J16: 4 | AH16: =(SUM(D16:AG16)/$C$45)*100 -> #REF! | AI16: =AH16+AI15 -> #REF! | AJ16: =IF(C16=SUM(D16:AG16),"ok","cek") -> #REF!
A17: 3 | B17: =silabus!#REF! -> #REF! | C17: =silabus!#REF! -> #REF! | L17: 4 | AH17: =(SUM(D17:AG17)/$C$45)*100 -> #REF! | AI17: =AH17+AI16 -> #REF! | AJ17: =IF(C17=SUM(D17:AG17),"ok","cek") -> #REF!
B18: =silabus!#REF! -> #REF! | C18: =silabus!#REF! -> #REF! | M18: 4 | AH18: =(SUM(D18:AG18)/$C$45)*100 -> #REF! | AI18: =AH18+AI17 -> #REF! | AJ18: =IF(C18=SUM(D18:AG18),"ok","cek") -> #REF!
A19: 4 | B19: =silabus!#REF! -> #REF! | C19: =silabus!#REF! -> #REF! | O19: 4 | AH19: =(SUM(D19:AG19)/$C$45)*100 -> #REF! | AI19: =AH19+AI18 -> #REF! | AJ19: =IF(C19=SUM(D19:AG19),"ok","cek") -> #REF!
B20: =silabus!#REF! -> #REF! | C20: =silabus!#REF! -> #REF! | P20: 4 | AH20: =(SUM(D20:AG20)/$C$45)*100 -> #REF! | AI20: =AH20+AI19 -> #REF! | AJ20: =IF(C20=SUM(D20:AG20),"ok","cek") -> #REF!
A21: 5 | B21: =silabus!#REF! -> #REF! | C21: =silabus!#REF! -> #REF! | Q21: 4 | AH21: =(SUM(D21:AG21)/$C$45)*100 -> #REF! | AI21: =AH21+AI20 -> #REF! | AJ21: =IF(C21=SUM(D21:AG21),"ok","cek") -> #REF!
B22: =silabus!#REF! -> #REF! | C22: =silabus!#REF! -> #REF! | R22: 4 | AH22: =(SUM(D22:AG22)/$C$45)*100 -> #REF! | AI22: =AH22+AI21 -> #REF! | AJ22: =IF(C22=SUM(D22:AG22),"ok","cek") -> #REF!
A23: 6 | B23: =silabus!#REF! -> #REF! | C23: =silabus!#REF! -> #REF! | S23: 4 | AH23: =(SUM(D23:AG23)/$C$45)*100 -> #REF! | AI23: =AH23+AI22 -> #REF! | AJ23: =IF(C23=SUM(D23:AG23),"ok","cek") -> #REF!
B24: =silabus!#REF! -> #REF! | C24: =silabus!#REF! -> #REF! | T24: 4 | AH24: =(SUM(D24:AG24)/$C$45)*100 -> #REF! | AI24: =AH24+AI23 -> #REF! | AJ24: =IF(C24=SUM(D24:AG24),"ok","cek") -> #REF!
A25: 7 | B25: =silabus!#REF! -> #REF! | C25: =silabus!#REF! -> #REF! | U25: 4 | AH25: =(SUM(D25:AG25)/$C$45)*100 -> #REF! | AI25: =AH25+AI24 -> #REF! | AJ25: =IF(C25=SUM(D25:AG25),"ok","cek") -> #REF!
B26: =silabus!#REF! -> #REF! | C26: =silabus!#REF! -> #REF! | V26: 4 | AH26: =(SUM(D26:AG26)/$C$45)*100 -> #REF! | AI26: =AH26+AI25 -> #REF! | AJ26: =IF(C26=SUM(D26:AG26),"ok","cek") -> #REF!
A27: 8 | B27: =silabus!#REF! -> #REF! | C27: =silabus!#REF! -> #REF! | X27: 4 | AH27: =(SUM(D27:AG27)/$C$45)*100 -> #REF! | AI27: =AH27+AI26 -> #REF! | AJ27: =IF(C27=SUM(D27:AG27),"ok","cek") -> #REF!
B28: =silabus!#REF! -> #REF! | C28: =silabus!#REF! -> #REF! | Y28: 4 | AH28: =(SUM(D28:AG28)/$C$45)*100 -> #REF! | AI28: =AH28+AI27 -> #REF! | AJ28: =IF(C28=SUM(D28:AG28),"ok","cek") -> #REF!
A29: 9 | B29: =silabus!#REF! -> #REF! | C29: =silabus!#REF! -> #REF! | Z29: 4 | AH29: =(SUM(D29:AG29)/$C$45)*100 -> #REF! | AI29: =AH29+AI28 -> #REF! | AJ29: =IF(C29=SUM(D29:AG29),"ok","cek") -> #REF!
B30: =silabus!#REF! -> #REF! | C30: =silabus!#REF! -> #REF! | AA30: 4 | AH30: =(SUM(D30:AG30)/$C$45)*100 -> #REF! | AI30: =AH30+AI29 -> #REF! | AJ30: =IF(C30=SUM(D30:AG30),"ok","cek") -> #REF!
A31: 10 | B31: =silabus!#REF! -> #REF! | C31: =silabus!#REF! -> #REF! | AH31: =(SUM(D31:AG31)/$C$45)*100 -> #REF! | AI31: =AH31+AI30 -> #REF! | AJ31: =IF(C31=SUM(D31:AG31),"ok","cek") -> #REF!
B32: =silabus!#REF! -> #REF! | C32: =silabus!#REF! -> #REF! | AH32: =(SUM(D32:AG32)/$C$45)*100 -> #REF! | AI32: =AH32+AI31 -> #REF! | AJ32: =IF(C32=SUM(D32:AG32),"ok","cek") -> #REF!
A33: 11 | B33: =silabus!#REF! -> #REF! | C33: =silabus!#REF! -> #REF! | AH33: =(SUM(D33:AG33)/$C$45)*100 -> #REF! | AI33: =AH33+AI32 -> #REF! | AJ33: =IF(C33=SUM(D33:AG33),"ok","cek") -> #REF!
B34: =silabus!#REF! -> #REF! | C34: =silabus!#REF! -> #REF! | AH34: =(SUM(D34:AG34)/$C$45)*100 -> #REF! | AI34: =AH34+AI33 -> #REF! | AJ34: =IF(C34=SUM(D34:AG34),"ok","cek") -> #REF!
A35: 12 | B35: =silabus!#REF! -> #REF! | C35: =silabus!#REF! -> #REF! | AH35: =(SUM(D35:AG35)/$C$45)*100 -> #REF! | AI35: =AH35+AI34 -> #REF! | AJ35: =IF(C35=SUM(D35:AG35),"ok","cek") -> #REF!
B36: =silabus!#REF! -> #REF! | C36: =silabus!#REF! -> #REF! | AH36: =(SUM(D36:AG36)/$C$45)*100 -> #REF! | AI36: =AH36+AI35 -> #REF! | AJ36: =IF(C36=SUM(D36:AG36),"ok","cek") -> #REF!
A37: 13 | B37: =silabus!#REF! -> #REF! | C37: =silabus!#REF! -> #REF! | AH37: =(SUM(D37:AG37)/$C$45)*100 -> #REF! | AI37: =AH37+AI36 -> #REF! | AJ37: =IF(C37=SUM(D37:AG37),"ok","cek") -> #REF!
B38: =silabus!#REF! -> #REF! | C38: =silabus!#REF! -> #REF! | AH38: =(SUM(D38:AG38)/$C$45)*100 -> #REF! | AI38: =AH38+AI37 -> #REF! | AJ38: =IF(C38=SUM(D38:AG38),"ok","cek") -> #REF!
A39: 14 | B39: =silabus!#REF! -> #REF! | C39: =silabus!#REF! -> #REF! | AH39: =(SUM(D39:AG39)/$C$45)*100 -> #REF! | AI39: =AH39+AI38 -> #REF! | AJ39: =IF(C39=SUM(D39:AG39),"ok","cek") -> #REF!
B40: =silabus!#REF! -> #REF! | C40: =silabus!#REF! -> #REF! | AH40: =(SUM(D40:AG40)/$C$45)*100 -> #REF! | AI40: =AH40+AI39 -> #REF! | AJ40: =IF(C40=SUM(D40:AG40),"ok","cek") -> #REF!
A41: 15 | B41: =silabus!#REF! -> #REF! | C41: =silabus!#REF! -> #REF! | AH41: =(SUM(D41:AG41)/$C$45)*100 -> #REF! | AI41: =AH41+AI40 -> #REF! | AJ41: =IF(C41=SUM(D41:AG41),"ok","cek") -> #REF!
B42: =silabus!#REF! -> #REF! | C42: =silabus!#REF! -> #REF! | AH42: =(SUM(D42:AG42)/$C$45)*100 -> #REF! | AI42: =AH42+AI41 -> #REF! | AJ42: =IF(C42=SUM(D42:AG42),"ok","cek") -> #REF!
A43: v | B43: Pengayaan | AB43: x | AH43: =(SUM(D43:AG43)/$C$45)*100 -> #REF! | AI43: =AH43+AI42 -> #REF!
AH44: =(SUM(D44:AG44)/$C$45)*100 -> #REF! | AI44: =AH44+AI43 -> #REF!
B45: JUMLAH | C45: =SUM(C13:C44) -> #REF!
A46: PENCAPAIAN TARGET KURIKULUM | C46: RENC. | D46: =(SUM(D12:H45)/$C$45)*100 -> #REF! | I46: =(SUM(I12:M45)/$C$45)*100 -> #REF! | N46: =(SUM(N12:R45)/$C$45)*100 -> #REF! | S46: =(SUM(S12:W45)/$C$45)*100 -> #REF! | X46: =(SUM(X12:AB45)/$C$45)*100 -> #REF! | AC46: =(SUM(AC12:AG45)/$C$45)*100 -> #REF! | AH46: =SUM(AH13:AH45) -> #REF!
C47: PELAKSANAAN | D47: =D46 -> #REF! | I47: =D47+I46 -> #REF! | N47: =I47+N46 -> #REF! | S47: =N47+S46 -> #REF! | X47: =S47+X46 -> #REF! | AC47: =X47+AC46 -> #REF!
C49: =alokasi!B36 -> Mengetahui : | Y49: =alokasi!E36 -> Barabai, 16 April 2020
C50: =alokasi!B37 -> Kepala SMKN 1 Barabai | Y50: =alokasi!E37 -> Guru Mata Pelajaran
C54: =alokasi!B41 -> Norta Dewi Yuniati, S.P, M.Pd | Y54: =alokasi!E41 -> Abdian Noor, S.Pd
C55: =alokasi!B42 -> NIP. 19710623 200604 2 021 | Y55: =alokasi!E42 -> NIP. 19680906 199412 1 005
A56: PROGRAM SEMESTER
C58: =C3 -> Program Keahlian | K58: : | L58: =L3 -> Bisnis dan Pemasaran
C59: =C4 -> Mata Pelajaran | K59: : | L59: =L4 -> Administrasi Transakssi
C60: =C5 -> Kelas | K60: : | L60: =L5 -> XI BDP 1
C61: =C6 -> Semester | K61: : | L61: =data!C21 -> II (GENAP)
C62: =C7 -> Tahun Pelajaran | K62: : | L62: =L7 -> 2018 / 2019
C63: =C8 -> Jumlah Jam | K63: : | L63: =C100&" jam real" -> #REF!
A65: No | B65: Standar KompetensiI / Kompetensi Dasar | C65: JP | D65: =kalender!A59 -> 0 | I65: =D65+31 -> 31 | N65: =I65+31 -> 62 | S65: =N65+31 -> 93 | X65: =S65+31 -> 124 | AC65: =X65+31 -> 155 | AH65: Pencapaian Target
D66: 1 | E66: 2 | F66: 3 | G66: 4 | H66: 5 | I66: 1 | J66: 2 | K66: 3 | L66: 4 | M66: 5 | N66: 1 | O66: 2 | P66: 3 | Q66: 4 | R66: 5 | S66: 1 | T66: 2 | U66: 3 | V66: 4 | W66: 5 | X66: 1 | Y66: 2 | Z66: 3 | AA66: 4 | AB66: 5 | AC66: 1 | AD66: 2 | AE66: 3 | AF66: 4 | AG66: 5 | AH66: Rencana | AI66: Pelaksanaan
B67: =L59 -> Administrasi Transakssi
A68: 1 | B68: =silabus!#REF! -> #REF! | C68: =silabus!#REF! -> #REF! | AH68: =(SUM(D68:AG68)/$C$45)*100 -> #REF! | AI68: =AH68 -> #REF! | AJ68: =IF(C68=SUM(D68:AG68),"ok","cek") -> #REF!
B69: =silabus!#REF! -> #REF! | C69: =silabus!#REF! -> #REF! | AH69: =(SUM(D69:AG69)/$C$45)*100 -> #REF! | AI69: =AH69+AI68 -> #REF! | AJ69: =IF(C69=SUM(D69:AG69),"ok","cek") -> #REF!
A70: 2 | B70: =silabus!#REF! -> #REF! | C70: =silabus!#REF! -> #REF! | AH70: =(SUM(D70:AG70)/$C$45)*100 -> #REF! | AI70: =AH70+AI69 -> #REF! | AJ70: =IF(C70=SUM(D70:AG70),"ok","cek") -> #REF!
B71: =silabus!#REF! -> #REF! | C71: =silabus!#REF! -> #REF! | AH71: =(SUM(D71:AG71)/$C$45)*100 -> #REF! | AI71: =AH71+AI70 -> #REF! | AJ71: =IF(C71=SUM(D71:AG71),"ok","cek") -> #REF!
A72: 3 | B72: =silabus!#REF! -> #REF! | C72: =silabus!#REF! -> #REF! | AH72: =(SUM(D72:AG72)/$C$45)*100 -> #REF! | AI72: =AH72+AI71 -> #REF! | AJ72: =IF(C72=SUM(D72:AG72),"ok","cek") -> #REF!
B73: =silabus!#REF! -> #REF! | C73: =silabus!#REF! -> #REF! | AH73: =(SUM(D73:AG73)/$C$45)*100 -> #REF! | AI73: =AH73+AI72 -> #REF! | AJ73: =IF(C73=SUM(D73:AG73),"ok","cek") -> #REF!
A74: 4 | B74: =silabus!#REF! -> #REF! | C74: =silabus!#REF! -> #REF! | AH74: =(SUM(D74:AG74)/$C$45)*100 -> #REF! | AI74: =AH74+AI73 -> #REF! | AJ74: =IF(C74=SUM(D74:AG74),"ok","cek") -> #REF!
B75: =silabus!#REF! -> #REF! | C75: =silabus!#REF! -> #REF! | AH75: =(SUM(D75:AG75)/$C$45)*100 -> #REF! | AI75: =AH75+AI74 -> #REF! | AJ75: =IF(C75=SUM(D75:AG75),"ok","cek") -> #REF!
A76: 5 | B76: =silabus!#REF! -> #REF! | C76: =silabus!#REF! -> #REF! | AH76: =(SUM(D76:AG76)/$C$45)*100 -> #REF! | AI76: =AH76+AI75 -> #REF! | AJ76: =IF(C76=SUM(D76:AG76),"ok","cek") -> #REF!
B77: =silabus!#REF! -> #REF! | C77: =silabus!#REF! -> #REF! | AH77: =(SUM(D77:AG77)/$C$45)*100 -> #REF! | AI77: =AH77+AI76 -> #REF! | AJ77: =IF(C77=SUM(D77:AG77),"ok","cek") -> #REF!
A78: 6 | B78: =silabus!#REF! -> #REF! | C78: =silabus!#REF! -> #REF! | AH78: =(SUM(D78:AG78)/$C$45)*100 -> #REF! | AI78: =AH78+AI77 -> #REF! | AJ78: =IF(C78=SUM(D78:AG78),"ok","cek") -> #REF!
B79: =silabus!#REF! -> #REF! | C79: =silabus!#REF! -> #REF! | AH79: =(SUM(D79:AG79)/$C$45)*100 -> #REF! | AI79: =AH79+AI78 -> #REF! | AJ79: =IF(C79=SUM(D79:AG79),"ok","cek") -> #REF!
A80: 7 | B80: =silabus!#REF! -> #REF! | C80: =silabus!#REF! -> #REF! | AH80: =(SUM(D80:AG80)/$C$45)*100 -> #REF! | AI80: =AH80+AI79 -> #REF! | AJ80: =IF(C80=SUM(D80:AG80),"ok","cek") -> #REF!
B81: =silabus!#REF! -> #REF! | C81: =silabus!#REF! -> #REF! | AH81: =(SUM(D81:AG81)/$C$45)*100 -> #REF! | AI81: =AH81+AI80 -> #REF! | AJ81: =IF(C81=SUM(D81:AG81),"ok","cek") -> #REF!
A82: 8 | B82: =silabus!#REF! -> #REF! | C82: =silabus!#REF! -> #REF! | AH82: =(SUM(D82:AG82)/$C$45)*100 -> #REF! | AI82: =AH82+AI81 -> #REF! | AJ82: =IF(C82=SUM(D82:AG82),"ok","cek") -> #REF!
B83: =silabus!#REF! -> #REF! | C83: =silabus!#REF! -> #REF! | AH83: =(SUM(D83:AG83)/$C$45)*100 -> #REF! | AI83: =AH83+AI82 -> #REF! | AJ83: =IF(C83=SUM(D83:AG83),"ok","cek") -> #REF!
A84: 9 | B84: =silabus!#REF! -> #REF! | C84: =silabus!#REF! -> #REF! | AH84: =(SUM(D84:AG84)/$C$45)*100 -> #REF! | AI84: =AH84+AI83 -> #REF! | AJ84: =IF(C84=SUM(D84:AG84),"ok","cek") -> #REF!
B85: =silabus!#REF! -> #REF! | C85: =silabus!#REF! -> #REF! | AH85: =(SUM(D85:AG85)/$C$45)*100 -> #REF! | AI85: =AH85+AI84 -> #REF! | AJ85: =IF(C85=SUM(D85:AG85),"ok","cek") -> #REF!
A86: 10 | B86: =silabus!A37 -> 0 | C86: =silabus!F37 | AH86: =(SUM(D86:AG86)/$C$45)*100 -> #REF! | AI86: =AH86+AI85 -> #REF! | AJ86: =IF(C86=SUM(D86:AG86),"ok","cek") -> cek
B87: =silabus!A38 -> 0 | C87: =silabus!F38 | AH87: =(SUM(D87:AG87)/$C$45)*100 -> #REF! | AI87: =AH87+AI86 -> #REF! | AJ87: =IF(C87=SUM(D87:AG87),"ok","cek") -> cek
A88: 11 | B88: =silabus!A39 -> 0 | C88: =silabus!F39 | AH88: =(SUM(D88:AG88)/$C$45)*100 -> #REF! | AI88: =AH88+AI87 -> #REF! | AJ88: =IF(C88=SUM(D88:AG88),"ok","cek") -> cek
B89: =silabus!A40 -> 0 | C89: =silabus!F40 | AH89: =(SUM(D89:AG89)/$C$45)*100 -> #REF! | AI89: =AH89+AI88 -> #REF! | AJ89: =IF(C89=SUM(D89:AG89),"ok","cek") -> cek
A90: 12 | B90: =silabus!A41 -> 0 | C90: =silabus!F41 | AH90: =(SUM(D90:AG90)/$C$45)*100 -> #REF! | AI90: =AH90+AI89 -> #REF! | AJ90: =IF(C90=SUM(D90:AG90),"ok","cek") -> cek
B91: =silabus!A42 -> 0 | C91: =silabus!F42 | AH91: =(SUM(D91:AG91)/$C$45)*100 -> #REF! | AI91: =AH91+AI90 -> #REF! | AJ91: =IF(C91=SUM(D91:AG91),"ok","cek") -> cek
A92: 13 | B92: =silabus!A43 -> 0 | C92: =silabus!F43 | AH92: =(SUM(D92:AG92)/$C$45)*100 -> #REF! | AI92: =AH92+AI91 -> #REF! | AJ92: =IF(C92=SUM(D92:AG92),"ok","cek") -> cek
B93: =silabus!A44 -> 0 | C93: =silabus!F44 | AH93: =(SUM(D93:AG93)/$C$45)*100 -> #REF! | AI93: =AH93+AI92 -> #REF! | AJ93: =IF(C93=SUM(D93:AG93),"ok","cek") -> cek
A94: 14 | B94: =silabus!A45 -> 0 | C94: =silabus!F45 | AH94: =(SUM(D94:AG94)/$C$45)*100 -> #REF! | AI94: =AH94+AI93 -> #REF! | AJ94: =IF(C94=SUM(D94:AG94),"ok","cek") -> cek
B95: =silabus!A46 -> 0 | C95: =silabus!F46 | AH95: =(SUM(D95:AG95)/$C$45)*100 -> #REF! | AI95: =AH95+AI94 -> #REF! | AJ95: =IF(C95=SUM(D95:AG95),"ok","cek") -> cek
A96: 15 | B96: =silabus!A47 -> 0 | C96: =silabus!F47 | AH96: =(SUM(D96:AG96)/$C$45)*100 -> #REF! | AI96: =AH96+AI95 -> #REF! | AJ96: =IF(C96=SUM(D96:AG96),"ok","cek") -> cek
B97: =silabus!A48 -> 0 | C97: =silabus!F48 | AH97: =(SUM(D97:AG97)/$C$45)*100 -> #REF! | AI97: =AH97+AI96 -> #REF! | AJ97: =IF(C97=SUM(D97:AG97),"ok","cek") -> cek
A98: v | AH98: =(SUM(D98:AG98)/$C$45)*100 -> #REF! | AI98: =AH98+AI97 -> #REF!
AH99: =(SUM(D99:AG99)/$C$45)*100 -> #REF! | AI99: =AH99+AI98 -> #REF!
B100: JUMLAH | C100: =SUM(C68:C99) -> #REF!
A101: PENCAPAIAN TARGET KURIKULUM | C101: RENC. | D101: =(SUM(D67:H100)/$C$45)*100 -> #REF! | I101: =(SUM(I67:M100)/$C$45)*100 -> #REF! | N101: =(SUM(N67:R100)/$C$45)*100 -> #REF! | S101: =(SUM(S67:W100)/$C$45)*100 -> #REF! | X101: =(SUM(X67:AB100)/$C$45)*100 -> #REF! | AC101: =(SUM(AC67:AG100)/$C$45)*100 -> #REF! | AH101: =SUM(AH68:AH100) -> #REF!
C102: PELAKSANAAN | D102: =D101 -> #REF! | I102: =D102+I101 -> #REF! | N102: =I102+N101 -> #REF! | S102: =N102+S101 -> #REF! | X102: =S102+X101 -> #REF! | AC102: =X102+AC101 -> #REF!
C104: =C49 -> Mengetahui : | Y104: =Y49 -> Barabai, 16 April 2020
C105: =C50 -> Kepala SMKN 1 Barabai | Y105: =Y50 -> Guru Mata Pelajaran
C109: =C54 -> Norta Dewi Yuniati, S.P, M.Pd | Y109: =Y54 -> Abdian Noor, S.Pd
C110: =C55 -> NIP. 19710623 200604 2 021 | Y110: =Y55 -> NIP. 19680906 199412 1 005

Sheet jur
A1: JURNAL MENGAJAR
A2: ="SEMESTER "&data!C20&" "&data!C19 -> SEMESTER I (GANJIL) 2018 / 2019
A4: MATA PELAJARAN | C4: : | D4: =data!C5 -> Administrasi Transakssi
A5: KELAS | C5: : | D5: =data!C6&" "&data!D6 -> XI BDP 1
A7: No | B7: Tanggal | C7: Pert. Ke | D7: Uraian Kegiatan (SK-KD) | F7: Ketercapaian | H7: Tindak Lanjut | I7: Presensi | M7: Keterangan
D8: Rencana | E8: Pelaksanaan | F8: Ya | G8: Tidak | I8: Nama Siswa | J8: S | K8: I | L8: A | N8: =data!D7 -> 7 | O8: =data!D8 -> 7
A9: 1 | B9: =data!C7 -> 43937 | C9: 1 | D9: =silabus!A35 -> 3.10 Menganalisis dokumenj transaksi penjualan | E9: =D9 -> 3.10 Menganalisis dokumenj transaksi penjualan
D10: =silabus!A36 -> 4.10 Membuat administrasi penjualan | E10: =D10 -> 4.10 Membuat administrasi penjualan
A12: 2 | B12: =B9+$N$8 -> 43944 | C12: 2 | D12: 3.1 Memahami jenis bahan teknik | E12: =D12 -> 3.1 Memahami jenis bahan teknik
D13: 4.1 Memilah jenis bahan teknik | E13: =D13 -> 4.1 Memilah jenis bahan teknik
A15: 3 | B15: =B12+$O$8 -> 43951 | C15: 3 | D15: 3.2 Memahami prinsip pengolahan bahan logam | E15: =D15 -> 3.2 Memahami prinsip pengolahan bahan logam
D16: 4.2 Mengidentifikasi pengolahan bahan logam | E16: =D16 -> 4.2 Mengidentifikasi pengolahan bahan logam
A18: 4 | B18: =B15+$N$8 -> 43958 | C18: 4 | D18: 3.2 Memahami prinsip pengolahan bahan logam | E18: =D18 -> 3.2 Memahami prinsip pengolahan bahan logam
D19: 4.2 Mengidentifikasi pengolahan bahan logam | E19: =D19 -> 4.2 Mengidentifikasi pengolahan bahan logam
A21: 5 | B21: =B18+$O$8 -> 43965 | C21: 5 | D21: Hari Kemerdekaan | E21: =D21 -> Hari Kemerdekaan
D22: Hari Kemerdekaan | E22: =D22 -> Hari Kemerdekaan
A24: 6 | B24: =B21+$N$8 -> 43972 | C24: 6 | D24: 3.3 Memahami prinsip pengolahan bahan non logam. | E24: =D24 -> 3.3 Memahami prinsip pengolahan bahan non logam.
D25: 4.3 Mengidentifikasi pengolahan bahan non logam. | E25: =D25 -> 4.3 Mengidentifikasi pengolahan bahan non logam.
A27: 7 | B27: =B24+$O$8 -> 43979 | C27: 7 | D27: 3.3 Memahami prinsip pengolahan bahan non logam. | E27: =D27 -> 3.3 Memahami prinsip pengolahan bahan non logam.
D28: 4.3 Mengidentifikasi pengolahan bahan non logam. | E28: =D28 -> 4.3 Mengidentifikasi pengolahan bahan non logam.
A30: 8 | B30: =B27+$N$8 -> 43986 | C30: 8 | D30: 3.4 Memahami persyaratan perlakuan panas logam. | E30: =D30 -> 3.4 Memahami persyaratan perlakuan panas logam.
D31: 4.4 Mengidentifikasi perlakuan panas logam | E31: =D31 -> 4.4 Mengidentifikasi perlakuan panas logam
A33: 9 | B33: =B30+$O$8 -> 43993 | C33: 9 | D33: 3.4 Memahami persyaratan perlakuan panas logam. | E33: =D33 -> 3.4 Memahami persyaratan perlakuan panas logam.
D34: 4.4 Mengidentifikasi perlakuan panas logam | E34: =D34 -> 4.4 Mengidentifikasi perlakuan panas logam
A36: 10 | B36: =B33+$N$8 -> 44000 | C36: 10 | D36: 3.5 Menerapkan teknik pengujian logam (ferrous dan non ferrous) | E36: =D36 -> 3.5 Menerapkan teknik pengujian logam (ferrous dan non ferrous)
D37: 4.5 Melakukan pengujian logam (ferrous dan non ferrous) | E37: =D37 -> 4.5 Melakukan pengujian logam (ferrous dan non ferrous)
A39: 11 | B39: =B36+$O$8 -> 44007 | C39: 11 | D39: 3.5 Menerapkan teknik pengujian logam (ferrous dan non ferrous) | E39: =D39 -> 3.5 Menerapkan teknik pengujian logam (ferrous dan non ferrous)
D40: 4.5 Melakukan pengujian logam (ferrous dan non ferrous) | E40: =D40 -> 4.5 Melakukan pengujian logam (ferrous dan non ferrous)
A42: 12 | B42: =B39+$N$8 -> 44014 | C42: 12 | D42: 3.6 Menerapkan teknik penanganan material | E42: =D42 -> 3.6 Menerapkan teknik penanganan material
D43: 4.6 Melakukan penanganan material | E43: =D43 -> 4.6 Melakukan penanganan material
A45: 13 | B45: =B42+$O$8 -> 44021 | C45: 13 | D45: 3.6 Menerapkan teknik penanganan material | E45: =D45 -> 3.6 Menerapkan teknik penanganan material
D46: 4.6 Melakukan penanganan material | E46: =D46 -> 4.6 Melakukan penanganan material
A48: 14 | B48: =B45+$N$8 -> 44028 | C48: 14 | D48: 3.7 Memahami prinsip kerja mesin tenaga fluida | E48: =D48 -> 3.7 Memahami prinsip kerja mesin tenaga fluida
D49: 4.7 Mengidentifikasi kerja mesin tenaga fluida | E49: =D49 -> 4.7 Mengidentifikasi kerja mesin tenaga fluida
A51: 15 | B51: =B48+$O$8 -> 44035 | C51: 15 | D51: 3.7 Memahami prinsip kerja mesin tenaga fluida | E51: =D51 -> 3.7 Memahami prinsip kerja mesin tenaga fluida
D52: 4.7 Mengidentifikasi kerja mesin tenaga fluida | E52: =D52 -> 4.7 Mengidentifikasi kerja mesin tenaga fluida
A54: 16 | B54: =B51+$N$8 -> 44042 | C54: 16 | D54: 3.8 Memahami dasar-dasar kelistrikan | E54: =D54 -> 3.8 Memahami dasar-dasar kelistrikan
D55: 4.8 Mempraktikkan dasar-dasar kelistrikan | E55: =D55 -> 4.8 Mempraktikkan dasar-dasar kelistrikan
A57: 17 | B57: =B54+$O$8 -> 44049 | C57: 17 | D57: 3.8 Memahami dasar-dasar kelistrikan | E57: =D57 -> 3.8 Memahami dasar-dasar kelistrikan
D58: 4.8 Mempraktikkan dasar-dasar kelistrikan | E58: =D58 -> 4.8 Mempraktikkan dasar-dasar kelistrikan
A60: 18 | B60: =B57+$N$8 -> 44056 | C60: 18 | D60: 3.9 Menganalisis sistem kontrol | E60: =D60 -> 3.9 Menganalisis sistem kontrol
D61: 4.9 Menunjukkan sistem kontrol | E61: =D61 -> 4.9 Menunjukkan sistem kontrol
A63: 19 | B63: =B60+$O$8 -> 44063 | C63: 19 | D63: 3.9 Menganalisis sistem kontrol | E63: =D63 -> 3.9 Menganalisis sistem kontrol
D64: 4.9 Menunjukkan sistem kontrol | E64: =D64 -> 4.9 Menunjukkan sistem kontrol
A66: 20 | B66: =B63+$N$8 -> 44070 | C66: 20 | D66: Pengayaan | E66: =D66 -> Pengayaan
E67: =D67 -> 0
A69: 21 | B69: =B66+$O$8 -> 44077 | C69: 21 | D69: UAS | E69: =D69 -> UAS
E70: =D70 -> 0
A72: 22 | B72: =B69+$N$8 -> 44084 | C72: 22 | E72: =D72 -> 0
E73: =D73 -> 0
A75: 23 | B75: =B72+$O$8 -> 44091 | C75: 23 | E75: =D75 -> 0
E76: =D76 -> 0
A78: 24 | B78: =B75+$N$8 -> 44098 | C78: 24 | E78: =D78 -> 0
E79: =D79 -> 0
A81: 25 | B81: =B78+$O$8 -> 44105 | C81: 25 | E81: =D81 -> 0
E82: =D82 -> 0
A84: 26 | B84: =B81+$N$8 -> 44112 | C84: 26 | E84: =D84 -> 0
E85: =D85 -> 0
A87: 27 | B87: =B84+$O$8 -> 44119 | C87: 27 | E87: =D87 -> 0
E88: =D88 -> 0
A90: 28 | B90: =B87+$N$8 -> 44126 | C90: 28 | E90: =D90 -> 0
E91: =D91 -> 0
A93: 29 | B93: =B90+$O$8 -> 44133 | C93: 29 | E93: =D93 -> 0
E94: =D94 -> 0
A96: 30 | B96: =B93+$N$8 -> 44140 | C96: 30 | E96: =D96 -> 0
E97: =D97 -> 0
A99: 31 | B99: =B96+$O$8 -> 44147 | C99: 31 | E99: =D99 -> 0
E100: =D100 -> 0
A102: 32 | B102: =B99+$N$8 -> 44154 | C102: 32 | E102: =D102 -> 0
E103: =D103 -> 0
A105: 33 | B105: =B102+$O$8 -> 44161 | C105: 33 | E105: =D105 -> 0
E106: =D106 -> 0
A108: 34 | B108: =B105+$N$8 -> 44168 | C108: 34 | E108: =D108 -> 0
E109: =D109 -> 0
A111: 35 | B111: =B108+$O$8 -> 44175 | C111: 35 | E111: =D111 -> 0
E112: =D112 -> 0
A114: 36 | B114: =B111+$N$8 -> 44182 | C114: 36 | E114: =D114 -> 0
E115: =D115 -> 0
A117: 37 | B117: =B114+$O$8 -> 44189 | C117: 37 | E117: =D117 -> 0
E118: =D118 -> 0
A120: 38 | B120: =B117+$N$8 -> 44196 | C120: 38 | E120: =D120 -> 0
E121: =D121 -> 0
A123: 39 | B123: =B120+$O$8 -> 44203 | C123: 39 | E123: =D123 -> 0
E124: =D124 -> 0
A126: 40 | B126: =B123+$N$8 -> 44210 | C126: 40 | E126: =D126 -> 0
E127: =D127 -> 0
H130: Kandangan,
C131: Kepala SMKN 2 Kandangan | H131: Guru Mata Pelajaran
C135: Ashadi Rahmat, M.Pd. | H135: Halim Darmako, S.Pd.
C136: NIP. 19681223 199702 1 003 | H136: NIP. 19820306 201101 1 003
A137: JURNAL MENGAJAR
A138: ="SEMESTER "&data!C21&" "&data!C19 -> SEMESTER II (GENAP) 2018 / 2019
A140: MATA PELAJARAN | C140: : | D140: =D4 -> Administrasi Transakssi
A141: KELAS | C141: : | D141: =D5 -> XI BDP 1
A143: No | B143: Tanggal | C143: Pert. Ke | D143: Uraian Kegiatan (SK-KD) | F143: Ketercapaian | H143: Tindak Lanjut | I143: Presensi | M143: Keterangan
D144: Rencana | E144: Pelaksanaan | F144: Ya | G144: Tidak | I144: Nama Siswa | J144: S | K144: I | L144: A | N144: =data!D9 -> 7 | O144: =data!D10 -> 7
A145: 1 | B145: =data!C9 -> 43479 | C145: 1 | D145: =silabus!#REF! -> #REF! | E145: =D145 -> #REF!
D146: =silabus!#REF! -> #REF! | E146: =D146 -> #REF!
A148: 2 | B148: =B145+$N$144 -> 43486 | C148: 2 | E148: =D148 -> 0
E149: =D149 -> 0
...

Sheet pd
A1: DATA PESERTA DIDIK
B2: 1 | C2: 2
A3: NO | B3: NIS / NISN | C3: NAMA PESERTA DIDIK
A6: 1 | B6: 5469 | C6: AHMAD JUNAIDI | D6: x | E6: x
A7: 2 | B7: 5470 | C7: AHMAD RIYUDHA
A8: 3 | B8: 5471 | C8: AHMAD SAYUDINOR
A9: 4 | B9: 5472 | C9: HILMAN SYA'FEI
A10: 5 | B10: 5473 | C10: JAMALUDDIN
A11: 6 | B11: 5474 | C11: M. ADITYA RYANDI
A12: 7 | B12: 5475 | C12: M. ZAINAL AKBAR | D12: x | E12: x
A13: 8 | B13: 5476 | C13: MAULIDI | D13: x | E13: x
A14: 9 | B14: 5477 | C14: MUHAMMAD AGUS RIFANI | D14: x | E14: x
A15: 10 | B15: 5478 | C15: MUHAMMAD AKBAR
A16: 11 | B16: 5479 | C16: MUHAMMAD ALPIANOR | D16: x | E16: x
A17: 12 | B17: 5480 | C17: MUHAMMAD ANDRIAN
A18: 13 | B18: 5481 | C18: MUHAMMAD AZIDAN | D18: x | E18: x
A19: 14 | B19: 5482 | C19: MUHAMMAD FAHRIANSYAH | D19: x | E19: x
A20: 15 | B20: 5483 | C20: MUHAMMAD FAUZAN | D20: x | E20: x
A21: 16 | B21: 5484 | C21: MUHAMMAD FAZAL HAFIZH
A22: 17 | B22: 5485 | C22: MUHAMMAD FIKRI | D22: x | E22: x
A23: 18 | B23: 5486 | C23: MUHAMMAD IHWAN
A24: 19 | B24: 5487 | C24: MUHAMMAD IQBAL FIRDAUS | D24: x | E24: x
A25: 20 | B25: 5488 | C25: MUHAMMAD IZZA ARRAFI
A26: 21 | B26: 5489 | C26: MUHAMMAD MAHDI
A27: 22 | B27: 5490 | C27: MUHAMMAD NAHDY RAMADHAN | D27: x | E27: x
A28: 23 | B28: 5491 | C28: MUHAMMAD NUR FADHILAH | D28: x | E28: x
A29: 24 | B29: 5492 | C29: MUHAMMAD RAHMAN | D29: x | E29: x
A30: 25 | B30: 5493 | C30: MUHAMMAD RAIHAN | D30: x | E30: x
A31: 26 | B31: 5494 | C31: MUHAMMAD RAYHAN PARIZAN
A32: 27 | B32: 5495 | C32: MUHAMMAD RIFKI | D32: x | E32: x
A33: 28 | B33: 5496 | C33: MUHAMMAD RINALDI MAULANA
A34: 29 | B34: 5497 | C34: MUHAMMAD RIZAL | D34: x | E34: x
A35: 30 | B35: 5498 | C35: MUHAMMAD RUDI
A36: 31 | B36: 5499 | C36: MUHAMMAD SARBANI | D36: x | E36: x
A37: 32 | B37: 5500 | C37: MUHAMMAD SYIFA ALIF NUGRAHA
A38: 33 | B38: 5501 | C38: MUHAMMAD YUSUF
A39: 34 | B39: 5502 | C39: OSAMAH NASRULLAH
A40: 35 | B40: 5503 | C40: RUDISA | D40: x | E40: x
A41: 36 | B41: 5504 | C41: ZAINAL ILMI
A42: 37
A43: 38
A44: 39
A45: 40

Sheet hdr
A1: DAFTAR PRESENSI
C3: Mata Pelajaran | D3: =kd!B3 -> : Administrasi Transakssi | AR3: Tahun Pelajaran | AW3: =kd!G3 -> : 2018 / 2019
C4: Semester | D4: =kd!B4 -> : I (GANJIL) | AR4: Kelas | AW4: =": "&data!C6&" "&data!D6 -> : XI BDP 1
A6: NO | B6: NIS | C6: NAMA SISWA | D6: PRESENSI TATAP MUKA | AR6: JUMLAH | AW6: TOTAL | AX6: %
D7: 1 | E7: 2 | F7: 3 | G7: 4 | H7: 5 | I7: 6 | J7: 7 | K7: 8 | L7: 9 | M7: 10 | N7: 11 | O7: 12 | P7: 13 | Q7: 14 | R7: 15 | S7: 16 | T7: 17 | U7: 18 | V7: 19 | W7: 20 | X7: 21 | Y7: 22 | Z7: 23 | AA7: 24 | AB7: 25 | AC7: 26 | AD7: 27 | AE7: 28 | AF7: 29 | AG7: 30 | AH7: 31 | AI7: 32 | AJ7: 33 | AK7: 34 | AL7: 35 | AM7: 36 | AN7: 37 | AO7: 38 | AP7: 39 | AQ7: 40 | AR7: H | AS7: T | AT7: S | AU7: I | AV7: A | AX7: HADIR
A8: 1 | B8: =pd!B6 -> 5469 | C8: =pd!C6 -> AHMAD JUNAIDI | D8: H | E8: H | F8: H | G8: H | H8: H | I8: H | J8: H | K8: H | L8: H | M8: H | N8: H | O8: H | P8: H | Q8: H | R8: H | S8: H | T8: H | U8: H | V8: H | W8: H | AR8: =COUNTIF(D8:AQ8,"H") -> 20 | AS8: =COUNTIF(D8:AQ8,"T") -> 0 | AT8: =COUNTIF(D8:AQ8,"S") -> 0 | AU8: =COUNTIF(D8:AQ8,"I") -> 0 | AV8: =COUNTIF(D8:AQ8,"A") -> 0 | AW8: =SUM(AR8:AV8) -> 20 | AX8: =(AR8+AS8)/SUM(AR8:AV8) -> 1 | CW8: H
A9: 2 | B9: =pd!B7 -> 5470 | C9: =pd!C7 -> AHMAD RIYUDHA | D9: H | E9: H | F9: H | G9: H | H9: H | I9: H | J9: H | K9: H | L9: H | M9: H | N9: H | O9: H | P9: H | Q9: H | R9: H | S9: H | T9: H | U9: H | V9: H | W9: H | AR9: =COUNTIF(D9:AQ9,"H") -> 20 | AS9: =COUNTIF(D9:AQ9,"T") -> 0 | AT9: =COUNTIF(D9:AQ9,"S") -> 0 | AU9: =COUNTIF(D9:AQ9,"I") -> 0 | AV9: =COUNTIF(D9:AQ9,"A") -> 0 | AW9: =SUM(AR9:AV9) -> 20 | AX9: =(AR9+AS9)/SUM(AR9:AV9) -> 1 | CW9: T
A10: 3 | B10: =pd!B8 -> 5471 | C10: =pd!C8 -> AHMAD SAYUDINOR | D10: H | E10: H | F10: H | G10: H | H10: H | I10: H | J10: H | K10: H | L10: H | M10: H | N10: A | O10: H | P10: H | Q10: H | R10: H | S10: H | T10: H | U10: H | V10: H | W10: H | AR10: =COUNTIF(D10:AQ10,"H") -> 19 | AS10: =COUNTIF(D10:AQ10,"T") -> 0 | AT10: =COUNTIF(D10:AQ10,"S") -> 0 | AU10: =COUNTIF(D10:AQ10,"I") -> 0 | AV10: =COUNTIF(D10:AQ10,"A") -> 1 | AW10: =SUM(AR10:AV10) -> 20 | AX10: =(AR10+AS10)/SUM(AR10:AV10) -> 0.95 | CW10: S
A11: 4 | B11: =pd!B9 -> 5472 | C11: =pd!C9 -> HILMAN SYA'FEI | D11: H | E11: H | F11: H | G11: H | H11: H | I11: H | J11: H | K11: H | L11: H | M11: H | N11: H | O11: H | P11: H | Q11: H | R11: H | S11: H | T11: H | U11: H | V11: H | W11: H | AR11: =COUNTIF(D11:AQ11,"H") -> 20 | AS11: =COUNTIF(D11:AQ11,"T") -> 0 | AT11: =COUNTIF(D11:AQ11,"S") -> 0 | AU11: =COUNTIF(D11:AQ11,"I") -> 0 | AV11: =COUNTIF(D11:AQ11,"A") -> 0 | AW11: =SUM(AR11:AV11) -> 20 | AX11: =(AR11+AS11)/SUM(AR11:AV11) -> 1 | CW11: I
A12: 5 | B12: =pd!B10 -> 5473 | C12: =pd!C10 -> JAMALUDDIN | D12: H | E12: H | F12: H | G12: H | H12: H | I12: H | J12: H | K12: H | L12: H | M12: H | N12: H | O12: H | P12: H | Q12: H | R12: H | S12: H | T12: H | U12: H | V12: H | W12: H | AR12: =COUNTIF(D12:AQ12,"H") -> 20 | AS12: =COUNTIF(D12:AQ12,"T") -> 0 | AT12: =COUNTIF(D12:AQ12,"S") -> 0 | AU12: =COUNTIF(D12:AQ12,"I") -> 0 | AV12: =COUNTIF(D12:AQ12,"A") -> 0 | AW12: =SUM(AR12:AV12) -> 20 | AX12: =(AR12+AS12)/SUM(AR12:AV12) -> 1 | CW12: A
A13: 6 | B13: =pd!B11 -> 5474 | C13: =pd!C11 -> M. ADITYA RYANDI | D13: H | E13: H | F13: H | G13: H | H13: H | I13: H | J13: H | K13: H | L13: H | M13: H | N13: H | O13: H | P13: H | Q13: H | R13: H | S13: H | T13: H | U13: H | V13: H | W13: H | AR13: =COUNTIF(D13:AQ13,"H") -> 20 | AS13: =COUNTIF(D13:AQ13,"T") -> 0 | AT13: =COUNTIF(D13:AQ13,"S") -> 0 | AU13: =COUNTIF(D13:AQ13,"I") -> 0 | AV13: =COUNTIF(D13:AQ13,"A") -> 0 | AW13: =SUM(AR13:AV13) -> 20 | AX13: =(AR13+AS13)/SUM(AR13:AV13) -> 1
A14: 7 | B14: =pd!B12 -> 5475 | C14: =pd!C12 -> M. ZAINAL AKBAR | D14: H | E14: H | F14: H | G14: H | H14: H | I14: H | J14: H | K14: H | L14: H | M14: H | N14: H | O14: H | P14: H | Q14: H | R14: H | S14: H | T14: H | U14: H | V14: H | W14: H | AR14: =COUNTIF(D14:AQ14,"H") -> 20 | AS14: =COUNTIF(D14:AQ14,"T") -> 0 | AT14: =COUNTIF(D14:AQ14,"S") -> 0 | AU14: =COUNTIF(D14:AQ14,"I") -> 0 | AV14: =COUNTIF(D14:AQ14,"A") -> 0 | AW14: =SUM(AR14:AV14) -> 20 | AX14: =(AR14+AS14)/SUM(AR14:AV14) -> 1
A15: 8 | B15: =pd!B13 -> 5476 | C15: =pd!C13 -> MAULIDI | D15: H | E15: H | F15: H | G15: H | H15: H | I15: H | J15: H | K15: H | L15: H | M15: I | N15: H | O15: H | P15: H | Q15: H | R15: H | S15: H | T15: H | U15: H | V15: H | W15: H | AR15: =COUNTIF(D15:AQ15,"H") -> 19 | AS15: =COUNTIF(D15:AQ15,"T") -> 0 | AT15: =COUNTIF(D15:AQ15,"S") -> 0 | AU15: =COUNTIF(D15:AQ15,"I") -> 1 | AV15: =COUNTIF(D15:AQ15,"A") -> 0 | AW15: =SUM(AR15:AV15) -> 20 | AX15: =(AR15+AS15)/SUM(AR15:AV15) -> 0.95
A16: 9 | B16: =pd!B14 -> 5477 | C16: =pd!C14 -> MUHAMMAD AGUS RIFANI | D16: H | E16: H | F16: H | G16: H | H16: H | I16: H | J16: H | K16: H | L16: H | M16: H | N16: H | O16: H | P16: H | Q16: H | R16: H | S16: H | T16: H | U16: H | V16: H | W16: H | AR16: =COUNTIF(D16:AQ16,"H") -> 20 | AS16: =COUNTIF(D16:AQ16,"T") -> 0 | AT16: =COUNTIF(D16:AQ16,"S") -> 0 | AU16: =COUNTIF(D16:AQ16,"I") -> 0 | AV16: =COUNTIF(D16:AQ16,"A") -> 0 | AW16: =SUM(AR16:AV16) -> 20 | AX16: =(AR16+AS16)/SUM(AR16:AV16) -> 1
A17: 10 | B17: =pd!B15 -> 5478 | C17: =pd!C15 -> MUHAMMAD AKBAR | D17: H | E17: H | F17: H | G17: H | H17: H | I17: H | J17: H | K17: H | L17: H | M17: H | N17: H | O17: H | P17: H | Q17: H | R17: H | S17: H | T17: H | U17: H | V17: H | W17: H | AR17: =COUNTIF(D17:AQ17,"H") -> 20 | AS17: =COUNTIF(D17:AQ17,"T") -> 0 | AT17: =COUNTIF(D17:AQ17,"S") -> 0 | AU17: =COUNTIF(D17:AQ17,"I") -> 0 | AV17: =COUNTIF(D17:AQ17,"A") -> 0 | AW17: =SUM(AR17:AV17) -> 20 | AX17: =(AR17+AS17)/SUM(AR17:AV17) -> 1
A18: 11 | B18: =pd!B16 -> 5479 | C18: =pd!C16 -> MUHAMMAD ALPIANOR | D18: H | E18: H | F18: H | G18: H | H18: H | I18: H | J18: H | K18: S | L18: H | M18: H | N18: H | O18: H | P18: H | Q18: H | R18: H | S18: H | T18: H | U18: H | V18: H | W18: H | AR18: =COUNTIF(D18:AQ18,"H") -> 19 | AS18: =COUNTIF(D18:AQ18,"T") -> 0 | AT18: =COUNTIF(D18:AQ18,"S") -> 1 | AU18: =COUNTIF(D18:AQ18,"I") -> 0 | AV18: =COUNTIF(D18:AQ18,"A") -> 0 | AW18: =SUM(AR18:AV18) -> 20 | AX18: =(AR18+AS18)/SUM(AR18:AV18) -> 0.95
A19: 12 | B19: =pd!B17 -> 5480 | C19: =pd!C17 -> MUHAMMAD ANDRIAN | D19: H | E19: H | F19: H | G19: H | H19: H | I19: H | J19: H | K19: H | L19: H | M19: H | N19: H | O19: H | P19: H | Q19: H | R19: H | S19: H | T19: H | U19: H | V19: H | W19: H | AR19: =COUNTIF(D19:AQ19,"H") -> 20 | AS19: =COUNTIF(D19:AQ19,"T") -> 0 | AT19: =COUNTIF(D19:AQ19,"S") -> 0 | AU19: =COUNTIF(D19:AQ19,"I") -> 0 | AV19: =COUNTIF(D19:AQ19,"A") -> 0 | AW19: =SUM(AR19:AV19) -> 20 | AX19: =(AR19+AS19)/SUM(AR19:AV19) -> 1
A20: 13 | B20: =pd!B18 -> 5481 | C20: =pd!C18 -> MUHAMMAD AZIDAN | D20: H | E20: H | F20: H | G20: H | H20: H | I20: H | J20: H | K20: H | L20: H | M20: H | N20: H | O20: H | P20: H | Q20: H | R20: H | S20: H | T20: H | U20: H | V20: H | W20: H | AR20: =COUNTIF(D20:AQ20,"H") -> 20 | AS20: =COUNTIF(D20:AQ20,"T") -> 0 | AT20: =COUNTIF(D20:AQ20,"S") -> 0 | AU20: =COUNTIF(D20:AQ20,"I") -> 0 | AV20: =COUNTIF(D20:AQ20,"A") -> 0 | AW20: =SUM(AR20:AV20) -> 20 | AX20: =(AR20+AS20)/SUM(AR20:AV20) -> 1
A21: 14 | B21: =pd!B19 -> 5482 | C21: =pd!C19 -> MUHAMMAD FAHRIANSYAH | D21: H | E21: H | F21: H | G21: H | H21: H | I21: H | J21: H | K21: H | L21: H | M21: H | N21: H | O21: H | P21: H | Q21: H | R21: H | S21: H | T21: H | U21: H | V21: H | W21: H | AR21: =COUNTIF(D21:AQ21,"H") -> 20 | AS21: =COUNTIF(D21:AQ21,"T") -> 0 | AT21: =COUNTIF(D21:AQ21,"S") -> 0 | AU21: =COUNTIF(D21:AQ21,"I") -> 0 | AV21: =COUNTIF(D21:AQ21,"A") -> 0 | AW21: =SUM(AR21:AV21) -> 20 | AX21: =(AR21+AS21)/SUM(AR21:AV21) -> 1
A22: 15 | B22: =pd!B20 -> 5483 | C22: =pd!C20 -> MUHAMMAD FAUZAN | D22: H | E22: H | F22: H | G22: H | H22: H | I22: H | J22: H | K22: H | L22: H | M22: H | N22: H | O22: H | P22: H | Q22: H | R22: H | S22: H | T22: H | U22: H | V22: H | W22: H | AR22: =COUNTIF(D22:AQ22,"H") -> 20 | AS22: =COUNTIF(D22:AQ22,"T") -> 0 | AT22: =COUNTIF(D22:AQ22,"S") -> 0 | AU22: =COUNTIF(D22:AQ22,"I") -> 0 | AV22: =COUNTIF(D22:AQ22,"A") -> 0 | AW22: =SUM(AR22:AV22) -> 20 | AX22: =(AR22+AS22)/SUM(AR22:AV22) -> 1
A23: 16 | B23: =pd!B21 -> 5484 | C23: =pd!C21 -> MUHAMMAD FAZAL HAFIZH | D23: H | E23: H | F23: H | G23: H | H23: H | I23: H | J23: H | K23: H | L23: H | M23: H | N23: H | O23: A | P23: H | Q23: H | R23: H | S23: H | T23: H | U23: H | V23: H | W23: H | AR23: =COUNTIF(D23:AQ23,"H") -> 19 | AS23: =COUNTIF(D23:AQ23,"T") -> 0 | AT23: =COUNTIF(D23:AQ23,"S") -> 0 | AU23: =COUNTIF(D23:AQ23,"I") -> 0 | AV23: =COUNTIF(D23:AQ23,"A") -> 1 | AW23: =SUM(AR23:AV23) -> 20 | AX23: =(AR23+AS23)/SUM(AR23:AV23) -> 0.95
A24: 17 | B24: =pd!B22 -> 5485 | C24: =pd!C22 -> MUHAMMAD FIKRI | D24: H | E24: H | F24: H | G24: H | H24: H | I24: H | J24: H | K24: H | L24: H | M24: H | N24: H | O24: H | P24: H | Q24: H | R24: H | S24: H | T24: H | U24: H | V24: H | W24: H | AR24: =COUNTIF(D24:AQ24,"H") -> 20 | AS24: =COUNTIF(D24:AQ24,"T") -> 0 | AT24: =COUNTIF(D24:AQ24,"S") -> 0 | AU24: =COUNTIF(D24:AQ24,"I") -> 0 | AV24: =COUNTIF(D24:AQ24,"A") -> 0 | AW24: =SUM(AR24:AV24) -> 20 | AX24: =(AR24+AS24)/SUM(AR24:AV24) -> 1
... A43: 36 | B43: =pd!B41 -> 5504 | C43: =pd!C41 -> ZAINAL ILMI | D43: H | E43: H | F43: H | G43: H | H43: H | I43: H | J43: H | K43: H | L43: H | M43: H | N43: A | O43: H | P43: H | Q43: H | R43: H | S43: H | T43: H | U43: H | V43: H | W43: H | AR43: =COUNTIF(D43:AQ43,"H") -> 19 | AS43: =COUNTIF(D43:AQ43,"T") -> 0 | AT43: =COUNTIF(D43:AQ43,"S") -> 0 | AU43: =COUNTIF(D43:AQ43,"I") -> 0 | AV43: =COUNTIF(D43:AQ43,"A") -> 1 | AW43: =SUM(AR43:AV43) -> 20 | AX43: =(AR43+AS43)/SUM(AR43:AV43) -> 0.95
A44: 37 | B44: =pd!B42 -> 0 | C44: =pd!C42 -> 0 | AR44: =COUNTIF(D44:AQ44,"H") -> 0 | AS44: =COUNTIF(D44:AQ44,"T") -> 0 | AT44: =COUNTIF(D44:AQ44,"S") -> 0 | AU44: =COUNTIF(D44:AQ44,"I") -> 0 | AV44: =COUNTIF(D44:AQ44,"A") -> 0 | AW44: =SUM(AR44:AV44) -> 0 | AX44: =(AR44+AS44)/SUM(AR44:AV44) -> #DIV/0!
A45: 38 | B45: =pd!B43 -> 0 | C45: =pd!C43 -> 0 | AR45: =COUNTIF(D45:AQ45,"H") -> 0 | AS45: =COUNTIF(D45:AQ45,"T") -> 0 | AT45: =COUNTIF(D45:AQ45,"S") -> 0 | AU45: =COUNTIF(D45:AQ45,"I") -> 0 | AV45: =COUNTIF(D45:AQ45,"A") -> 0 | AW45: =SUM(AR45:AV45) -> 0 | AX45: =(AR45+AS45)/SUM(AR45:AV45) -> #DIV/0!
A46: 39 | B46: =pd!B44 -> 0 | C46: =pd!C44 -> 0 | AR46: =COUNTIF(D46:AQ46,"H") -> 0 | AS46: =COUNTIF(D46:AQ46,"T") -> 0 | AT46: =COUNTIF(D46:AQ46,"S") -> 0 | AU46: =COUNTIF(D46:AQ46,"I") -> 0 | AV46: =COUNTIF(D46:AQ46,"A") -> 0 | AW46: =SUM(AR46:AV46) -> 0 | AX46: =(AR46+AS46)/SUM(AR46:AV46) -> #DIV/0!
A47: 40 | B47: =pd!B45 -> 0 | C47: =pd!C45 -> 0 | AR47: =COUNTIF(D47:AQ47,"H") -> 0 | AS47: =COUNTIF(D47:AQ47,"T") -> 0 | AT47: =COUNTIF(D47:AQ47,"S") -> 0 | AU47: =COUNTIF(D47:AQ47,"I") -> 0 | AV47: =COUNTIF(D47:AQ47,"A") -> 0 | AW47: =SUM(AR47:AV47) -> 0 | AX47: =(AR47+AS47)/SUM(AR47:AV47) -> #DIV/0!
C49: Tanggal Pelaksanaan | D49: =jur!B9 -> 43937 | E49: =$D$50+D49 -> 43944 | F49: =E49+$E$50 -> 43951 | G49: =$D$50+F49 -> 43958 | H49: =G49+$E$50 -> 43965 | I49: =$D$50+H49 -> 43972 | J49: =I49+$E$50 -> 43979 | K49: =$D$50+J49 -> 43986 | L49: =K49+$E$50 -> 43993 | M49: =$D$50+L49 -> 44000 | N49: =M49+$E$50 -> 44007 | O49: =$D$50+N49 -> 44014 | P49: =O49+$E$50 -> 44021 | Q49: =$D$50+P49 -> 44028 | R49: =Q49+$E$50 -> 44035 | S49: =$D$50+R49 -> 44042 | T49: =S49+$E$50 -> 44049 | U49: =$D$50+T49 -> 44056 | V49: =U49+$E$50 -> 44063 | W49: =$D$50+V49 -> 44070 | X49: =W49+$E$50 -> 44077 | Y49: =$D$50+X49 -> 44084 | Z49: =Y49+$E$50 -> 44091 | AA49: =$D$50+Z49 -> 44098 | AB49: =AA49+$E$50 -> 44105 | AC49: =$D$50+AB49 -> 44112 | AD49: =AC49+$E$50 -> 44119 | AE49: =$D$50+AD49 -> 44126 | AF49: =AE49+$E$50 -> 44133 | AG49: =$D$50+AF49 -> 44140 | AH49: =AG49+$E$50 -> 44147 | AI49: =$D$50+AH49 -> 44154 | AJ49: =AI49+$E$50 -> 44161 | AK49: =$D$50+AJ49 -> 44168 | AL49: =AK49+$E$50 -> 44175 | AM49: =$D$50+AL49 -> 44182 | AN49: =AM49+$E$50 -> 44189 | AO49: =$D$50+AN49 -> 44196 | AP49: =AO49+$E$50 -> 44203 | AQ49: =$D$50+AP49 -> 44210
D50: =jur!N8 -> 7 | E50: =jur!O8 -> 7
B51: JUMLAH | C51: HADIR | D51: =COUNTIF(D8:D47,"H") -> 36 | E51: =COUNTIF(E8:E47,"H") -> 36 | F51: =COUNTIF(F8:F47,"H") -> 36 | G51: =COUNTIF(G8:G47,"H") -> 36 | H51: =COUNTIF(H8:H47,"H") -> 36 | I51: =COUNTIF(I8:I47,"H") -> 36 | J51: =COUNTIF(J8:J47,"H") -> 36 | K51: =COUNTIF(K8:K47,"H") -> 34 | ... AQ51: =COUNTIF(AQ8:AQ47,"H") -> 0
C52: TERLAMBAT | D52: =COUNTIF(D8:D47,"T") -> 0 | E52: =COUNTIF(E8:E47,"T") -> 0 | F52: =COUNTIF(F8:F47,"T") -> 0 | G52: =COUNTIF(G8:G47,"T") -> 0 | H52: =COUNTIF(H8:H47,"T") -> 0 | I52: =COUNTIF(I8:I47,"T") -> 0 | J52: =COUNTIF(J8:J47,"T") -> 0 | K52: =COUNTIF(K8:K47,"T") -> 0 | ... AQ52: =COUNTIF(AQ8:AQ47,"T") -> 0
C53: SAKIT | D53: =COUNTIF(D8:D47,"S") -> 0 | E53: =COUNTIF(E8:E47,"S") -> 0 | F53: =COUNTIF(F8:F47,"S") -> 0 | G53: =COUNTIF(G8:G47,"S") -> 0 | H53: =COUNTIF(H8:H47,"S") -> 0 | I53: =COUNTIF(I8:I47,"S") -> 0 | J53: =COUNTIF(J8:J47,"S") -> 0 | K53: =COUNTIF(K8:K47,"S") -> 1 | ... AQ53: =COUNTIF(AQ8:AQ47,"S") -> 0
C54: IJIN | D54: =COUNTIF(D8:D47,"I") -> 0 | E54: =COUNTIF(E8:E47,"I") -> 0 | F54: =COUNTIF(F8:F47,"I") -> 0 | G54: =COUNTIF(G8:G47,"I") -> 0 | H54: =COUNTIF(H8:H47,"I") -> 0 | I54: =COUNTIF(I8:I47,"I") -> 0 | J54: =COUNTIF(J8:J47,"I") -> 0 | K54: =COUNTIF(K8:K47,"I") -> 0 | ... AQ54: =COUNTIF(AQ8:AQ47,"I") -> 0
C55: ALPA | D55: =COUNTIF(D8:D47,"A") -> 0 | E55: =COUNTIF(E8:E47,"A") -> 0 | F55: =COUNTIF(F8:F47,"A") -> 0 | G55: =COUNTIF(G8:G47,"A") -> 0 | H55: =COUNTIF(H8:H47,"A") -> 0 | I55: =COUNTIF(I8:I47,"A") -> 0 | J55: =COUNTIF(J8:J47,"A") -> 0 | K55: =COUNTIF(K8:K47,"A") -> 1 | ... AQ55: =COUNTIF(AQ8:AQ47,"A") -> 0
C56: TOTAL | D56: =SUM(D51:D55) -> 36 | E56: =SUM(E51:E55) -> 36 | F56: =SUM(F51:F55) -> 36 | G56: =SUM(G51:G55) -> 36 | H56: =SUM(H51:H55) -> 36 | I56: =SUM(I51:I55) -> 36 | J56: =SUM(J51:J55) -> 36 | K56: =SUM(K51:K55) -> 36 | ... AV56: =SUM(AV51:AV55) -> 0
C57: % HADIR | D57: =(D51+D52)/SUM(D51:D55) -> 1 | E57: =(E51+E52)/SUM(E51:E55) -> 1 | F57: =(F51+F52)/SUM(F51:F55) -> 1 | G57: =(G51+G52)/SUM(G51:G55) -> 1 | H57: =(H51+H52)/SUM(H51:H55) -> 1 | I57: =(I51+I52)/SUM(I51:I55) -> 1 | J57: =(J51+J52)/SUM(J51:J55) -> 1 | K57: =(K51+K52)/SUM(K51:K55) -> 0.94444444 | ... AQ57: =(AQ51+AQ52)/SUM(AQ51:AQ55) -> #DIV/0!
B58: KETERANGAN | D58: =IF(D57>94%,"Ok",IF(D57>65%,"Perlu Bimbingan","Perlu Dibina")) -> Ok | E58: =IF(E57>94%,"Ok",IF(E57>65%,"Perlu Bimbingan","Perlu Dibina")) -> Ok | F58: =IF(F57>94%,"Ok",IF(F57>65%,"Perlu Bimbingan","Perlu Dibina")) -> Ok | G58: =IF(G57>94%,"Ok",IF(G57>65%,"Perlu Bimbingan","Perlu Dibina")) -> Ok | H58: =IF(H57>94%,"Ok",IF(H57>65%,"Perlu Bimbingan","Perlu Dibina")) -> Ok | I58: =IF(I57>94%,"Ok",IF(I57>65%,"Perlu Bimbingan","Perlu Dibina")) -> Ok | J58: =IF(J57>94%,"Ok",IF(J57>65%,"Perlu Bimbingan","Perlu Dibina")) -> Ok | K58: =IF(K57>94%,"Ok",IF(K57>65%,"Perlu Bimbingan","Perlu Dibina")) -> Ok | ... AQ58: =IF(AQ57>94%,"Ok",IF(AQ57>65%,"Perlu Bimbingan","Perlu Dibina")) -> #DIV/0!
A59: DAFTAR PRESENSI
C61: Mata Pelajaran | D61: =D3 -> : Administrasi Transakssi | AR61: Tahun Pelajaran | AW61: =AW3 -> : 2018 / 2019
C62: Semester | D62: =kkmi!C68 -> : II (GENAP) | AR62: Kelas | AW62: =AW4 -> : XI BDP 1
A64: NO | B64: NIS | C64: NAMA SISWA | D64: PRESENSI TATAP MUKA | AR64: JUMLAH | AW64: TOTAL | AX64: %
D65: 1 | E65: 2 | F65: 3 | G65: 4 | H65: 5 | I65: 6 | J65: 7 | K65: 8 | L65: 9 | M65: 10 | N65: 11 | O65: 12 | P65: 13 | Q65: 14 | R65: 15 | S65: 16 | T65: 17 | U65: 18 | V65: 19 | W65: 20 | X65: 21 | Y65: 22 | Z65: 23 | AA65: 24 | AB65: 25 | AC65: 26 | AD65: 27 | AE65: 28 | AF65: 29 | AG65: 30 | AH65: 31 | AI65: 32 | AJ65: 33 | AK65: 34 | AL65: 35 | AM65: 36 | AN65: 37 | AO65: 38 | AP65: 39 | AQ65: 40 | AR65: H | AS65: T | AT65: S | AU65: I | AV65: A | AX65: HADIR
A66: 1 | B66: =B8 -> 5469 | C66: =C8 -> AHMAD JUNAIDI | AR66: =COUNTIF(D66:AQ66,"H") -> 0 | AS66: =COUNTIF(D66:AQ66,"T") -> 0 | AT66: =COUNTIF(D66:AQ66,"S") -> 0 | AU66: =COUNTIF(D66:AQ66,"I") -> 0 | AV66: =COUNTIF(D66:AQ66,"A") -> 0 | AW66: =SUM(AR66:AV66) -> 0 | AX66: =(AR66+AS66)/SUM(AR66:AV66) -> #DIV/0! | CW66: H
A67: 2 | B67: =B9 -> 5470 | C67: =C9 -> AHMAD RIYUDHA | AR67: =COUNTIF(D67:AQ67,"H") -> 0 | AS67: =COUNTIF(D67:AQ67,"T") -> 0 | AT67: =COUNTIF(D67:AQ67,"S") -> 0 | AU67: =COUNTIF(D67:AQ67,"I") -> 0 | AV67: =COUNTIF(D67:AQ67,"A") -> 0 | AW67: =SUM(AR67:AV67) -> 0 | AX67: =(AR67+AS67)/SUM(AR67:AV67) -> #DIV/0! | CW67: T
A68: 3 | B68: =B10 -> 5471 | C68: =C10 -> AHMAD SAYUDINOR | AR68: =COUNTIF(D68:AQ68,"H") -> 0 | AS68: =COUNTIF(D68:AQ68,"T") -> 0 | AT68: =COUNTIF(D68:AQ68,"S") -> 0 | AU68: =COUNTIF(D68:AQ68,"I") -> 0 | AV68: =COUNTIF(D68:AQ68,"A") -> 0 | AW68: =SUM(AR68:AV68) -> 0 | AX68: =(AR68+AS68)/SUM(AR68:AV68) -> #DIV/0! | CW68: S
A69: 4 | B69: =B11 -> 5472 | C69: =C11 -> HILMAN SYA'FEI | AR69: =COUNTIF(D69:AQ69,"H") -> 0 | AS69: =COUNTIF(D69:AQ69,"T") -> 0 | AT69: =COUNTIF(D69:AQ69,"S") -> 0 | AU69: =COUNTIF(D69:AQ69,"I") -> 0 | AV69: =COUNTIF(D69:AQ69,"A") -> 0 | AW69: =SUM(AR69:AV69) -> 0 | AX69: =(AR69+AS69)/SUM(AR69:AV69) -> #DIV/0! | CW69: I
A70: 5 | B70: =B12 -> 5473 | C70: =C12 -> JAMALUDDIN | AR70: =COUNTIF(D70:AQ70,"H") -> 0 | AS70: =COUNTIF(D70:AQ70,"T") -> 0 | AT70: =COUNTIF(D70:AQ70,"S") -> 0 | AU70: =COUNTIF(D70:AQ70,"I") -> 0 | AV70: =COUNTIF(D70:AQ70,"A") -> 0 | AW70: =SUM(AR70:AV70) -> 0 | AX70: =(AR70+AS70)/SUM(AR70:AV70) -> #DIV/0! | CW70: A
A71: 6 | B71: =B13 -> 5474 | C71: =C13 -> M. ADITYA RYANDI | AR71: =COUNTIF(D71:AQ71,"H") -> 0 | AS71: =COUNTIF(D71:AQ71,"T") -> 0 | AT71: =COUNTIF(D71:AQ71,"S") -> 0 | AU71: =COUNTIF(D71:AQ71,"I") -> 0 | AV71: =COUNTIF(D71:AQ71,"A") -> 0 | AW71: =SUM(AR71:AV71) -> 0 | AX71: =(AR71+AS71)/SUM(AR71:AV71) -> #DIV/0!
A72: 7 | B72: =B14 -> 5475 | C72: =C14 -> M. ZAINAL AKBAR | AR72: =COUNTIF(D72:AQ72,"H") -> 0 | AS72: =COUNTIF(D72:AQ72,"T") -> 0 | AT72: =COUNTIF(D72:AQ72,"S") -> 0 | AU72: =COUNTIF(D72:AQ72,"I") -> 0 | AV72: =COUNTIF(D72:AQ72,"A") -> 0 | AW72: =SUM(AR72:AV72) -> 0 | AX72: =(AR72+AS72)/SUM(AR72:AV72) -> #DIV/0!
A73: 8 | B73: =B15 -> 5476 | C73: =C15 -> MAULIDI | AR73: =COUNTIF(D73:AQ73,"H") -> 0 | AS73: =COUNTIF(D73:AQ73,"T") -> 0 | AT73: =COUNTIF(D73:AQ73,"S") -> 0 | AU73: =COUNTIF(D73:AQ73,"I") -> 0 | AV73: =COUNTIF(D73:AQ73,"A") -> 0 | AW73: =SUM(AR73:AV73) -> 0 | AX73: =(AR73+AS73)/SUM(AR73:AV73) -> #DIV/0!
A74: 9 | B74: =B16 -> 5477 | C74: =C16 -> MUHAMMAD AGUS RIFANI | AR74: =COUNTIF(D74:AQ74,"H") -> 0 | AS74: =COUNTIF(D74:AQ74,"T") -> 0 | AT74: =COUNTIF(D74:AQ74,"S") -> 0 | AU74: =COUNTIF(D74:AQ74,"I") -> 0 | AV74: =COUNTIF(D74:AQ74,"A") -> 0 | AW74: =SUM(AR74:AV74) -> 0 | AX74: =(AR74+AS74)/SUM(AR74:AV74) -> #DIV/0!
A75: 10 | B75: =B17 -> 5478 | C75: =C17 -> MUHAMMAD AKBAR | AR75: =COUNTIF(D75:AQ75,"H") -> 0 | AS75: =COUNTIF(D75:AQ75,"T") -> 0 | AT75: =COUNTIF(D75:AQ75,"S") -> 0 | AU75: =COUNTIF(D75:AQ75,"I") -> 0 | AV75: =COUNTIF(D75:AQ75,"A") -> 0 | AW75: =SUM(AR75:AV75) -> 0 | AX75: =(AR75+AS75)/SUM(AR75:AV75) -> #DIV/0!
A76: 11 | B76: =B18 -> 5479 | C76: =C18 -> MUHAMMAD ALPIANOR | AR76: =COUNTIF(D76:AQ76,"H") -> 0 | AS76: =COUNTIF(D76:AQ76,"T") -> 0 | AT76: =COUNTIF(D76:AQ76,"S") -> 0 | AU76: =COUNTIF(D76:AQ76,"I") -> 0 | AV76: =COUNTIF(D76:AQ76,"A") -> 0 | AW76: =SUM(AR76:AV76) -> 0 | AX76: =(AR76+AS76)/SUM(AR76:AV76) -> #DIV/0!
A77: 12 | B77: =B19 -> 5480 | C77: =C19 -> MUHAMMAD ANDRIAN | AR77: =COUNTIF(D77:AQ77,"H") -> 0 | AS77: =COUNTIF(D77:AQ77,"T") -> 0 | AT77: =COUNTIF(D77:AQ77,"S") -> 0 | AU77: =COUNTIF(D77:AQ77,"I") -> 0 | AV77: =COUNTIF(D77:AQ77,"A") -> 0 | AW77: =SUM(AR77:AV77) -> 0 | AX77: =(AR77+AS77)/SUM(AR77:AV77) -> #DIV/0!
A78: 13 | B78: =B20 -> 5481 | C78: =C20 -> MUHAMMAD AZIDAN | AR78: =COUNTIF(D78:AQ78,"H") -> 0 | AS78: =COUNTIF(D78:AQ78,"T") -> 0 | AT78: =COUNTIF(D78:AQ78,"S") -> 0 | AU78: =COUNTIF(D78:AQ78,"I") -> 0 | AV78: =COUNTIF(D78:AQ78,"A") -> 0 | AW78: =SUM(AR78:AV78) -> 0 | AX78: =(AR78+AS78)/SUM(AR78:AV78) -> #DIV/0!
A79: 14 | B79: =B21 -> 5482 | C79: =C21 -> MUHAMMAD FAHRIANSYAH | AR79: =COUNTIF(D79:AQ79,"H") -> 0 | AS79: =COUNTIF(D79:AQ79,"T") -> 0 | AT79: =COUNTIF(D79:AQ79,"S") -> 0 | AU79: =COUNTIF(D79:AQ79,"I") -> 0 | AV79: =COUNTIF(D79:AQ79,"A") -> 0 | AW79: =SUM(AR79:AV79) -> 0 | AX79: =(AR79+AS79)/SUM(AR79:AV79) -> #DIV/0!
A80: 15 | B80: =B22 -> 5483 | C80: =C22 -> MUHAMMAD FAUZAN | AR80: =COUNTIF(D80:AQ80,"H") -> 0 | AS80: =COUNTIF(D80:AQ80,"T") -> 0 | AT80: =COUNTIF(D80:AQ80,"S") -> 0 | AU80: =COUNTIF(D80:AQ80,"I") -> 0 | AV80: =COUNTIF(D80:AQ80,"A") -> 0 | AW80: =SUM(AR80:AV80) -> 0 | AX80: =(AR80+AS80)/SUM(AR80:AV80) -> #DIV/0!
A81: 16 | B81: =B23 -> 5484 | C81: =C23 -> MUHAMMAD FAZAL HAFIZH | AR81: =COUNTIF(D81:AQ81,"H") -> 0 | AS81: =COUNTIF(D81:AQ81,"T") -> 0 | AT81: =COUNTIF(D81:AQ81,"S") -> 0 | AU81: =COUNTIF(D81:AQ81,"I") -> 0 | AV81: =COUNTIF(D81:AQ81,"A") -> 0 | AW81: =SUM(AR81:AV81) -> 0 | AX81: =(AR81+AS81)/SUM(AR81:AV81) -> #DIV/0!
A82: 17 | B82: =B24 -> 5485 | C82: =C24 -> MUHAMMAD FIKRI | AR82: =COUNTIF(D82:AQ82,"H") -> 0 | AS82: =COUNTIF(D82:AQ82,"T") -> 0 | AT82: =COUNTIF(D82:AQ82,"S") -> 0 | AU82: =COUNTIF(D82:AQ82,"I") -> 0 | AV82: =COUNTIF(D82:AQ82,"A") -> 0 | AW82: =SUM(AR82:AV82) -> 0 | AX82: =(AR82+AS82)/SUM(AR82:AV82) -> #DIV/0!
... A105: 40 | B105: =B47 -> 0 | C105: =C47 -> 0 | AR105: =COUNTIF(D105:AQ105,"H") -> 0 | AS105: =COUNTIF(D105:AQ105,"T") -> 0 | AT105: =COUNTIF(D105:AQ105,"S") -> 0 | AU105: =COUNTIF(D105:AQ105,"I") -> 0 | AV105: =COUNTIF(D105:AQ105,"A") -> 0 | AW105: =SUM(AR105:AV105) -> 0 | AX105: =(AR105+AS105)/SUM(AR105:AV105) -> #DIV/0!
C107: Tanggal Pelaksanaan | D107: =jur!B145 -> 43479 | E107: =$D$108+D107 -> 43486 | F107: =E107+$E$108 -> 43493 | G107: =$D$50+F107 -> 43500 | H107: =G107+$E$50 -> 43507 | I107: =$D$50+H107 -> 43514 | J107: =I107+$E$50 -> 43521 | K107: =$D$50+J107 -> 43528 | L107: =K107+$E$50 -> 43535 | M107: =$D$50+L107 -> 43542 | N107: =M107+$E$50 -> 43549 | O107: =$D$50+N107 -> 43556 | P107: =O107+$E$50 -> 43563 | Q107: =$D$50+P107 -> 43570 | R107: =Q107+$E$50 -> 43577 | S107: =$D$50+R107 -> 43584 | T107: =S107+$E$50 -> 43591 | U107: =$D$50+T107 -> 43598 | V107: =U107+$E$50 -> 43605 | W107: =$D$50+V107 -> 43612 | X107: =W107+$E$50 -> 43619 | Y107: =$D$50+X107 -> 43626 | Z107: =Y107+$E$50 -> 43633 | AA107: =$D$50+Z107 -> 43640 | AB107: =AA107+$E$50 -> 43647 | AC107: =$D$50+AB107 -> 43654 | AD107: =AC107+$E$50 -> 43661 | AE107: =$D$50+AD107 -> 43668 | AF107: =AE107+$E$50 -> 43675 | AG107: =$D$50+AF107 -> 43682 | AH107: =AG107+$E$50 -> 43689 | AI107: =$D$50+AH107 -> 43696 | AJ107: =AI107+$E$50 -> 43703 | AK107: =$D$50+AJ107 -> 43710 | AL107: =AK107+$E$50 -> 43717 | AM107: =$D$50+AL107 -> 43724 | AN107: =AM107+$E$50 -> 43731 | AO107: =$D$50+AN107 -> 43738 | AP107: =AO107+$E$50 -> 43745 | AQ107: =$D$50+AP107 -> 43752
D108: =jur!N144 -> 7 | E108: =jur!O144 -> 7
B109: JUMLAH | C109: HADIR | D109: =COUNTIF(D66:D105,"H") -> 0 | E109: =COUNTIF(E66:E105,"H") -> 0 | F109: =COUNTIF(F66:F105,"H") -> 0 | G109: =COUNTIF(G66:G105,"H") -> 0 | H109: =COUNTIF(H66:H105,"H") -> 0 | I109: =COUNTIF(I66:I105,"H") -> 0 | J109: =COUNTIF(J66:J105,"H") -> 0 | K109: =COUNTIF(K66:K105,"H") -> 0 | ... AQ109: =COUNTIF(AQ66:AQ105,"H") -> 0
C110: TERLAMBAT | D110: =COUNTIF(D66:D105,"T") -> 0 | E110: =COUNTIF(E66:E105,"T") -> 0 | F110: =COUNTIF(F66:F105,"T") -> 0 | G110: =COUNTIF(G66:G105,"T") -> 0 | H110: =COUNTIF(H66:H105,"T") -> 0 | I110: =COUNTIF(I66:I105,"T") -> 0 | J110: =COUNTIF(J66:J105,"T") -> 0 | K110: =COUNTIF(K66:K105,"T") -> 0 | ... AQ110: =COUNTIF(AQ66:AQ105,"T") -> 0
C111: SAKIT | D111: =COUNTIF(D66:D105,"S") -> 0 | E111: =COUNTIF(E66:E105,"S") -> 0 | F111: =COUNTIF(F66:F105,"S") -> 0 | G111: =COUNTIF(G66:G105,"S") -> 0 | H111: =COUNTIF(H66:H105,"S") -> 0 | I111: =COUNTIF(I66:I105,"S") -> 0 | J111: =COUNTIF(J66:J105,"S") -> 0 | K111: =COUNTIF(K66:K105,"S") -> 0 | ... AQ111: =COUNTIF(AQ66:AQ105,"S") -> 0
C112: IJIN | D112: =COUNTIF(D66:D105,"I") -> 0 | E112: =COUNTIF(E66:E105,"I") -> 0 | F112: =COUNTIF(F66:F105,"I") -> 0 | G112: =COUNTIF(G66:G105,"I") -> 0 | H112: =COUNTIF(H66:H105,"I") -> 0 | I112: =COUNTIF(I66:I105,"I") -> 0 | J112: =COUNTIF(J66:J105,"I") -> 0 | K112: =COUNTIF(K66:K105,"I") -> 0 | ... AQ112: =COUNTIF(AQ66:AQ105,"I") -> 0
C113: ALPA | D113: =COUNTIF(D66:D105,"A") -> 0 | E113: =COUNTIF(E66:E105,"A") -> 0 | F113: =COUNTIF(F66:F105,"A") -> 0 | G113: =COUNTIF(G66:G105,"A") -> 0 | H113: =COUNTIF(H66:H105,"A") -> 0 | I113: =COUNTIF(I66:I105,"A") -> 0 | J113: =COUNTIF(J66:J105,"A") -> 0 | K113: =COUNTIF(K66:K105,"A") -> 0 | ... AQ113: =COUNTIF(AQ66:AQ105,"A") -> 0
C114: TOTAL | D114: =SUM(D109:D113) -> 0 | E114: =SUM(E109:E113) -> 0 | F114: =SUM(F109:F113) -> 0 | G114: =SUM(G109:G113) -> 0 | H114: =SUM(H109:H113) -> 0 | I114: =SUM(I109:I113) -> 0 | J114: =SUM(J109:J113) -> 0 | K114: =SUM(K109:K113) -> 0 | ... AV114: =SUM(AV109:AV113) -> 0
C115: % HADIR | D115: =(D109+D110)/SUM(D109:D113) -> #DIV/0! | E115: =(E109+E110)/SUM(E109:E113) -> #DIV/0! | F115: =(F109+F110)/SUM(F109:F113) -> #DIV/0! | G115: =(G109+G110)/SUM(G109:G113) -> #DIV/0! | H115: =(H109+H110)/SUM(H109:H113) -> #DIV/0! | I115: =(I109+I110)/SUM(I109:I113) -> #DIV/0! | J115: =(J109+J110)/SUM(J109:J113) -> #DIV/0! | K115: =(K109+K110)/SUM(K109:K113) -> #DIV/0! | ... AQ115: =(AQ109+AQ110)/SUM(AQ109:AQ113) -> #DIV/0!
B116: KETERANGAN | D116: =IF(D115>94%,"Ok",IF(D115>65%,"Perlu Bimbingan","Perlu Dibina")) -> #DIV/0! | E116: =IF(E115>94%,"Ok",IF(E115>65%,"Perlu Bimbingan","Perlu Dibina")) -> #DIV/0! | F116: =IF(F115>94%,"Ok",IF(F115>65%,"Perlu Bimbingan","Perlu Dibina")) -> #DIV/0! | G116: =IF(G115>94%,"Ok",IF(G115>65%,"Perlu Bimbingan","Perlu Dibina")) -> #DIV/0! | H116: =IF(H115>94%,"Ok",IF(H115>65%,"Perlu Bimbingan","Perlu Dibina")) -> #DIV/0! | I116: =IF(I115>94%,"Ok",IF(I115>65%,"Perlu Bimbingan","Perlu Dibina")) -> #DIV/0! | J116: =IF(J115>94%,"Ok",IF(J115>65%,"Perlu Bimbingan","Perlu Dibina")) -> #DIV/0! | K116: =IF(K115>94%,"Ok",IF(K115>65%,"Perlu Bimbingan","Perlu Dibina")) -> #DIV/0! | ... AQ116: =IF(AQ115>94%,"Ok",IF(AQ115>65%,"Perlu Bimbingan","Perlu Dibina")) -> #DIV/0!

Sheet nilai
A1: REKAP NILAI
A3: MATA PELAJARAN | D3: : | J3: =data!C5 -> Administrasi Transakssi | BG3: SEMESTER | BJ3: =": "&data!C20 -> : I (GANJIL)
A4: KELAS | D4: : | J4: =data!C6&" "&data!D6 -> XI BDP 1 | BG4: TAHUN PELAJARAN | BJ4: =": "&data!$C$19 -> : 2018 / 2019
A5: KKM | D5: : | J5: =kkmmpp!F8 -> 75
B6: 1 | C6: 2 | D6: 3 | J6: 4 | P6: 5 | S6: 6 | V6: 7 | AE6: 8 | AG6: 9 | AH6: 10 | AI6: 11 | AJ6: 12 | AM6: 13 | AP6: 14 | AS6: 15 | AZ6: 16 | BB6: 9 | BC6: 18 | BD6: 19 | BE6: 20 | BF6: 21 | BG6: 22 | BH6: 23 | BI6: 24 | BJ6: 25 | BK6: 26 | BL6: 27 | BM6: 28
J7: 3 | P7: 3 | S7: 2 | V7: 2 | AM7: 3 | AP7: 3 | AS7: 2
A8: NO | B8: NIS / NISN | C8: NAMA PESERTA DIDIK | D8: KD | E8: NILAI RAPORT | BG8: DESKRIPSI | BK8: KEHADIRAN
E9: PENGETAHUAN | AE9: PENGETAHUAN | AJ9: KD | AK9: KETERAMPILAN | AZ9: KETERAMPILAN | BE9: SPIRITUAL | BF9: SOSIAL | BG9: PENGETAHUAN | BH9: KETERAMPILAN | BI9: SIKAP SPIRITUAL | BJ9: SIKAP SOSIAL | BK9: S | BL9: I | BM9: A
J10: NT | P10: PH | S10: UTS | V10: UAS | AE10: TOTAL | AH10: NR | AI10: PREDIKAT | AM10: PROSES | AP10: PRODUK | AS10: PROYEK | AZ10: TOTAL | BC10: NR | BD10: PREDIKAT | BJ10: DAN | BL10: I | BM10: A | BQ10: Pengetahuan | BR10: Keterampilan | BT10: Spiritual | BU10: Sosial
A11: 1 | B11: =pd!B6 -> 5469 | C11: =pd!C6 -> AHMAD JUNAIDI | D11: 3.1 | J11: =IF(SUM(E11:I11)>0,AVERAGE(E11:I11),0) -> 0 | K11: =IF(analis!D14="","",analis!D14) | P11: =IF(SUM(K11:O11)>0,AVERAGE(K11:O11),0) -> 0 | Q11: ='rpp1'!$M$259 | S11: =IF(SUM(Q11:R11)>0,MAX(Q11:R11),0) -> 0 | V11: =IF(SUM(T11:U11)>0,MAX(T11:U11),0) -> 0 | W11: =IF((J11+J26+J41+J56+J71+J86+J101+J116+J131+J146+J161+J176+J191+J206+J221+J236+J251+J266+J281+J296+J311+J326+J341+J356+J371+J386+J401+J416+J431+J446+J461+J476+J491+J506+J521+J536+J551+J566+J581+J596)>0,1,0) -> 0 | X11: =IF((P11+P26+P41+P56+P71+P86+P101+P116+P131+P146+P161+P176+P191+P206+P221+P236+P251+P266+P281+P296+P311+P326+P341+P356+P371+P386+P401+P416+P431+P446+P461+P476+P491+P506+P521+P536+P551+P566+P581+P596)>0,1,0) -> 0 | Y11: =IF((S11+S26+S41+S56+S71+S86+S101+S116+S131+S146+S161+S176+S191+S206+S221+S236+S251+S266+S281+S296+S311+S326+S341+S356+S371+S386+S401+S416+S431+S446+S461+S476+S491+S506+S521+S536+S551+S566+S581+S596)>0,1,0) -> 0 | Z11: =IF((V11+V26+V41+V56+V71+V86+V101+V116+V131+V146+V161+V176+V191+V206+V221+V236+V251+V266+V281+V296+V311+V326+V341+V356+V371+V386+V401+V416+V431+V446+V461+V476+V491+V506+V521+V536+V551+V566+V581+V596)>0,1,0) -> 0 | AA11: =IF($W$11=1,J11*$J$7,0) -> 0 | AB11: =IF($X$11=1,P11*$P$7,0) -> 0 | AC11: =IF($Y$11=1,S11*$S$7,0) -> 0 | AD11: =IF($Z$11=1,V11*$V$7,0) -> 0 | AE11: =SUM(AA11:AD11) -> 0 | AF11: =IFERROR(AE11/(IF($W$11>0,$J$7,0)+IF($X$11>0,$P$7,0)+IF($Y$11>0,$S$7,0)+IF($Z$11>0,$V$7,0)),0) -> 0 | AG11: =IF(SUM(W11:Z11)>0,1,0) -> 0 | AH11: =ROUND((SUM(AF11:AF25)/SUM($AG$11:$AG$25)),0) -> #DIV/0! | AI11: =IF(AH11>=$BO$11,"A",IF(AH11>=$BO$12,"B",IF(AH11>=$BO$13,"C",IF(AH11>=$BO$14,"D","")))) -> #DIV/0! | AJ11: 4.1 | AK11: ='rpp1'!$M$316 | AM11: =MAX(AK11:AL11) -> 0 | AP11: =MAX(AN11:AO11) -> 0 | AS11: =MAX(AQ11:AR11) -> 0 | AT11: =IF((AM11+AM26+AM41+AM56+AM71+AM86+AM101+AM116+AM131+AM146+AM161+AM176+AM191+AM206+AM221+AM236+AM251+AM266+AM281+AM296+AM311+AM326+AM341+AM356+AM371+AM386+AM401+AM416+AM431+AM446+AM461+AM476+AM491+AM506+AM521+AM536+AM551+AM566+AM581+AM596)>0,1,0) -> 0 | AU11: =IF((AP11+AP26+AP41+AP56+AP71+AP86+AP101+AP116+AP131+AP146+AP161+AP176+AP191+AP206+AP221+AP236+AP251+AP266+AP281+AP296+AP311+AP326+AP341+AP356+AP371+AP386+AP401+AP416+AP431+AP446+AP461+AP476+AP491+AP506+AP521+AP536+AP551+AP566+AP581+AP596)>0,1,0) -> 0 | AV11: =IF((AS11+AS26+AS41+AS56+AS71+AS86+AS101+AS116+AS131+AS146+AS161+AS176+AS191+AS206+AS221+AS236+AS251+AS266+AS281+AS296+AS311+AS326+AS341+AS356+AS371+AS386+AS401+AS416+AS431+AS446+AS461+AS476+AS491+AS506+AS521+AS536+AS551+AS566+AS581+AS596)>0,1,0) -> 0 | AW11: =IF($AT$11=1,AM11*$AM$7,0) -> 0 | AX11: =IF($AU$11=1,AP11*$AP$7,0) -> 0 | AY11: =IF($AV$11=1,AS11*$AS$7,0) -> 0 | AZ11: =SUM(AW11:AY11) -> 0 | BA11: =IFERROR(AZ11/(IF($AT$11>0,$AM$7,0)+IF($AU$11>0,$AP$7,0)+IF($AV$11>0,$AS$7,0)),0) -> 0 | BB11: =IF(SUM(AT11:AV11)>0,1,0) -> 0 | BC11: =ROUND((SUM(BA11:BA25)/SUM($BB$11:$BB$25)),0) -> #DIV/0! | BD11: =IF(BC11>=$BO$11,"A",IF(BC11>=$BO$12,"B",IF(BC11>=$BO$13,"C",IF(BC11>=$BO$14,"D","")))) -> #DIV/0! | BF11: ='rpp1'!G150 | BG11: =IF(AI11=$BP$11,$BQ$11,IF(AI11=$BP$12,$BQ$12,IF(AI11=$BP$13,$BQ$13,IF(AI11=$BP$14,$BQ$14,"")))) -> #DIV/0! | BH11: =IF(BD11=$BP$11,$BR$11,IF(BD11=$BP$12,$BR$12,IF(BD11=$BP$13,$BR$13,IF(BD11=$BP$14,$BR$14,"")))) -> #DIV/0! | BI11: =IF(BE11=$BS$11,$BT$11,IF(BE11=$BS$12,$BT$12,IF(BE11=$BS$13,$BT$13,IF(BE11=$BS$14,$BT$14,"")))) | BJ11: =IF(BF11=$BS$11,$BU$11,IF(BF11=$BS$12,$BU$12,IF(BF11=$BS$13,$BU$13,IF(BF11=$BS$14,$BU$14,"")))) | BO11: 86 | BP11: A | BQ11: ="Sangat baik dalam seluruh kompetensi "&silabus!$A$35&", "&silabus!#REF! -> #REF! | BR11: ="Sangat terampil dalam seluruh kompetensi "&silabus!$A$36&", "&silabus!#REF! -> #REF! | BS11: Sangat Baik | BT11: Selalu bersyukur, selalu berdoa sebelum melakukan kegiatan, toleran pada agama yang berbeda dan taat beribadah | BU11: Selalu bersikap santun, peduli, percaya diri, jujur, disiplin dan bertanggung jawab
D12: 3.2 | J12: =IF(SUM(E12:I12)>0,AVERAGE(E12:I12),0) -> 0 | K12: =IF(analis!F14="","",analis!F14) | P12: =IF(SUM(K12:O12)>0,AVERAGE(K12:O12),0) -> 0 | Q12: ='rpp2'!$M$259 | S12: =IF(SUM(Q12:R12)>0,MAX(Q12:R12),0) -> 0 | V12: =IF(SUM(T12:U12)>0,MAX(T12:U12),0) -> 0 | W12: =IF((J12+J27+J42+J57+J72+J87+J102+J117+J132+J147+J162+J177+J192+J207+J222+J237+J252+J267+J282+J297+J312+J327+J342+J357+J372+J387+J402+J417+J432+J447+J462+J477+J492+J507+J522+J537+J552+J567+J582+J597)>0,1,0) -> 0 | X12: =IF((P12+P27+P42+P57+P72+P87+P102+P117+P132+P147+P162+P177+P192+P207+P222+P237+P252+P267+P282+P297+P312+P327+P342+P357+P372+P387+P402+P417+P432+P447+P462+P477+P492+P507+P522+P537+P552+P567+P582+P597)>0,1,0) -> 0 | Y12: =IF((S12+S27+S42+S57+S72+S87+S102+S117+S132+S147+S162+S177+S192+S207+S222+S237+S252+S267+S282+S297+S312+S327+S342+S357+S372+S387+S402+S417+S432+S447+S462+S477+S492+S507+S522+S537+S552+S567+S582+S597)>0,1,0) -> 0 | Z12: =IF((V12+V27+V42+V57+V72+V87+V102+V117+V132+V147+V162+V177+V192+V207+V222+V237+V252+V267+V282+V297+V312+V327+V342+V357+V372+V387+V402+V417+V432+V447+V462+V477+V492+V507+V522+V537+V552+V567+V582+V597)>0,1,0) -> 0 | AA12: =IF($W$12=1,J12*$J$7,0) -> 0 | AB12: =IF($X$12=1,P12*$P$7,0) -> 0 | AC12: =IF($Y$12=1,S12*$S$7,0) -> 0 | AD12: =IF($Z$12=1,V12*$V$7,0) -> 0 | AE12: =SUM(AA12:AD12) -> 0 | AF12: =IFERROR(AE12/(IF($W$12>0,$J$7,0)+IF($X$12>0,$P$7,0)+IF($Y$12>0,$S$7,0)+IF($Z$12>0,$V$7,0)),0) -> 0 | AG12: =IF(SUM(W12:Z12)>0,1,0) -> 0 | AJ12: 4.2 | AK12: ='rpp2'!$M$316 | AM12: =MAX(AK12:AL12) -> 0 | AP12: =MAX(AN12:AO12) -> 0 | AS12: =MAX(AQ12:AR12) -> 0 | AT12: =IF((AM12+AM27+AM42+AM57+AM72+AM87+AM102+AM117+AM132+AM147+AM162+AM177+AM192+AM207+AM222+AM237+AM252+AM267+AM282+AM297+AM312+AM327+AM342+AM357+AM372+AM387+AM402+AM417+AM432+AM447+AM462+AM477+AM492+AM507+AM522+AM537+AM552+AM567+AM582+AM597)>0,1,0) -> 0 | AU12: =IF((AP12+AP27+AP42+AP57+AP72+AP87+AP102+AP117+AP132+AP147+AP162+AP177+AP192+AP207+AP222+AP237+AP252+AP267+AP282+AP297+AP312+AP327+AP342+AP357+AP372+AP387+AP402+AP417+AP432+AP447+AP462+AP477+AP492+AP507+AP522+AP537+AP552+AP567+AP582+AP597)>0,1,0) -> 0 | AV12: =IF((AS12+AS27+AS42+AS57+AS72+AS87+AS102+AS117+AS132+AS147+AS162+AS177+AS192+AS207+AS222+AS237+AS252+AS267+AS282+AS297+AS312+AS327+AS342+AS357+AS372+AS387+AS402+AS417+AS432+AS447+AS462+AS477+AS492+AS507+AS522+AS537+AS552+AS567+AS582+AS597)>0,1,0) -> 0 | AW12: =IF($AT$12=1,AM12*$AM$7,0) -> 0 | AX12: =IF($AU$12=1,AP12*$AP$7,0) -> 0 | AY12: =IF($AV$12=1,AS12*$AS$7,0) -> 0 | AZ12: =SUM(AW12:AY12) -> 0 | BA12: =IFERROR(AZ12/(IF($AT$12>0,$AM$7,0)+IF($AU$12>0,$AP$7,0)+IF($AV$12>0,$AS$7,0)),0) -> 0 | BB12: =IF(SUM(AT12:AV12)>0,1,0) -> 0 | BF12: ='rpp2'!G150 | BO12: 71 | BP12: B | BQ12: ="Baik dalam kompetensi "&silabus!$A$35&", "&silabus!#REF! -> #REF! | BR12: ="Terampil dalam kompetensi "&silabus!$A$36&", "&silabus!#REF! -> #REF! | BS12: Baik | BT12: Bersyukur, berdoa sebelum melakukan kegiatan, toleran pada agama yang berbeda dan taat beribadah | BU12: Bersikap santun, peduli, percaya diri, jujur, disiplin dan bertanggung jawab
D13: 3.3 | J13: =IF(SUM(E13:I13)>0,AVERAGE(E13:I13),0) -> 0 | K13: =IF(analis!H14="","",analis!H14) | P13: =IF(SUM(K13:O13)>0,AVERAGE(K13:O13),0) -> 0 | Q13: ='rpp3'!$M$259 | S13: =IF(SUM(Q13:R13)>0,MAX(Q13:R13),0) -> 0 | V13: =IF(SUM(T13:U13)>0,MAX(T13:U13),0) -> 0 | W13: =IF((J13+J28+J43+J58+J73+J88+J103+J118+J133+J148+J163+J178+J193+J208+J223+J238+J253+J268+J283+J298+J313+J328+J343+J358+J373+J388+J403+J418+J433+J448+J463+J478+J493+J508+J523+J538+J553+J568+J583+J598)>0,1,0) -> 0 | X13: =IF((P13+P28+P43+P58+P73+P88+P103+P118+P133+P148+P163+P178+P193+P208+P223+P238+P253+P268+P283+P298+P313+P328+P343+P358+P373+P388+P403+P418+P433+P448+P463+P478+P493+P508+P523+P538+P553+P568+P583+P598)>0,1,0) -> 0 | Y13: =IF((S13+S28+S43+S58+S73+S88+S103+S118+S133+S148+S163+S178+S193+S208+S223+S238+S253+S268+S283+S298+S313+S328+S343+S358+S373+S388+S403+S418+S433+S448+S463+S478+S493+S508+S523+S538+S553+S568+S583+S598)>0,1,0) -> 0 | Z13: =IF((V13+V28+V43+V58+V73+V88+V103+V118+V133+V148+V163+V178+V193+V208+V223+V238+V253+V268+V283+V298+V313+V328+V343+V358+V373+V388+V403+V418+V433+V448+V463+V478+V493+V508+V523+V538+V553+V568+V583+V598)>0,1,0) -> 0 | AA13: =IF($W$13=1,J13*$J$7,0) -> 0 | AB13: =IF($X$13=1,P13*$P$7,0) -> 0 | AC13: =IF($Y$13=1,S13*$S$7,0) -> 0 | AD13: =IF($Z$13=1,V13*$V$7,0) -> 0 | AE13: =SUM(AA13:AD13) -> 0 | AF13: =IFERROR(AE13/(IF($W$13>0,$J$7,0)+IF($X$13>0,$P$7,0)+IF($Y$13>0,$S$7,0)+IF($Z$13>0,$V$7,0)),0) -> 0 | AG13: =IF(SUM(W13:Z13)>0,1,0) -> 0 | AJ13: 4.3 | AK13: ='rpp3'!$M$316 | AM13: =MAX(AK13:AL13) -> 0 | AP13: =MAX(AN13:AO13) -> 0 | AS13: =MAX(AQ13:AR13) -> 0 | AT13: =IF((AM13+AM28+AM43+AM58+AM73+AM88+AM103+AM118+AM133+AM148+AM163+AM178+AM193+AM208+AM223+AM238+AM253+AM268+AM283+AM298+AM313+AM328+AM343+AM358+AM373+AM388+AM403+AM418+AM433+AM448+AM463+AM478+AM493+AM508+AM523+AM538+AM553+AM568+AM583+AM598)>0,1,0) -> 0 | AU13: =IF((AP13+AP28+AP43+AP58+AP73+AP88+AP103+AP118+AP133+AP148+AP163+AP178+AP193+AP208+AP223+AP238+AP253+AP268+AP283+AP298+AP313+AP328+AP343+AP358+AP373+AP388+AP403+AP418+AP433+AP448+AP463+AP478+AP493+AP508+AP523+AP538+AP553+AP568+AP583+AP598)>0,1,0) -> 0 | AV13: =IF((AS13+AS28+AS43+AS58+AS73+AS88+AS103+AS118+AS133+AS148+AS163+AS178+AS193+AS208+AS223+AS238+AS253+AS268+AS283+AS298+AS313+AS328+AS343+AS358+AS373+AS388+AS403+AS418+AS433+AS448+AS463+AS478+AS493+AS508+AS523+AS538+AS553+AS568+AS583+AS598)>0,1,0) -> 0 | AW13: =IF($AT$13=1,AM13*$AM$7,0) -> 0 | AX13: =IF($AU$13=1,AP13*$AP$7,0) -> 0 | AY13: =IF($AV$13=1,AS13*$AS$7,0) -> 0 | AZ13: =SUM(AW13:AY13) -> 0 | BA13: =IFERROR(AZ13/(IF($AT$13>0,$AM$7,0)+IF($AU$13>0,$AP$7,0)+IF($AV$13>0,$AS$7,0)),0) -> 0 | BB13: =IF(SUM(AT13:AV13)>0,1,0) -> 0 | BO13: 56 | BP13: C | BQ13: ="Cukup dalam kompetensi "&silabus!$A$35&", "&silabus!#REF! -> #REF! | BR13: ="Cukup terampil dalam kompetensi "&silabus!$A$36&", "&silabus!#REF! -> #REF! | BS13: Cukup
D14: 3.4 | J14: =IF(SUM(E14:I14)>0,AVERAGE(E14:I14),0) -> 0 | K14: =IF(analis!J14="","",analis!J14) | P14: =IF(SUM(K14:O14)>0,AVERAGE(K14:O14),0) -> 0 | Q14: ='rpp4'!$M$259 | S14: =IF(SUM(Q14:R14)>0,MAX(Q14:R14),0) -> 0 | V14: =IF(SUM(T14:U14)>0,MAX(T14:U14),0) -> 0 | W14: =IF((J14+J29+J44+J59+J74+J89+J104+J119+J134+J149+J164+J179+J194+J209+J224+J239+J254+J269+J284+J299+J314+J329+J344+J359+J374+J389+J404+J419+J434+J449+J464+J479+J494+J509+J524+J539+J554+J569+J584+J599)>0,1,0) -> 0 | X14: =IF((P14+P29+P44+P59+P74+P89+P104+P119+P134+P149+P164+P179+P194+P209+P224+P239+P254+P269+P284+P299+P314+P329+P344+P359+P374+P389+P404+P419+P434+P449+P464+P479+P494+P509+P524+P539+P554+P569+P584+P599)>0,1,0) -> 0 | Y14: =IF((S14+S29+S44+S59+S74+S89+S104+S119+S134+S149+S164+S179+S194+S209+S224+S239+S254+S269+S284+S299+S314+S329+S344+S359+S374+S389+S404+S419+S434+S449+S464+S479+S494+S509+S524+S539+S554+S569+S584+S599)>0,1,0) -> 0 | Z14: =IF((V14+V29+V44+V59+V74+V89+V104+V119+V134+V149+V164+V179+V194+V209+V224+V239+V254+V269+V284+V299+V314+V329+V344+V359+V374+V389+V404+V419+V434+V449+V464+V479+V494+V509+V524+V539+V554+V569+V584+V599)>0,1,0) -> 0 | AA14: =IF($W$14=1,J14*$J$7,0) -> 0 | AB14: =IF($X$14=1,P14*$P$7,0) -> 0 | AC14: =IF($Y$14=1,S14*$S$7,0) -> 0 | AD14: =IF($Z$14=1,V14*$V$7,0) -> 0 | AE14: =SUM(AA14:AD14) -> 0 | AF14: =IFERROR(AE14/(IF($W$14>0,$J$7,0)+IF($X$14>0,$P$7,0)+IF($Y$14>0,$S$7,0)+IF($Z$14>0,$V$7,0)),0) -> 0 | AG14: =IF(SUM(W14:Z14)>0,1,0) -> 0 | AJ14: 4.4 | AK14: ='rpp4'!$M$316 | AM14: =MAX(AK14:AL14) -> 0 | AP14: =MAX(AN14:AO14) -> 0 | AS14: =MAX(AQ14:AR14) -> 0 | AT14: =IF((AM14+AM29+AM44+AM59+AM74+AM89+AM104+AM119+AM134+AM149+AM164+AM179+AM194+AM209+AM224+AM239+AM254+AM269+AM284+AM299+AM314+AM329+AM344+AM359+AM374+AM389+AM404+AM419+AM434+AM449+AM464+AM479+AM494+AM509+AM524+AM539+AM554+AM569+AM584+AM599)>0,1,0) -> 0 | AU14: =IF((AP14+AP29+AP44+AP59+AP74+AP89+AP104+AP119+AP134+AP149+AP164+AP179+AP194+AP209+AP224+AP239+AP254+AP269+AP284+AP299+AP314+AP329+AP344+AP359+AP374+AP389+AP404+AP419+AP434+AP449+AP464+AP479+AP494+AP509+AP524+AP539+AP554+AP569+AP584+AP599)>0,1,0) -> 0 | AV14: =IF((AS14+AS29+AS44+AS59+AS74+AS89+AS104+AS119+AS134+AS149+AS164+AS179+AS194+AS209+AS224+AS239+AS254+AS269+AS284+AS299+AS314+AS329+AS344+AS359+AS374+AS389+AS404+AS419+AS434+AS449+AS464+AS479+AS494+AS509+AS524+AS539+AS554+AS569+AS584+AS599)>0,1,0) -> 0 | AW14: =IF($AT$14=1,AM14*$AM$7,0) -> 0 | AX14: =IF($AU$14=1,AP14*$AP$7,0) -> 0 | AY14: =IF($AV$14=1,AS14*$AS$7,0) -> 0 | AZ14: =SUM(AW14:AY14) -> 0 | BA14: =IFERROR(AZ14/(IF($AT$14>0,$AM$7,0)+IF($AU$14>0,$AP$7,0)+IF($AV$14>0,$AS$7,0)),0) -> 0 | BB14: =IF(SUM(AT14:AV14)>0,1,0) -> 0 | BO14: 0 | BP14: D | BQ14: ="Kurang baik dalam kompetensi "&silabus!$A$35&", "&silabus!#REF! -> #REF! | BR14: ="Cukup terampil dalam kompetensi "&silabus!$A$36&", "&silabus!#REF! -> #REF! | BS14: Kurang
D15: 3.5 | J15: =IF(SUM(E15:I15)>0,AVERAGE(E15:I15),0) -> 0 | K15: =IF(analis!L14="","",analis!L14) | P15: =IF(SUM(K15:O15)>0,AVERAGE(K15:O15),0) -> 0 | Q15: ='rpp5'!$M$259 | S15: =IF(SUM(Q15:R15)>0,MAX(Q15:R15),0) -> 0 | V15: =IF(SUM(T15:U15)>0,MAX(T15:U15),0) -> 0 | W15: =IF((J15+J30+J45+J60+J75+J90+J105+J120+J135+J150+J165+J180+J195+J210+J225+J240+J255+J270+J285+J300+J315+J330+J345+J360+J375+J390+J405+J420+J435+J450+J465+J480+J495+J510+J525+J540+J555+J570+J585+J600)>0,1,0) -> 0 | X15: =IF((P15+P30+P45+P60+P75+P90+P105+P120+P135+P150+P165+P180+P195+P210+P225+P240+P255+P270+P285+P300+P315+P330+P345+P360+P375+P390+P405+P420+P435+P450+P465+P480+P495+P510+P525+P540+P555+P570+P585+P600)>0,1,0) -> 0 | Y15: =IF((S15+S30+S45+S60+S75+S90+S105+S120+S135+S150+S165+S180+S195+S210+S225+S240+S255+S270+S285+S300+S315+S330+S345+S360+S375+S390+S405+S420+S435+S450+S465+S480+S495+S510+S525+S540+S555+S570+S585+S600)>0,1,0) -> 0 | Z15: =IF((V15+V30+V45+V60+V75+V90+V105+V120+V135+V150+V165+V180+V195+V210+V225+V240+V255+V270+V285+V300+V315+V330+V345+V360+V375+V390+V405+V420+V435+V450+V465+V480+V495+V510+V525+V540+V555+V570+V585+V600)>0,1,0) -> 0 | AA15: =IF($W$15=1,J15*$J$7,0) -> 0 | AB15: =IF($X$15=1,P15*$P$7,0) -> 0 | AC15: =IF($Y$15=1,S15*$S$7,0) -> 0 | AD15: =IF($Z$15=1,V15*$V$7,0) -> 0 | AE15: =SUM(AA15:AD15) -> 0 | AF15: =IFERROR(AE15/(IF($W$15>0,$J$7,0)+IF($X$15>0,$P$7,0)+IF($Y$15>0,$S$7,0)+IF($Z$15>0,$V$7,0)),0) -> 0 | AG15: =IF(SUM(W15:Z15)>0,1,0) -> 0 | AJ15: 4.5 | AK15: ='rpp5'!$M$316 | AM15: =MAX(AK15:AL15) -> 0 | AP15: =MAX(AN15:AO15) -> 0 | AS15: =MAX(AQ15:AR15) -> 0 | AT15: =IF((AM15+AM30+AM45+AM60+AM75+AM90+AM105+AM120+AM135+AM150+AM165+AM180+AM195+AM210+AM225+AM240+AM255+AM270+AM285+AM300+AM315+AM330+AM345+AM360+AM375+AM390+AM405+AM420+AM435+AM450+AM465+AM480+AM495+AM510+AM525+AM540+AM555+AM570+AM585+AM600)>0,1,0) -> 0 | AU15: =IF((AP15+AP30+AP45+AP60+AP75+AP90+AP105+AP120+AP135+AP150+AP165+AP180+AP195+AP210+AP225+AP240+AP255+AP270+AP285+AP300+AP315+AP330+AP345+AP360+AP375+AP390+AP405+AP420+AP435+AP450+AP465+AP480+AP495+AP510+AP525+AP540+AP555+AP570+AP585+AP600)>0,1,0) -> 0 | AV15: =IF((AS15+AS30+AS45+AS60+AS75+AS90+AS105+AS120+AS135+AS150+AS165+AS180+AS195+AS210+AS225+AS240+AS255+AS270+AS285+AS300+AS315+AS330+AS345+AS360+AS375+AS390+AS405+AS420+AS435+AS450+AS465+AS480+AS495+AS510+AS525+AS540+AS555+AS570+AS585+AS600)>0,1,0) -> 0 | AW15: =IF($AT$15=1,AM15*$AM$7,0) -> 0 | AX15: =IF($AU$15=1,AP15*$AP$7,0) -> 0 | AY15: =IF($AV$15=1,AS15*$AS$7,0) -> 0 | AZ15: =SUM(AW15:AY15) -> 0 | BA15: =IFERROR(AZ15/(IF($AT$15>0,$AM$7,0)+IF($AU$15>0,$AP$7,0)+IF($AV$15>0,$AS$7,0)),0) -> 0 | BB15: =IF(SUM(AT15:AV15)>0,1,0) -> 0
D16: 3.6 | J16: =IF(SUM(E16:I16)>0,AVERAGE(E16:I16),0) -> 0 | K16: =IF(analis!N14="","",analis!N14) | P16: =IF(SUM(K16:O16)>0,AVERAGE(K16:O16),0) -> 0 | Q16: ='rpp16'!$M$259 | S16: =IF(SUM(Q16:R16)>0,MAX(Q16:R16),0) -> 0 | V16: =IF(SUM(T16:U16)>0,MAX(T16:U16),0) -> 0 | W16: =IF((J16+J31+J46+J61+J76+J91+J106+J121+J136+J151+J166+J181+J196+J211+J226+J241+J256+J271+J286+J301+J316+J331+J346+J361+J376+J391+J406+J421+J436+J451+J466+J481+J496+J511+J526+J541+J556+J571+J586+J601)>0,1,0) -> 0 | X16: =IF((P16+P31+P46+P61+P76+P91+P106+P121+P136+P151+P166+P181+P196+P211+P226+P241+P256+P271+P286+P301+P316+P331+P346+P361+P376+P391+P406+P421+P436+P451+P466+P481+P496+P511+P526+P541+P556+P571+P586+P601)>0,1,0) -> 0 | Y16: =IF((S16+S31+S46+S61+S76+S91+S106+S121+S136+S151+S166+S181+S196+S211+S226+S241+S256+S271+S286+S301+S316+S331+S346+S361+S376+S391+S406+S421+S436+S451+S466+S481+S496+S511+S526+S541+S556+S571+S586+S601)>0,1,0) -> 0 | Z16: =IF((V16+V31+V46+V61+V76+V91+V106+V121+V136+V151+V166+V181+V196+V211+V226+V241+V256+V271+V286+V301+V316+V331+V346+V361+V376+V391+V406+V421+V436+V451+V466+V481+V496+V511+V526+V541+V556+V571+V586+V601)>0,1,0) -> 0 | AA16: =IF($W$16=1,J16*$J$7,0) -> 0 | AB16: =IF($X$16=1,P16*$P$7,0) -> 0 | AC16: =IF($Y$16=1,S16*$S$7,0) -> 0 | AD16: =IF($Z$16=1,V16*$V$7,0) -> 0 | AE16: =SUM(AA16:AD16) -> 0 | AF16: =IFERROR(AE16/(IF($W$16>0,$J$7,0)+IF($X$16>0,$P$7,0)+IF($Y$16>0,$S$7,0)+IF($Z$16>0,$V$7,0)),0) -> 0 | AG16: =IF(SUM(W16:Z16)>0,1,0) -> 0 | AJ16: 4.6 | AK16: ='rpp16'!$M$316 | AM16: =MAX(AK16:AL16) -> 0 | AP16: =MAX(AN16:AO16) -> 0 | AS16: =MAX(AQ16:AR16) -> 0 | AT16: =IF((AM16+AM31+AM46+AM61+AM76+AM91+AM106+AM121+AM136+AM151+AM166+AM181+AM196+AM211+AM226+AM241+AM256+AM271+AM286+AM301+AM316+AM331+AM346+AM361+AM376+AM391+AM406+AM421+AM436+AM451+AM466+AM481+AM496+AM511+AM526+AM541+AM556+AM571+AM586+AM601)>0,1,0) -> 0 | AU16: =IF((AP16+AP31+AP46+AP61+AP76+AP91+AP106+AP121+AP136+AP151+AP166+AP181+AP196+AP211+AP226+AP241+AP256+AP271+AP286+AP301+AP316+AP331+AP346+AP361+AP376+AP391+AP406+AP421+AP436+AP451+AP466+AP481+AP496+AP511+AP526+AP541+AP556+AP571+AP586+AP601)>0,1,0) -> 0 | AV16: =IF((AS16+AS31+AS46+AS61+AS76+AS91+AS106+AS121+AS136+AS151+AS166+AS181+AS196+AS211+AS226+AS241+AS256+AS271+AS286+AS301+AS316+AS331+AS346+AS361+AS376+AS391+AS406+AS421+AS436+AS451+AS466+AS481+AS496+AS511+AS526+AS541+AS556+AS571+AS586+AS601)>0,1,0) -> 0 | AW16: =IF($AT$16=1,AM16*$AM$7,0) -> 0 | AX16: =IF($AU$16=1,AP16*$AP$7,0) -> 0 | AY16: =IF($AV$16=1,AS16*$AS$7,0) -> 0 | AZ16: =SUM(AW16:AY16) -> 0 | BA16: =IFERROR(AZ16/(IF($AT$16>0,$AM$7,0)+IF($AU$16>0,$AP$7,0)+IF($AV$16>0,$AS$7,0)),0) -> 0 | BB16: =IF(SUM(AT16:AV16)>0,1,0) -> 0
D17: 3.7 | J17: =IF(SUM(E17:I17)>0,AVERAGE(E17:I17),0) -> 0 | K17: =IF(analis!P14="","",analis!P14) | P17: =IF(SUM(K17:O17)>0,AVERAGE(K17:O17),0) -> 0 | Q17: ='rpp17'!$M$259 | S17: =IF(SUM(Q17:R17)>0,MAX(Q17:R17),0) -> 0 | V17: =IF(SUM(T17:U17)>0,MAX(T17:U17),0) -> 0 | W17: =IF((J17+J32+J47+J62+J77+J92+J107+J122+J137+J152+J167+J182+J197+J212+J227+J242+J257+J272+J287+J302+J317+J332+J347+J362+J377+J392+J407+J422+J437+J452+J467+J482+J497+J512+J527+J542+J557+J572+J587+J602)>0,1,0) -> 0 | X17: =IF((P17+P32+P47+P62+P77+P92+P107+P122+P137+P152+P167+P182+P197+P212+P227+P242+P257+P272+P287+P302+P317+P332+P347+P362+P377+P392+P407+P422+P437+P452+P467+P482+P497+P512+P527+P542+P557+P572+P587+P602)>0,1,0) -> 0 | Y17: =IF((S17+S32+S47+S62+S77+S92+S107+S122+S137+S152+S167+S182+S197+S212+S227+S242+S257+S272+S287+S302+S317+S332+S347+S362+S377+S392+S407+S422+S437+S452+S467+S482+S497+S512+S527+S542+S557+S572+S587+S602)>0,1,0) -> 0 | Z17: =IF((V17+V32+V47+V62+V77+V92+V107+V122+V137+V152+V167+V182+V197+V212+V227+V242+V257+V272+V287+V302+V317+V332+V347+V362+V377+V392+V407+V422+V437+V452+V467+V482+V497+V512+V527+V542+V557+V572+V587+V602)>0,1,0) -> 0 | AA17: =IF($W$17=1,J17*$J$7,0) -> 0 | AB17: =IF($X$17=1,P17*$P$7,0) -> 0 | AC17: =IF($Y$17=1,S17*$S$7,0) -> 0 | AD17: =IF($Z$17=1,V17*$V$7,0) -> 0 | AE17: =SUM(AA17:AD17) -> 0 | AF17: =IFERROR(AE17/(IF($W$17>0,$J$7,0)+IF($X$17>0,$P$7,0)+IF($Y$17>0,$S$7,0)+IF($Z$17>0,$V$7,0)),0) -> 0 | AG17: =IF(SUM(W17:Z17)>0,1,0) -> 0 | AJ17: 4.7 | AK17: ='rpp17'!$M$316 | AM17: =MAX(AK17:AL17) -> 0 | AP17: =MAX(AN17:AO17) -> 0 | AS17: =MAX(AQ17:AR17) -> 0 | AT17: =IF((AM17+AM32+AM47+AM62+AM77+AM92+AM107+AM122+AM137+AM152+AM167+AM182+AM197+AM212+AM227+AM242+AM257+AM272+AM287+AM302+AM317+AM332+AM347+AM362+AM377+AM392+AM407+AM422+AM437+AM452+AM467+AM482+AM497+AM512+AM527+AM542+AM557+AM572+AM587+AM602)>0,1,0) -> 0 | AU17: =IF((AP17+AP32+AP47+AP62+AP77+AP92+AP107+AP122+AP137+AP152+AP167+AP182+AP197+AP212+AP227+AP242+AP257+AP272+AP287+AP302+AP317+AP332+AP347+AP362+AP377+AP392+AP407+AP422+AP437+AP452+AP467+AP482+AP497+AP512+AP527+AP542+AP557+AP572+AP587+AP602)>0,1,0) -> 0 | AV17: =IF((AS17+AS32+AS47+AS62+AS77+AS92+AS107+AS122+AS137+AS152+AS167+AS182+AS197+AS212+AS227+AS242+AS257+AS272+AS287+AS302+AS317+AS332+AS347+AS362+AS377+AS392+AS407+AS422+AS437+AS452+AS467+AS482+AS497+AS512+AS527+AS542+AS557+AS572+AS587+AS602)>0,1,0) -> 0 | AW17: =IF($AT$17=1,AM17*$AM$7,0) -> 0 | AX17: =IF($AU$17=1,AP17*$AP$7,0) -> 0 | AY17: =IF($AV$17=1,AS17*$AS$7,0) -> 0 | AZ17: =SUM(AW17:AY17) -> 0 | BA17: =IFERROR(AZ17/(IF($AT$17>0,$AM$7,0)+IF($AU$17>0,$AP$7,0)+IF($AV$17>0,$AS$7,0)),0) -> 0 | BB17: =IF(SUM(AT17:AV17)>0,1,0) -> 0
D18: 3.8 | J18: =IF(SUM(E18:I18)>0,AVERAGE(E18:I18),0) -> 0 | K18: =IF(analis!R14="","",analis!R14) | P18: =IF(SUM(K18:O18)>0,AVERAGE(K18:O18),0) -> 0 | Q18: ='rpp18'!$M$259 | S18: =IF(SUM(Q18:R18)>0,MAX(Q18:R18),0) -> 0 | V18: =IF(SUM(T18:U18)>0,MAX(T18:U18),0) -> 0 | W18: =IF((J18+J33+J48+J63+J78+J93+J108+J123+J138+J153+J168+J183+J198+J213+J228+J243+J258+J273+J288+J303+J318+J333+J348+J363+J378+J393+J408+J423+J438+J453+J468+J483+J498+J513+J528+J543+J558+J573+J588+J603)>0,1,0) -> 0 | X18: =IF((P18+P33+P48+P63+P78+P93+P108+P123+P138+P153+P168+P183+P198+P213+P228+P243+P258+P273+P288+P303+P318+P333+P348+P363+P378+P393+P408+P423+P438+P453+P468+P483+P498+P513+P528+P543+P558+P573+P588+P603)>0,1,0) -> 0 | Y18: =IF((S18+S33+S48+S63+S78+S93+S108+S123+S138+S153+S168+S183+S198+S213+S228+S243+S258+S273+S288+S303+S318+S333+S348+S363+S378+S393+S408+S423+S438+S453+S468+S483+S498+S513+S528+S543+S558+S573+S588+S603)>0,1,0) -> 0 | Z18: =IF((V18+V33+V48+V63+V78+V93+V108+V123+V138+V153+V168+V183+V198+V213+V228+V243+V258+V273+V288+V303+V318+V333+V348+V363+V378+V393+V408+V423+V438+V453+V468+V483+V498+V513+V528+V543+V558+V573+V588+V603)>0,1,0) -> 0 | AA18: =IF($W$18=1,J18*$J$7,0) -> 0 | AB18: =IF($X$18=1,P18*$P$7,0) -> 0 | AC18: =IF($Y$18=1,S18*$S$7,0) -> 0 | AD18: =IF($Z$18=1,V18*$V$7,0) -> 0 | AE18: =SUM(AA18:AD18) -> 0 | AF18: =IFERROR(AE18/(IF($W$18>0,$J$7,0)+IF($X$18>0,$P$7,0)+IF($Y$18>0,$S$7,0)+IF($Z$18>0,$V$7,0)),0) -> 0 | AG18: =IF(SUM(W18:Z18)>0,1,0) -> 0 | AJ18: 4.8 | AK18: ='rpp18'!$M$316 | AM18: =MAX(AK18:AL18) -> 0 | AP18: =MAX(AN18:AO18) -> 0 | AS18: =MAX(AQ18:AR18) -> 0 | AT18: =IF((AM18+AM33+AM48+AM63+AM78+AM93+AM108+AM123+AM138+AM153+AM168+AM183+AM198+AM213+AM228+AM243+AM258+AM273+AM288+AM303+AM318+AM333+AM348+AM363+AM378+AM393+AM408+AM423+AM438+AM453+AM468+AM483+AM498+AM513+AM528+AM543+AM558+AM573+AM588+AM603)>0,1,0) -> 0 | AU18: =IF((AP18+AP33+AP48+AP63+AP78+AP93+AP108+AP123+AP138+AP153+AP168+AP183+AP198+AP213+AP228+AP243+AP258+AP273+AP288+AP303+AP318+AP333+AP348+AP363+AP378+AP393+AP408+AP423+AP438+AP453+AP468+AP483+AP498+AP513+AP528+AP543+AP558+AP573+AP588+AP603)>0,1,0) -> 0 | AV18: =IF((AS18+AS33+AS48+AS63+AS78+AS93+AS108+AS123+AS138+AS153+AS168+AS183+AS198+AS213+AS228+AS243+AS258+AS273+AS288+AS303+AS318+AS333+AS348+AS363+AS378+AS393+AS408+AS423+AS438+AS453+AS468+AS483+AS498+AS513+AS528+AS543+AS558+AS573+AS588+AS603)>0,1,0) -> 0 | AW18: =IF($AT$18=1,AM18*$AM$7,0) -> 0 | AX18: =IF($AU$18=1,AP18*$AP$7,0) -> 0 | AY18: =IF($AV$18=1,AS18*$AS$7,0) -> 0 | AZ18: =SUM(AW18:AY18) -> 0 | BA18: =IFERROR(AZ18/(IF($AT$18>0,$AM$7,0)+IF($AU$18>0,$AP$7,0)+IF($AV$18>0,$AS$7,0)),0) -> 0 | BB18: =IF(SUM(AT18:AV18)>0,1,0) -> 0
D19: 3.9 | J19: =IF(SUM(E19:I19)>0,AVERAGE(E19:I19),0) -> 0 | K19: =IF(analis!T14="","",analis!T14) | P19: =IF(SUM(K19:O19)>0,AVERAGE(K19:O19),0) -> 0 | Q19: ='rpp19'!$M$259 | S19: =IF(SUM(Q19:R19)>0,MAX(Q19:R19),0) -> 0 | V19: =IF(SUM(T19:U19)>0,MAX(T19:U19),0) -> 0 | W19: =IF((J19+J34+J49+J64+J79+J94+J109+J124+J139+J154+J169+J184+J199+J214+J229+J244+J259+J274+J289+J304+J319+J334+J349+J364+J379+J394+J409+J424+J439+J454+J469+J484+J499+J514+J529+J544+J559+J574+J589+J604)>0,1,0) -> 0 | X19: =IF((P19+P34+P49+P64+P79+P94+P109+P124+P139+P154+P169+P184+P199+P214+P229+P244+P259+P274+P289+P304+P319+P334+P349+P364+P379+P394+P409+P424+P439+P454+P469+P484+P499+P514+P529+P544+P559+P574+P589+P604)>0,1,0) -> 0 | Y19: =IF((S19+S34+S49+S64+S79+S94+S109+S124+S139+S154+S169+S184+S199+S214+S229+S244+S259+S274+S289+S304+S319+S334+S349+S364+S379+S394+S409+S424+S439+S454+S469+S484+S499+S514+S529+S544+S559+S574+S589+S604)>0,1,0) -> 0 | Z19: =IF((V19+V34+V49+V64+V79+V94+V109+V124+V139+V154+V169+V184+V199+V214+V229+V244+V259+V274+V289+V304+V319+V334+V349+V364+V379+V394+V409+V424+V439+V454+V469+V484+V499+V514+V529+V544+V559+V574+V589+V604)>0,1,0) -> 0 | AA19: =IF($W$19=1,J19*$J$7,0) -> 0 | AB19: =IF($X$19=1,P19*$P$7,0) -> 0 | AC19: =IF($Y$19=1,S19*$S$7,0) -> 0 | AD19: =IF($Z$19=1,V19*$V$7,0) -> 0 | AE19: =SUM(AA19:AD19) -> 0 | AF19: =IFERROR(AE19/(IF($W$19>0,$J$7,0)+IF($X$19>0,$P$7,0)+IF($Y$19>0,$S$7,0)+IF($Z$19>0,$V$7,0)),0) -> 0 | AG19: =IF(SUM(W19:Z19)>0,1,0) -> 0 | AJ19: 4.9 | AK19: ='rpp19'!$M$316 | AM19: =MAX(AK19:AL19) -> 0 | AP19: =MAX(AN19:AO19) -> 0 | AS19: =MAX(AQ19:AR19) -> 0 | AT19: =IF((AM19+AM34+AM49+AM64+AM79+AM94+AM109+AM124+AM139+AM154+AM169+AM184+AM199+AM214+AM229+AM244+AM259+AM274+AM289+AM304+AM319+AM334+AM349+AM364+AM379+AM394+AM409+AM424+AM439+AM454+AM469+AM484+AM499+AM514+AM529+AM544+AM559+AM574+AM589+AM604)>0,1,0) -> 0 | AU19: =IF((AP19+AP34+AP49+AP64+AP79+AP94+AP109+AP124+AP139+AP154+AP169+AP184+AP199+AP214+AP229+AP244+AP259+AP274+AP289+AP304+AP319+AP334+AP349+AP364+AP379+AP394+AP409+AP424+AP439+AP454+AP469+AP484+AP499+AP514+AP529+AP544+AP559+AP574+AP589+AP604)>0,1,0) -> 0 | AV19: =IF((AS19+AS34+AS49+AS64+AS79+AS94+AS109+AS124+AS139+AS154+AS169+AS184+AS199+AS214+AS229+AS244+AS259+AS274+AS289+AS304+AS319+AS334+AS349+AS364+AS379+AS394+AS409+AS424+AS439+AS454+AS469+AS484+AS499+AS514+AS529+AS544+AS559+AS574+AS589+AS604)>0,1,0) -> 0 | AW19: =IF($AT$19=1,AM19*$AM$7,0) -> 0 | AX19: =IF($AU$19=1,AP19*$AP$7,0) -> 0 | AY19: =IF($AV$19=1,AS19*$AS$7,0) -> 0 | AZ19: =SUM(AW19:AY19) -> 0 | BA19: =IFERROR(AZ19/(IF($AT$19>0,$AM$7,0)+IF($AU$19>0,$AP$7,0)+IF($AV$19>0,$AS$7,0)),0) -> 0 | BB19: =IF(SUM(AT19:AV19)>0,1,0) -> 0
D20: 3.10 | J20: =IF(SUM(E20:I20)>0,AVERAGE(E20:I20),0) -> 0 | K20: =IF(analis!V14="","",analis!V14) | P20: =IF(SUM(K20:O20)>0,AVERAGE(K20:O20),0) -> 0 | Q20: ='rpp20'!$M$259 | S20: =IF(SUM(Q20:R20)>0,MAX(Q20:R20),0) -> 0 | V20: =IF(SUM(T20:U20)>0,MAX(T20:U20),0) -> 0 | W20: =IF((J20+J35+J50+J65+J80+J95+J110+J125+J140+J155+J170+J185+J200+J215+J230+J245+J260+J275+J290+J305+J320+J335+J350+J365+J380+J395+J410+J425+J440+J455+J470+J485+J500+J515+J530+J545+J560+J575+J590+J605)>0,1,0) -> 0 | X20: =IF((P20+P35+P50+P65+P80+P95+P110+P125+P140+P155+P170+P185+P200+P215+P230+P245+P260+P275+P290+P305+P320+P335+P350+P365+P380+P395+P410+P425+P440+P455+P470+P485+P500+P515+P530+P545+P560+P575+P590+P605)>0,1,0) -> 0 | Y20: =IF((S20+S35+S50+S65+S80+S95+S110+S125+S140+S155+S170+S185+S200+S215+S230+S245+S260+S275+S290+S305+S320+S335+S350+S365+S380+S395+S410+S425+S440+S455+S470+S485+S500+S515+S530+S545+S560+S575+S590+S605)>0,1,0) -> 0 | Z20: =IF((V20+V35+V50+V65+V80+V95+V110+V125+V140+V155+V170+V185+V200+V215+V230+V245+V260+V275+V290+V305+V320+V335+V350+V365+V380+V395+V410+V425+V440+V455+V470+V485+V500+V515+V530+V545+V560+V575+V590+V605)>0,1,0) -> 0 | AA20: =IF($W$20=1,J20*$J$7,0) -> 0 | AB20: =IF($X$20=1,P20*$P$7,0) -> 0 | AC20: =IF($Y$20=1,S20*$S$7,0) -> 0 | AD20: =IF($Z$20=1,V20*$V$7,0) -> 0 | AE20: =SUM(AA20:AD20) -> 0 | AF20: =IFERROR(AE20/(IF($W$20>0,$J$7,0)+IF($X$20>0,$P$7,0)+IF($Y$20>0,$S$7,0)+IF($Z$20>0,$V$7,0)),0) -> 0 | AG20: =IF(SUM(W20:Z20)>0,1,0) -> 0 | AJ20: 4.10 | AK20: ='rpp20'!$M$316 | AM20: =MAX(AK20:AL20) -> 0 | AP20: =MAX(AN20:AO20) -> 0 | AS20: =MAX(AQ20:AR20) -> 0 | AT20: =IF((AM20+AM35+AM50+AM65+AM80+AM95+AM110+AM125+AM140+AM155+AM170+AM185+AM200+AM215+AM230+AM245+AM260+AM275+AM290+AM305+AM320+AM335+AM350+AM365+AM380+AM395+AM410+AM425+AM440+AM455+AM470+AM485+AM500+AM515+AM530+AM545+AM560+AM575+AM590+AM605)>0,1,0) -> 0 | AU20: =IF((AP20+AP35+AP50+AP65+AP80+AP95+AP110+AP125+AP140+AP155+AP170+AP185+AP200+AP215+AP230+AP245+AP260+AP275+AP290+AP305+AP320+AP335+AP350+AP365+AP380+AP395+AP410+AP425+AP440+AP455+AP470+AP485+AP500+AP515+AP530+AP545+AP560+AP575+AP590+AP605)>0,1,0) -> 0 | AV20: =IF((AS20+AS35+AS50+AS65+AS80+AS95+AS110+AS125+AS140+AS155+AS170+AS185+AS200+AS215+AS230+AS245+AS260+AS275+AS290+AS305+AS320+AS335+AS350+AS365+AS380+AS395+AS410+AS425+AS440+AS455+AS470+AS485+AS500+AS515+AS530+AS545+AS560+AS575+AS590+AS605)>0,1,0) -> 0 | AW20: =IF($AT$20=1,AM20*$AM$7,0) -> 0 | AX20: =IF($AU$20=1,AP20*$AP$7,0) -> 0 | AY20: =IF($AV$20=1,AS20*$AS$7,0) -> 0 | AZ20: =SUM(AW20:AY20) -> 0 | BA20: =IFERROR(AZ20/(IF($AT$20>0,$AM$7,0)+IF($AU$20>0,$AP$7,0)+IF($AV$20>0,$AS$7,0)),0) -> 0 | BB20: =IF(SUM(AT20:AV20)>0,1,0) -> 0
D21: 3.11 | J21: =IF(SUM(E21:I21)>0,AVERAGE(E21:I21),0) -> 0 | K21: =IF(analis!X14="","",analis!X14) | P21: =IF(SUM(K21:O21)>0,AVERAGE(K21:O21),0) -> 0 | Q21: ='rpp11'!$M$259 | S21: =IF(SUM(Q21:R21)>0,MAX(Q21:R21),0) -> 0 | V21: =IF(SUM(T21:U21)>0,MAX(T21:U21),0) -> 0 | W21: =IF((J21+J36+J51+J66+J81+J96+J111+J126+J141+J156+J171+J186+J201+J216+J231+J246+J261+J276+J291+J306+J321+J336+J351+J366+J381+J396+J411+J426+J441+J456+J471+J486+J501+J516+J531+J546+J561+J576+J591+J606)>0,1,0) -> 0 | X21: =IF((P21+P36+P51+P66+P81+P96+P111+P126+P141+P156+P171+P186+P201+P216+P231+P246+P261+P276+P291+P306+P321+P336+P351+P366+P381+P396+P411+P426+P441+P456+P471+P486+P501+P516+P531+P546+P561+P576+P591+P606)>0,1,0) -> 0 | Y21: =IF((S21+S36+S51+S66+S81+S96+S111+S126+S141+S156+S171+S186+S201+S216+S231+S246+S261+S276+S291+S306+S321+S336+S351+S366+S381+S396+S411+S426+S441+S456+S471+S486+S501+S516+S531+S546+S561+S576+S591+S606)>0,1,0) -> 0 | Z21: =IF((V21+V36+V51+V66+V81+V96+V111+V126+V141+V156+V171+V186+V201+V216+V231+V246+V261+V276+V291+V306+V321+V336+V351+V366+V381+V396+V411+V426+V441+V456+V471+V486+V501+V516+V531+V546+V561+V576+V591+V606)>0,1,0) -> 0 | AA21: =IF($W$21=1,J21*$J$7,0) -> 0 | AB21: =IF($X$21=1,P21*$P$7,0) -> 0 | AC21: =IF($Y$21=1,S21*$S$7,0) -> 0 | AD21: =IF($Z$21=1,V21*$V$7,0) -> 0 | AE21: =SUM(AA21:AD21) -> 0 | AF21: =IFERROR(AE21/(IF($W$21>0,$J$7,0)+IF($X$21>0,$P$7,0)+IF($Y$21>0,$S$7,0)+IF($Z$21>0,$V$7,0)),0) -> 0 | AG21: =IF(SUM(W21:Z21)>0,1,0) -> 0 | AJ21: 4.11 | AK21: ='rpp11'!$M$316 | AM21: =MAX(AK21:AL21) -> 0 | AP21: =MAX(AN21:AO21) -> 0 | AS21: =MAX(AQ21:AR21) -> 0 | AT21: =IF((AM21+AM36+AM51+AM66+AM81+AM96+AM111+AM126+AM141+AM156+AM171+AM186+AM201+AM216+AM231+AM246+AM261+AM276+AM291+AM306+AM321+AM336+AM351+AM366+AM381+AM396+AM411+AM426+AM441+AM456+AM471+AM486+AM501+AM516+AM531+AM546+AM561+AM576+AM591+AM606)>0,1,0) -> 0 | AU21: =IF((AP21+AP36+AP51+AP66+AP81+AP96+AP111+AP126+AP141+AP156+AP171+AP186+AP201+AP216+AP231+AP246+AP261+AP276+AP291+AP306+AP321+AP336+AP351+AP366+AP381+AP396+AP411+AP426+AP441+AP456+AP471+AP486+AP501+AP516+AP531+AP546+AP561+AP576+AP591+AP606)>0,1,0) -> 0 | AV21: =IF((AS21+AS36+AS51+AS66+AS81+AS96+AS111+AS126+AS141+AS156+AS171+AS186+AS201+AS216+AS231+AS246+AS261+AS276+AS291+AS306+AS321+AS336+AS351+AS366+AS381+AS396+AS411+AS426+AS441+AS456+AS471+AS486+AS501+AS516+AS531+AS546+AS561+AS576+AS591+AS606)>0,1,0) -> 0 | AW21: =IF($AT$21=1,AM21*$AM$7,0) -> 0 | AX21: =IF($AU$21=1,AP21*$AP$7,0) -> 0 | AY21: =IF($AV$21=1,AS21*$AS$7,0) -> 0 | AZ21: =SUM(AW21:AY21) -> 0 | BA21: =IFERROR(AZ21/(IF($AT$21>0,$AM$7,0)+IF($AU$21>0,$AP$7,0)+IF($AV$21>0,$AS$7,0)),0) -> 0 | BB21: =IF(SUM(AT21:AV21)>0,1,0) -> 0
D22: 3.12 | J22: =IF(SUM(E22:I22)>0,AVERAGE(E22:I22),0) -> 0 | K22: =IF(analis!Z14="","",analis!Z14) | P22: =IF(SUM(K22:O22)>0,AVERAGE(K22:O22),0) -> 0 | Q22: ='rpp12'!$M$259 | S22: =IF(SUM(Q22:R22)>0,MAX(Q22:R22),0) -> 0 | V22: =IF(SUM(T22:U22)>0,MAX(T22:U22),0) -> 0 | W22: =IF((J22+J37+J52+J67+J82+J97+J112+J127+J142+J157+J172+J187+J202+J217+J232+J247+J262+J277+J292+J307+J322+J337+J352+J367+J382+J397+J412+J427+J442+J457+J472+J487+J502+J517+J532+J547+J562+J577+J592+J607)>0,1,0) -> 0 | X22: =IF((P22+P37+P52+P67+P82+P97+P112+P127+P142+P157+P172+P187+P202+P217+P232+P247+P262+P277+P292+P307+P322+P337+P352+P367+P382+P397+P412+P427+P442+P457+P472+P487+P502+P517+P532+P547+P562+P577+P592+P607)>0,1,0) -> 0 | Y22: =IF((S22+S37+S52+S67+S82+S97+S112+S127+S142+S157+S172+S187+S202+S217+S232+S247+S262+S277+S292+S307+S322+S337+S352+S367+S382+S397+S412+S427+S442+S457+S472+S487+S502+S517+S532+S547+S562+S577+S592+S607)>0,1,0) -> 0 | Z22: =IF((V22+V37+V52+V67+V82+V97+V112+V127+V142+V157+V172+V187+V202+V217+V232+V247+V262+V277+V292+V307+V322+V337+V352+V367+V382+V397+V412+V427+V442+V457+V472+V487+V502+V517+V532+V547+V562+V577+V592+V607)>0,1,0) -> 0 | AA22: =IF($W$22=1,J22*$J$7,0) -> 0 | AB22: =IF($X$22=1,P22*$P$7,0) -> 0 | AC22: =IF($Y$22=1,S22*$S$7,0) -> 0 | AD22: =IF($Z$22=1,V22*$V$7,0) -> 0 | AE22: =SUM(AA22:AD22) -> 0 | AF22: =IFERROR(AE22/(IF($W$22>0,$J$7,0)+IF($X$22>0,$P$7,0)+IF($Y$22>0,$S$7,0)+IF($Z$22>0,$V$7,0)),0) -> 0 | AG22: =IF(SUM(W22:Z22)>0,1,0) -> 0 | AJ22: 4.12 | AK22: ='rpp12'!$M$316 | AM22: =MAX(AK22:AL22) -> 0 | AP22: =MAX(AN22:AO22) -> 0 | AS22: =MAX(AQ22:AR22) -> 0 | AT22: =IF((AM22+AM37+AM52+AM67+AM82+AM97+AM112+AM127+AM142+AM157+AM172+AM187+AM202+AM217+AM232+AM247+AM262+AM277+AM292+AM307+AM322+AM337+AM352+AM367+AM382+AM397+AM412+AM427+AM442+AM457+AM472+AM487+AM502+AM517+AM532+AM547+AM562+AM577+AM592+AM607)>0,1,0) -> 0 | AU22: =IF((AP22+AP37+AP52+AP67+AP82+AP97+AP112+AP127+AP142+AP157+AP172+AP187+AP202+AP217+AP232+AP247+AP262+AP277+AP292+AP307+AP322+AP337+AP352+AP367+AP382+AP397+AP412+AP427+AP442+AP457+AP472+AP487+AP502+AP517+AP532+AP547+AP562+AP577+AP592+AP607)>0,1,0) -> 0 | AV22: =IF((AS22+AS37+AS52+AS67+AS82+AS97+AS112+AS127+AS142+AS157+AS172+AS187+AS202+AS217+AS232+AS247+AS262+AS277+AS292+AS307+AS322+AS337+AS352+AS367+AS382+AS397+AS412+AS427+AS442+AS457+AS472+AS487+AS502+AS517+AS532+AS547+AS562+AS577+AS592+AS607)>0,1,0) -> 0 | AW22: =IF($AT$22=1,AM22*$AM$7,0) -> 0 | AX22: =IF($AU$22=1,AP22*$AP$7,0) -> 0 | AY22: =IF($AV$22=1,AS22*$AS$7,0) -> 0 | AZ22: =SUM(AW22:AY22) -> 0 | BA22: =IFERROR(AZ22/(IF($AT$22>0,$AM$7,0)+IF($AU$22>0,$AP$7,0)+IF($AV$22>0,$AS$7,0)),0) -> 0 | BB22: =IF(SUM(AT22:AV22)>0,1,0) -> 0
D23: 3.13 | J23: =IF(SUM(E23:I23)>0,AVERAGE(E23:I23),0) -> 0 | K23: =IF(analis!AB14="","",analis!AB14) | P23: =IF(SUM(K23:O23)>0,AVERAGE(K23:O23),0) -> 0 | Q23: ='rpp13'!$M$259 | S23: =IF(SUM(Q23:R23)>0,MAX(Q23:R23),0) -> 0 | V23: =IF(SUM(T23:U23)>0,MAX(T23:U23),0) -> 0 | W23: =IF((J23+J38+J53+J68+J83+J98+J113+J128+J143+J158+J173+J188+J203+J218+J233+J248+J263+J278+J293+J308+J323+J338+J353+J368+J383+J398+J413+J428+J443+J458+J473+J488+J503+J518+J533+J548+J563+J578+J593+J608)>0,1,0) -> 0 | X23: =IF((P23+P38+P53+P68+P83+P98+P113+P128+P143+P158+P173+P188+P203+P218+P233+P248+P263+P278+P293+P308+P323+P338+P353+P368+P383+P398+P413+P428+P443+P458+P473+P488+P503+P518+P533+P548+P563+P578+P593+P608)>0,1,0) -> 0 | Y23: =IF((S23+S38+S53+S68+S83+S98+S113+S128+S143+S158+S173+S188+S203+S218+S233+S248+S263+S278+S293+S308+S323+S338+S353+S368+S383+S398+S413+S428+S443+S458+S473+S488+S503+S518+S533+S548+S563+S578+S593+S608)>0,1,0) -> 0 | Z23: =IF((V23+V38+V53+V68+V83+V98+V113+V128+V143+V158+V173+V188+V203+V218+V233+V248+V263+V278+V293+V308+V323+V338+V353+V368+V383+V398+V413+V428+V443+V458+V473+V488+V503+V518+V533+V548+V563+V578+V593+V608)>0,1,0) -> 0 | AA23: =IF($W$23=1,J23*$J$7,0) -> 0 | AB23: =IF($X$23=1,P23*$P$7,0) -> 0 | AC23: =IF($Y$23=1,S23*$S$7,0) -> 0 | AD23: =IF($Z$23=1,V23*$V$7,0) -> 0 | AE23: =SUM(AA23:AD23) -> 0 | AF23: =IFERROR(AE23/(IF($W$23>0,$J$7,0)+IF($X$23>0,$P$7,0)+IF($Y$23>0,$S$7,0)+IF($Z$23>0,$V$7,0)),0) -> 0 | AG23: =IF(SUM(W23:Z23)>0,1,0) -> 0 | AJ23: 4.13 | AK23: ='rpp13'!$M$316 | AM23: =MAX(AK23:AL23) -> 0 | AP23: =MAX(AN23:AO23) -> 0 | AS23: =MAX(AQ23:AR23) -> 0 | AT23: =IF((AM23+AM38+AM53+AM68+AM83+AM98+AM113+AM128+AM143+AM158+AM173+AM188+AM203+AM218+AM233+AM248+AM263+AM278+AM293+AM308+AM323+AM338+AM353+AM368+AM383+AM398+AM413+AM428+AM443+AM458+AM473+AM488+AM503+AM518+AM533+AM548+AM563+AM578+AM593+AM608)>0,1,0) -> 0 | AU23: =IF((AP23+AP38+AP53+AP68+AP83+AP98+AP113+AP128+AP143+AP158+AP173+AP188+AP203+AP218+AP233+AP248+AP263+AP278+AP293+AP308+AP323+AP338+AP353+AP368+AP383+AP398+AP413+AP428+AP443+AP458+AP473+AP488+AP503+AP518+AP533+AP548+AP563+AP578+AP593+AP608)>0,1,0) -> 0 | AV23: =IF((AS23+AS38+AS53+AS68+AS83+AS98+AS113+AS128+AS143+AS158+AS173+AS188+AS203+AS218+AS233+AS248+AS263+AS278+AS293+AS308+AS323+AS338+AS353+AS368+AS383+AS398+AS413+AS428+AS443+AS458+AS473+AS488+AS503+AS518+AS533+AS548+AS563+AS578+AS593+AS608)>0,1,0) -> 0 | AW23: =IF($AT$23=1,AM23*$AM$7,0) -> 0 | AX23: =IF($AU$23=1,AP23*$AP$7,0) -> 0 | AY23: =IF($AV$23=1,AS23*$AS$7,0) -> 0 | AZ23: =SUM(AW23:AY23) -> 0 | BA23: =IFERROR(AZ23/(IF($AT$23>0,$AM$7,0)+IF($AU$23>0,$AP$7,0)+IF($AV$23>0,$AS$7,0)),0) -> 0 | BB23: =IF(SUM(AT23:AV23)>0,1,0) -> 0
D24: 3.14 | J24: =IF(SUM(E24:I24)>0,AVERAGE(E24:I24),0) -> 0 | K24: =IF(analis!AD14="","",analis!AD14) | P24: =IF(SUM(K24:O24)>0,AVERAGE(K24:O24),0) -> 0 | Q24: ='rpp14'!$M$259 | S24: =IF(SUM(Q24:R24)>0,MAX(Q24:R24),0) -> 0 | V24: =IF(SUM(T24:U24)>0,MAX(T24:U24),0) -> 0 | W24: =IF((J24+J39+J54+J69+J84+J99+J114+J129+J144+J159+J174+J189+J204+J219+J234+J249+J264+J279+J294+J309+J324+J339+J354+J369+J384+J399+J414+J429+J444+J459+J474+J489+J504+J519+J534+J549+J564+J579+J594+J609)>0,1,0) -> 0 | X24: =IF((P24+P39+P54+P69+P84+P99+P114+P129+P144+P159+P174+P189+P204+P219+P234+P249+P264+P279+P294+P309+P324+P339+P354+P369+P384+P399+P414+P429+P444+P459+P474+P489+P504+P519+P534+P549+P564+P579+P594+P609)>0,1,0) -> 0 | Y24: =IF((S24+S39+S54+S69+S84+S99+S114+S129+S144+S159+S174+S189+S204+S219+S234+S249+S264+S279+S294+S309+S324+S339+S354+S369+S384+S399+S414+S429+S444+S459+S474+S489+S504+S519+S534+S549+S564+S579+S594+S609)>0,1,0) -> 0 | Z24: =IF((V24+V39+V54+V69+V84+V99+V114+V129+V144+V159+V174+V189+V204+V219+V234+V249+V264+V279+V294+V309+V324+V339+V354+V369+V384+V399+V414+V429+V444+V459+V474+V489+V504+V519+V534+V549+V564+V579+V594+V609)>0,1,0) -> 0 | AA24: =IF($W$24=1,J24*$J$7,0) -> 0 | AB24: =IF($X$24=1,P24*$P$7,0) -> 0 | AC24: =IF($Y$24=1,S24*$S$7,0) -> 0 | AD24: =IF($Z$24=1,V24*$V$7,0) -> 0 | AE24: =SUM(AA24:AD24) -> 0 | AF24: =IFERROR(AE24/(IF($W$24>0,$J$7,0)+IF($X$24>0,$P$7,0)+IF($Y$24>0,$S$7,0)+IF($Z$24>0,$V$7,0)),0) -> 0 | AG24: =IF(SUM(W24:Z24)>0,1,0) -> 0 | AJ24: 4.14 | AK24: ='rpp14'!$M$316 | AM24: =MAX(AK24:AL24) -> 0 | AP24: =MAX(AN24:AO24) -> 0 | AS24: =MAX(AQ24:AR24) -> 0 | AT24: =IF((AM24+AM39+AM54+AM69+AM84+AM99+AM114+AM129+AM144+AM159+AM174+AM189+AM204+AM219+AM234+AM249+AM264+AM279+AM294+AM309+AM324+AM339+AM354+AM369+AM384+AM399+AM414+AM429+AM444+AM459+AM474+AM489+AM504+AM519+AM534+AM549+AM564+AM579+AM594+AM609)>0,1,0) -> 0 | AU24: =IF((AP24+AP39+AP54+AP69+AP84+AP99+AP114+AP129+AP144+AP159+AP174+AP189+AP204+AP219+AP234+AP249+AP264+AP279+AP294+AP309+AP324+AP339+AP354+AP369+AP384+AP399+AP414+AP429+AP444+AP459+AP474+AP489+AP504+AP519+AP534+AP549+AP564+AP579+AP594+AP609)>0,1,0) -> 0 | AV24: =IF((AS24+AS39+AS54+AS69+AS84+AS99+AS114+AS129+AS144+AS159+AS174+AS189+AS204+AS219+AS234+AS249+AS264+AS279+AS294+AS309+AS324+AS339+AS354+AS369+AS384+AS399+AS414+AS429+AS444+AS459+AS474+AS489+AS504+AS519+AS534+AS549+AS564+AS579+AS594+AS609)>0,1,0) -> 0 | AW24: =IF($AT$24=1,AM24*$AM$7,0) -> 0 | AX24: =IF($AU$24=1,AP24*$AP$7,0) -> 0 | AY24: =IF($AV$24=1,AS24*$AS$7,0) -> 0 | AZ24: =SUM(AW24:AY24) -> 0 | BA24: =IFERROR(AZ24/(IF($AT$24>0,$AM$7,0)+IF($AU$24>0,$AP$7,0)+IF($AV$24>0,$AS$7,0)),0) -> 0 | BB24: =IF(SUM(AT24:AV24)>0,1,0) -> 0
D25: 3.15 | J25: =IF(SUM(E25:I25)>0,AVERAGE(E25:I25),0) -> 0 | K25: =IF(analis!AF14="","",analis!AF14) | P25: =IF(SUM(K25:O25)>0,AVERAGE(K25:O25),0) -> 0 | Q25: ='rpp15'!$M$259 | S25: =IF(SUM(Q25:R25)>0,MAX(Q25:R25),0) -> 0 | V25: =IF(SUM(T25:U25)>0,MAX(T25:U25),0) -> 0 | W25: =IF((J25+J40+J55+J70+J85+J100+J115+J130+J145+J160+J175+J190+J205+J220+J235+J250+J265+J280+J295+J310+J325+J340+J355+J370+J385+J400+J415+J430+J445+J460+J475+J490+J505+J520+J535+J550+J565+J580+J595+J610)>0,1,0) -> 0 | X25: =IF((P25+P40+P55+P70+P85+P100+P115+P130+P145+P160+P175+P190+P205+P220+P235+P250+P265+P280+P295+P310+P325+P340+P355+P370+P385+P400+P415+P430+P445+P460+P475+P490+P505+P520+P535+P550+P565+P580+P595+P610)>0,1,0) -> 0 | Y25: =IF((S25+S40+S55+S70+S85+S100+S115+S130+S145+S160+S175+S190+S205+S220+S235+S250+S265+S280+S295+S310+S325+S340+S355+S370+S385+S400+S415+S430+S445+S460+S475+S490+S505+S520+S535+S550+S565+S580+S595+S610)>0,1,0) -> 0 | Z25: =IF((V25+V40+V55+V70+V85+V100+V115+V130+V145+V160+V175+V190+V205+V220+V235+V250+V265+V280+V295+V310+V325+V340+V355+V370+V385+V400+V415+V430+V445+V460+V475+V490+V505+V520+V535+V550+V565+V580+V595+V610)>0,1,0) -> 0 | AA25: =IF($W$25=1,J25*$J$7,0) -> 0 | AB25: =IF($X$25=1,P25*$P$7,0) -> 0 | AC25: =IF($Y$25=1,S25*$S$7,0) -> 0 | AD25: =IF($Z$25=1,V25*$V$7,0) -> 0 | AE25: =SUM(AA25:AD25) -> 0 | AF25: =IFERROR(AE25/(IF($W$25>0,$J$7,0)+IF($X$25>0,$P$7,0)+IF($Y$25>0,$S$7,0)+IF($Z$25>0,$V$7,0)),0) -> 0 | AG25: =IF(SUM(W25:Z25)>0,1,0) -> 0 | AJ25: 4.15 | AK25: ='rpp15'!$M$316 | AM25: =MAX(AK25:AL25) -> 0 | AP25: =MAX(AN25:AO25) -> 0 | AS25: =MAX(AQ25:AR25) -> 0 | AT25: =IF((AM25+AM40+AM55+AM70+AM85+AM100+AM115+AM130+AM145+AM160+AM175+AM190+AM205+AM220+AM235+AM250+AM265+AM280+AM295+AM310+AM325+AM340+AM355+AM370+AM385+AM400+AM415+AM430+AM445+AM460+AM475+AM490+AM505+AM520+AM535+AM550+AM565+AM580+AM595+AM610)>0,1,0) -> 0 | AU25: =IF((AP25+AP40+AP55+AP70+AP85+AP100+AP115+AP130+AP145+AP160+AP175+AP190+AP205+AP220+AP235+AP250+AP265+AP280+AP295+AP310+AP325+AP340+AP355+AP370+AP385+AP400+AP415+AP430+AP445+AP460+AP475+AP490+AP505+AP520+AP535+AP550+AP565+AP580+AP595+AP610)>0,1,0) -> 0 | AV25: =IF((AS25+AS40+AS55+AS70+AS85+AS100+AS115+AS130+AS145+AS160+AS175+AS190+AS205+AS220+AS235+AS250+AS265+AS280+AS295+AS310+AS325+AS340+AS355+AS370+AS385+AS400+AS415+AS430+AS445+AS460+AS475+AS490+AS505+AS520+AS535+AS550+AS565+AS580+AS595+AS610)>0,1,0) -> 0 | AW25: =IF($AT$25=1,AM25*$AM$7,0) -> 0 | AX25: =IF($AU$25=1,AP25*$AP$7,0) -> 0 | AY25: =IF($AV$25=1,AS25*$AS$7,0) -> 0 | AZ25: =SUM(AW25:AY25) -> 0 | BA25: =IFERROR(AZ25/(IF($AT$25>0,$AM$7,0)+IF($AU$25>0,$AP$7,0)+IF($AV$25>0,$AS$7,0)),0) -> 0 | BB25: =IF(SUM(AT25:AV25)>0,1,0) -> 0
A26: 2 | B26: =pd!B7 -> 5470 | C26: =pd!C7 -> AHMAD RIYUDHA | D26: =D11 -> 3.1 | J26: =IF(SUM(E26:I26)>0,AVERAGE(E26:I26),0) -> 0 | K26: =IF(analis!D15="","",analis!D15) | P26: =IF(SUM(K26:O26)>0,AVERAGE(K26:O26),0) -> 0 | Q26: ='rpp1'!$M$260 | S26: =IF(SUM(Q26:R26)>0,MAX(Q26:R26),0) -> 0 | V26: =IF(SUM(T26:U26)>0,MAX(T26:U26),0) -> 0 | AA26: =IF($W$11=1,J26*$J$7,0) -> 0 | AB26: =IF($X$11=1,P26*$P$7,0) -> 0 | AC26: =IF($Y$11=1,S26*$S$7,0) -> 0 | AD26: =IF($Z$11=1,V26*$V$7,0) -> 0 | AE26: =SUM(AA26:AD26) -> 0 | AF26: =IFERROR(AE26/(IF($W$11>0,$J$7,0)+IF($X$11>0,$P$7,0)+IF($Y$11>0,$S$7,0)+IF($Z$11>0,$V$7,0)),0) -> 0 | AH26: =ROUND((SUM(AF26:AF40)/SUM($AG$11:$AG$25)),0) -> #DIV/0! | AI26: =IF(AH26>=$BO$11,"A",IF(AH26>=$BO$12,"B",IF(AH26>=$BO$13,"C",IF(AH26>=$BO$14,"D","")))) -> #DIV/0! | AJ26: =AJ11 -> 4.1 | AK26: ='rpp1'!$M$317 | AM26: =MAX(AK26:AL26) -> 0 | AP26: =MAX(AN26:AO26) -> 0 | AS26: =MAX(AQ26:AR26) -> 0 | AW26: =IF($AT$11=1,AM26*$AM$7,0) -> 0 | AX26: =IF($AU$11=1,AP26*$AP$7,0) -> 0 | AY26: =IF($AV$11=1,AS26*$AS$7,0) -> 0 | AZ26: =SUM(AW26:AY26) -> 0 | BA26: =IFERROR(AZ26/(IF($AT$11>0,$AM$7,0)+IF($AU$11>0,$AP$7,0)+IF($AV$11>0,$AS$7,0)),0) -> 0 | BC26: =ROUND((SUM(BA26:BA40)/SUM($BB$11:$BB$25)),0) -> #DIV/0! | BD26: =IF(BC26>=$BO$11,"A",IF(BC26>=$BO$12,"B",IF(BC26>=$BO$13,"C",IF(BC26>=$BO$14,"D","")))) -> #DIV/0! | BF26: ='rpp1'!G151 | BG26: =IF(AI26=$BP$11,$BQ$11,IF(AI26=$BP$12,$BQ$12,IF(AI26=$BP$13,$BQ$13,IF(AI26=$BP$14,$BQ$14,"")))) -> #DIV/0! | BH26: =IF(BD26=$BP$11,$BR$11,IF(BD26=$BP$12,$BR$12,IF(BD26=$BP$13,$BR$13,IF(BD26=$BP$14,$BR$14,"")))) -> #DIV/0! | BI26: =IF(BE26=$BS$11,$BT$11,IF(BE26=$BS$12,$BT$12,IF(BE26=$BS$13,$BT$13,IF(BE26=$BS$14,$BT$14,"")))) | BJ26: =IF(BF26=$BS$11,$BU$11,IF(BF26=$BS$12,$BU$12,IF(BF26=$BS$13,$BU$13,IF(BF26=$BS$14,$BU$14,""))))
D27: =D12 -> 3.2 | J27: =IF(SUM(E27:I27)>0,AVERAGE(E27:I27),0) -> 0 | K27: =IF(analis!F15="","",analis!F15) | P27: =IF(SUM(K27:O27)>0,AVERAGE(K27:O27),0) -> 0 | Q27: ='rpp2'!$M$260 | S27: =IF(SUM(Q27:R27)>0,MAX(Q27:R27),0) -> 0 | V27: =IF(SUM(T27:U27)>0,MAX(T27:U27),0) -> 0 | AA27: =IF($W$12=1,J27*$J$7,0) -> 0 | AB27: =IF($X$12=1,P27*$P$7,0) -> 0 | AC27: =IF($Y$12=1,S27*$S$7,0) -> 0 | AD27: =IF($Z$12=1,V27*$V$7,0) -> 0 | AE27: =SUM(AA27:AD27) -> 0 | AF27: =IFERROR(AE27/(IF($W$12>0,$J$7,0)+IF($X$12>0,$P$7,0)+IF($Y$12>0,$S$7,0)+IF($Z$12>0,$V$7,0)),0) -> 0 | AJ27: =AJ12 -> 4.2 | AK27: ='rpp2'!$M$317 | AM27: =MAX(AK27:AL27) -> 0 | AP27: =MAX(AN27:AO27) -> 0 | AS27: =MAX(AQ27:AR27) -> 0 | AW27: =IF($AT$12=1,AM27*$AM$7,0) -> 0 | AX27: =IF($AU$12=1,AP27*$AP$7,0) -> 0 | AY27: =IF($AV$12=1,AS27*$AS$7,0) -> 0 | AZ27: =SUM(AW27:AY27) -> 0 | BA27: =IFERROR(AZ27/(IF($AT$12>0,$AM$7,0)+IF($AU$12>0,$AP$7,0)+IF($AV$12>0,$AS$7,0)),0) -> 0 | BF27: ='rpp2'!G151
D28: =D13 -> 3.3 | J28: =IF(SUM(E28:I28)>0,AVERAGE(E28:I28),0) -> 0 | K28: =IF(analis!H15="","",analis!H15) | P28: =IF(SUM(K28:O28)>0,AVERAGE(K28:O28),0) -> 0 | Q28: ='rpp3'!$M$260 | S28: =IF(SUM(Q28:R28)>0,MAX(Q28:R28),0) -> 0 | V28: =IF(SUM(T28:U28)>0,MAX(T28:U28),0) -> 0 | AA28: =IF($W$13=1,J28*$J$7,0) -> 0 | AB28: =IF($X$13=1,P28*$P$7,0) -> 0 | AC28: =IF($Y$13=1,S28*$S$7,0) -> 0 | AD28: =IF($Z$13=1,V28*$V$7,0) -> 0 | AE28: =SUM(AA28:AD28) -> 0 | AF28: =IFERROR(AE28/(IF($W$13>0,$J$7,0)+IF($X$13>0,$P$7,0)+IF($Y$13>0,$S$7,0)+IF($Z$13>0,$V$7,0)),0) -> 0 | AJ28: =AJ13 -> 4.3 | AK28: ='rpp3'!$M$317 | AM28: =MAX(AK28:AL28) -> 0 | AP28: =MAX(AN28:AO28) -> 0 | AS28: =MAX(AQ28:AR28) -> 0 | AW28: =IF($AT$13=1,AM28*$AM$7,0) -> 0 | AX28: =IF($AU$13=1,AP28*$AP$7,0) -> 0 | AY28: =IF($AV$13=1,AS28*$AS$7,0) -> 0 | AZ28: =SUM(AW28:AY28) -> 0 | BA28: =IFERROR(AZ28/(IF($AT$13>0,$AM$7,0)+IF($AU$13>0,$AP$7,0)+IF($AV$13>0,$AS$7,0)),0) -> 0
D29: =D14 -> 3.4 | J29: =IF(SUM(E29:I29)>0,AVERAGE(E29:I29),0) -> 0 | K29: =IF(analis!J15="","",analis!J15) | P29: =IF(SUM(K29:O29)>0,AVERAGE(K29:O29),0) -> 0 | Q29: ='rpp4'!$M$260 | S29: =IF(SUM(Q29:R29)>0,MAX(Q29:R29),0) -> 0 | V29: =IF(SUM(T29:U29)>0,MAX(T29:U29),0) -> 0 | AA29: =IF($W$14=1,J29*$J$7,0) -> 0 | AB29: =IF($X$14=1,P29*$P$7,0) -> 0 | AC29: =IF($Y$14=1,S29*$S$7,0) -> 0 | AD29: =IF($Z$14=1,V29*$V$7,0) -> 0 | AE29: =SUM(AA29:AD29) -> 0 | AF29: =IFERROR(AE29/(IF($W$14>0,$J$7,0)+IF($X$14>0,$P$7,0)+IF($Y$14>0,$S$7,0)+IF($Z$14>0,$V$7,0)),0) -> 0 | AJ29: =AJ14 -> 4.4 | AK29: ='rpp4'!$M$317 | AM29: =MAX(AK29:AL29) -> 0 | AP29: =MAX(AN29:AO29) -> 0 | AS29: =MAX(AQ29:AR29) -> 0 | AW29: =IF($AT$14=1,AM29*$AM$7,0) -> 0 | AX29: =IF($AU$14=1,AP29*$AP$7,0) -> 0 | AY29: =IF($AV$14=1,AS29*$AS$7,0) -> 0 | AZ29: =SUM(AW29:AY29) -> 0 | BA29: =IFERROR(AZ29/(IF($AT$14>0,$AM$7,0)+IF($AU$14>0,$AP$7,0)+IF($AV$14>0,$AS$7,0)),0) -> 0
D30: =D15 -> 3.5 | J30: =IF(SUM(E30:I30)>0,AVERAGE(E30:I30),0) -> 0 | K30: =IF(analis!L15="","",analis!L15) | P30: =IF(SUM(K30:O30)>0,AVERAGE(K30:O30),0) -> 0 | Q30: ='rpp5'!$M$260 | S30: =IF(SUM(Q30:R30)>0,MAX(Q30:R30),0) -> 0 | V30: =IF(SUM(T30:U30)>0,MAX(T30:U30),0) -> 0 | AA30: =IF($W$15=1,J30*$J$7,0) -> 0 | AB30: =IF($X$15=1,P30*$P$7,0) -> 0 | AC30: =IF($Y$15=1,S30*$S$7,0) -> 0 | AD30: =IF($Z$15=1,V30*$V$7,0) -> 0 | AE30: =SUM(AA30:AD30) -> 0 | AF30: =IFERROR(AE30/(IF($W$15>0,$J$7,0)+IF($X$15>0,$P$7,0)+IF($Y$15>0,$S$7,0)+IF($Z$15>0,$V$7,0)),0) -> 0 | AJ30: =AJ15 -> 4.5 | AK30: ='rpp5'!$M$317 | AM30: =MAX(AK30:AL30) -> 0 | AP30: =MAX(AN30:AO30) -> 0 | AS30: =MAX(AQ30:AR30) -> 0 | AW30: =IF($AT$15=1,AM30*$AM$7,0) -> 0 | AX30: =IF($AU$15=1,AP30*$AP$7,0) -> 0 | AY30: =IF($AV$15=1,AS30*$AS$7,0) -> 0 | AZ30: =SUM(AW30:AY30) -> 0 | BA30: =IFERROR(AZ30/(IF($AT$15>0,$AM$7,0)+IF($AU$15>0,$AP$7,0)+IF($AV$15>0,$AS$7,0)),0) -> 0
D31: =D16 -> 3.6 | J31: =IF(SUM(E31:I31)>0,AVERAGE(E31:I31),0) -> 0 | K31: =IF(analis!N15="","",analis!N15) | P31: =IF(SUM(K31:O31)>0,AVERAGE(K31:O31),0) -> 0 | Q31: ='rpp16'!$M$260 | S31: =IF(SUM(Q31:R31)>0,MAX(Q31:R31),0) -> 0 | V31: =IF(SUM(T31:U31)>0,MAX(T31:U31),0) -> 0 | AA31: =IF($W$16=1,J31*$J$7,0) -> 0 | AB31: =IF($X$16=1,P31*$P$7,0) -> 0 | AC31: =IF($Y$16=1,S31*$S$7,0) -> 0 | AD31: =IF($Z$16=1,V31*$V$7,0) -> 0 | AE31: =SUM(AA31:AD31) -> 0 | AF31: =IFERROR(AE31/(IF($W$16>0,$J$7,0)+IF($X$16>0,$P$7,0)+IF($Y$16>0,$S$7,0)+IF($Z$16>0,$V$7,0)),0) -> 0 | AJ31: =AJ16 -> 4.6 | AK31: ='rpp16'!$M$317 | AM31: =MAX(AK31:AL31) -> 0 | AP31: =MAX(AN31:AO31) -> 0 | AS31: =MAX(AQ31:AR31) -> 0 | AW31: =IF($AT$16=1,AM31*$AM$7,0) -> 0 | AX31: =IF($AU$16=1,AP31*$AP$7,0) -> 0 | AY31: =IF($AV$16=1,AS31*$AS$7,0) -> 0 | AZ31: =SUM(AW31:AY31) -> 0 | BA31: =IFERROR(AZ31/(IF($AT$16>0,$AM$7,0)+IF($AU$16>0,$AP$7,0)+IF($AV$16>0,$AS$7,0)),0) -> 0
D32: =D17 -> 3.7 | J32: =IF(SUM(E32:I32)>0,AVERAGE(E32:I32),0) -> 0 | K32: =IF(analis!P15="","",analis!P15) | P32: =IF(SUM(K32:O32)>0,AVERAGE(K32:O32),0) -> 0 | Q32: ='rpp17'!$M$260 | S32: =IF(SUM(Q32:R32)>0,MAX(Q32:R32),0) -> 0 | V32: =IF(SUM(T32:U32)>0,MAX(T32:U32),0) -> 0 | AA32: =IF($W$17=1,J32*$J$7,0) -> 0 | AB32: =IF($X$17=1,P32*$P$7,0) -> 0 | AC32: =IF($Y$17=1,S32*$S$7,0) -> 0 | AD32: =IF($Z$17=1,V32*$V$7,0) -> 0 | AE32: =SUM(AA32:AD32) -> 0 | AF32: =IFERROR(AE32/(IF($W$17>0,$J$7,0)+IF($X$17>0,$P$7,0)+IF($Y$17>0,$S$7,0)+IF($Z$17>0,$V$7,0)),0) -> 0 | AJ32: =AJ17 -> 4.7 | AK32: ='rpp17'!$M$317 | AM32: =MAX(AK32:AL32) -> 0 | AP32: =MAX(AN32:AO32) -> 0 | AS32: =MAX(AQ32:AR32) -> 0 | AW32: =IF($AT$17=1,AM32*$AM$7,0) -> 0 | AX32: =IF($AU$17=1,AP32*$AP$7,0) -> 0 | AY32: =IF($AV$17=1,AS32*$AS$7,0) -> 0 | AZ32: =SUM(AW32:AY32) -> 0 | BA32: =IFERROR(AZ32/(IF($AT$17>0,$AM$7,0)+IF($AU$17>0,$AP$7,0)+IF($AV$17>0,$AS$7,0)),0) -> 0
D33: =D18 -> 3.8 | J33: =IF(SUM(E33:I33)>0,AVERAGE(E33:I33),0) -> 0 | K33: =IF(analis!R15="","",analis!R15) | P33: =IF(SUM(K33:O33)>0,AVERAGE(K33:O33),0) -> 0 | Q33: ='rpp18'!$M$260 | S33: =IF(SUM(Q33:R33)>0,MAX(Q33:R33),0) -> 0 | V33: =IF(SUM(T33:U33)>0,MAX(T33:U33),0) -> 0 | AA33: =IF($W$18=1,J33*$J$7,0) -> 0 | AB33: =IF($X$18=1,P33*$P$7,0) -> 0 | AC33: =IF($Y$18=1,S33*$S$7,0) -> 0 | AD33: =IF($Z$18=1,V33*$V$7,0) -> 0 | AE33: =SUM(AA33:AD33) -> 0 | AF33: =IFERROR(AE33/(IF($W$18>0,$J$7,0)+IF($X$18>0,$P$7,0)+IF($Y$18>0,$S$7,0)+IF($Z$18>0,$V$7,0)),0) -> 0 | AJ33: =AJ18 -> 4.8 | AK33: ='rpp18'!$M$317 | AM33: =MAX(AK33:AL33) -> 0 | AP33: =MAX(AN33:AO33) -> 0 | AS33: =MAX(AQ33:AR33) -> 0 | AW33: =IF($AT$18=1,AM33*$AM$7,0) -> 0 | AX33: =IF($AU$18=1,AP33*$AP$7,0) -> 0 | AY33: =IF($AV$18=1,AS33*$AS$7,0) -> 0 | AZ33: =SUM(AW33:AY33) -> 0 | BA33: =IFERROR(AZ33/(IF($AT$18>0,$AM$7,0)+IF($AU$18>0,$AP$7,0)+IF($AV$18>0,$AS$7,0)),0) -> 0
D34: =D19 -> 3.9 | J34: =IF(SUM(E34:I34)>0,AVERAGE(E34:I34),0) -> 0 | K34: =IF(analis!T15="","",analis!T15) | P34: =IF(SUM(K34:O34)>0,AVERAGE(K34:O34),0) -> 0 | Q34: ='rpp19'!$M$260 | S34: =IF(SUM(Q34:R34)>0,MAX(Q34:R34),0) -> 0 | V34: =IF(SUM(T34:U34)>0,MAX(T34:U34),0) -> 0 | AA34: =IF($W$19=1,J34*$J$7,0) -> 0 | AB34: =IF($X$19=1,P34*$P$7,0) -> 0 | AC34: =IF($Y$19=1,S34*$S$7,0) -> 0 | AD34: =IF($Z$19=1,V34*$V$7,0) -> 0 | AE34: =SUM(AA34:AD34) -> 0 | AF34: =IFERROR(AE34/(IF($W$19>0,$J$7,0)+IF($X$19>0,$P$7,0)+IF($Y$19>0,$S$7,0)+IF($Z$19>0,$V$7,0)),0) -> 0 | AJ34: =AJ19 -> 4.9 | AK34: ='rpp19'!$M$317 | AM34: =MAX(AK34:AL34) -> 0 | AP34: =MAX(AN34:AO34) -> 0 | AS34: =MAX(AQ34:AR34) -> 0 | AW34: =IF($AT$19=1,AM34*$AM$7,0) -> 0 | AX34: =IF($AU$19=1,AP34*$AP$7,0) -> 0 | AY34: =IF($AV$19=1,AS34*$AS$7,0) -> 0 | AZ34: =SUM(AW34:AY34) -> 0 | BA34: =IFERROR(AZ34/(IF($AT$19>0,$AM$7,0)+IF($AU$19>0,$AP$7,0)+IF($AV$19>0,$AS$7,0)),0) -> 0
D35: =D20 -> 3.10 | J35: =IF(SUM(E35:I35)>0,AVERAGE(E35:I35),0) -> 0 | K35: =IF(analis!V15="","",analis!V15) | P35: =IF(SUM(K35:O35)>0,AVERAGE(K35:O35),0) -> 0 | Q35: ='rpp20'!$M$260 | S35: =IF(SUM(Q35:R35)>0,MAX(Q35:R35),0) -> 0 | V35: =IF(SUM(T35:U35)>0,MAX(T35:U35),0) -> 0 | AA35: =IF($W$20=1,J35*$J$7,0) -> 0 | AB35: =IF($X$20=1,P35*$P$7,0) -> 0 | AC35: =IF($Y$20=1,S35*$S$7,0) -> 0 | AD35: =IF($Z$20=1,V35*$V$7,0) -> 0 | AE35: =SUM(AA35:AD35) -> 0 | AF35: =IFERROR(AE35/(IF($W$20>0,$J$7,0)+IF($X$20>0,$P$7,0)+IF($Y$20>0,$S$7,0)+IF($Z$20>0,$V$7,0)),0) -> 0 | AJ35: =AJ20 -> 4.10 | AK35: ='rpp20'!$M$317 | AM35: =MAX(AK35:AL35) -> 0 | AP35: =MAX(AN35:AO35) -> 0 | AS35: =MAX(AQ35:AR35) -> 0 | AW35: =IF($AT$20=1,AM35*$AM$7,0) -> 0 | AX35: =IF($AU$20=1,AP35*$AP$7,0) -> 0 | AY35: =IF($AV$20=1,AS35*$AS$7,0) -> 0 | AZ35: =SUM(AW35:AY35) -> 0 | BA35: =IFERROR(AZ35/(IF($AT$20>0,$AM$7,0)+IF($AU$20>0,$AP$7,0)+IF($AV$20>0,$AS$7,0)),0) -> 0
D36: =D21 -> 3.11 | J36: =IF(SUM(E36:I36)>0,AVERAGE(E36:I36),0) -> 0 | K36: =IF(analis!X15="","",analis!X15) | P36: =IF(SUM(K36:O36)>0,AVERAGE(K36:O36),0) -> 0 | Q36: ='rpp11'!$M$260 | S36: =IF(SUM(Q36:R36)>0,MAX(Q36:R36),0) -> 0 | V36: =IF(SUM(T36:U36)>0,MAX(T36:U36),0) -> 0 | AA36: =IF($W$21=1,J36*$J$7,0) -> 0 | AB36: =IF($X$21=1,P36*$P$7,0) -> 0 | AC36: =IF($Y$21=1,S36*$S$7,0) -> 0 | AD36: =IF($Z$21=1,V36*$V$7,0) -> 0 | AE36: =SUM(AA36:AD36) -> 0 | AF36: =IFERROR(AE36/(IF($W$21>0,$J$7,0)+IF($X$21>0,$P$7,0)+IF($Y$21>0,$S$7,0)+IF($Z$21>0,$V$7,0)),0) -> 0 | AJ36: =AJ21 -> 4.11 | AK36: ='rpp11'!$M$317 | AM36: =MAX(AK36:AL36) -> 0 | AP36: =MAX(AN36:AO36) -> 0 | AS36: =MAX(AQ36:AR36) -> 0 | AW36: =IF($AT$21=1,AM36*$AM$7,0) -> 0 | AX36: =IF($AU$21=1,AP36*$AP$7,0) -> 0 | AY36: =IF($AV$21=1,AS36*$AS$7,0) -> 0 | AZ36: =SUM(AW36:AY36) -> 0 | BA36: =IFERROR(AZ36/(IF($AT$21>0,$AM$7,0)+IF($AU$21>0,$AP$7,0)+IF($AV$21>0,$AS$7,0)),0) -> 0
D37: =D22 -> 3.12 | J37: =IF(SUM(E37:I37)>0,AVERAGE(E37:I37),0) -> 0 | K37: =IF(analis!Z15="","",analis!Z15) | P37: =IF(SUM(K37:O37)>0,AVERAGE(K37:O37),0) -> 0 | Q37: ='rpp12'!$M$260 | S37: =IF(SUM(Q37:R37)>0,MAX(Q37:R37),0) -> 0 | V37: =IF(SUM(T37:U37)>0,MAX(T37:U37),0) -> 0 | AA37: =IF($W$22=1,J37*$J$7,0) -> 0 | AB37: =IF($X$22=1,P37*$P$7,0) -> 0 | AC37: =IF($Y$22=1,S37*$S$7,0) -> 0 | AD37: =IF($Z$22=1,V37*$V$7,0) -> 0 | AE37: =SUM(AA37:AD37) -> 0 | AF37: =IFERROR(AE37/(IF($W$22>0,$J$7,0)+IF($X$22>0,$P$7,0)+IF($Y$22>0,$S$7,0)+IF($Z$22>0,$V$7,0)),0) -> 0 | AJ37: =AJ22 -> 4.12 | AK37: ='rpp12'!$M$317 | AM37: =MAX(AK37:AL37) -> 0 | AP37: =MAX(AN37:AO37) -> 0 | AS37: =MAX(AQ37:AR37) -> 0 | AW37: =IF($AT$22=1,AM37*$AM$7,0) -> 0 | AX37: =IF($AU$22=1,AP37*$AP$7,0) -> 0 | AY37: =IF($AV$22=1,AS37*$AS$7,0) -> 0 | AZ37: =SUM(AW37:AY37) -> 0 | BA37: =IFERROR(AZ37/(IF($AT$22>0,$AM$7,0)+IF($AU$22>0,$AP$7,0)+IF($AV$22>0,$AS$7,0)),0) -> 0
D38: =D23 -> 3.13 | J38: =IF(SUM(E38:I38)>0,AVERAGE(E38:I38),0) -> 0 | K38: =IF(analis!AB15="","",analis!AB15) | P38: =IF(SUM(K38:O38)>0,AVERAGE(K38:O38),0) -> 0 | Q38: ='rpp13'!$M$260 | S38: =IF(SUM(Q38:R38)>0,MAX(Q38:R38),0) -> 0 | V38: =IF(SUM(T38:U38)>0,MAX(T38:U38),0) -> 0 | AA38: =IF($W$23=1,J38*$J$7,0) -> 0 | AB38: =IF($X$23=1,P38*$P$7,0) -> 0 | AC38: =IF($Y$23=1,S38*$S$7,0) -> 0 | AD38: =IF($Z$23=1,V38*$V$7,0) -> 0 | AE38: =SUM(AA38:AD38) -> 0 | AF38: =IFERROR(AE38/(IF($W$23>0,$J$7,0)+IF($X$23>0,$P$7,0)+IF($Y$23>0,$S$7,0)+IF($Z$23>0,$V$7,0)),0) -> 0 | AJ38: =AJ23 -> 4.13 | AK38: ='rpp13'!$M$317 | AM38: =MAX(AK38:AL38) -> 0 | AP38: =MAX(AN38:AO38) -> 0 | AS38: =MAX(AQ38:AR38) -> 0 | AW38: =IF($AT$23=1,AM38*$AM$7,0) -> 0 | AX38: =IF($AU$23=1,AP38*$AP$7,0) -> 0 | AY38: =IF($AV$23=1,AS38*$AS$7,0) -> 0 | AZ38: =SUM(AW38:AY38) -> 0 | BA38: =IFERROR(AZ38/(IF($AT$23>0,$AM$7,0)+IF($AU$23>0,$AP$7,0)+IF($AV$23>0,$AS$7,0)),0) -> 0
D39: =D24 -> 3.14 | J39: =IF(SUM(E39:I39)>0,AVERAGE(E39:I39),0) -> 0 | K39: =IF(analis!AD15="","",analis!AD15) | P39: =IF(SUM(K39:O39)>0,AVERAGE(K39:O39),0) -> 0 | Q39: ='rpp14'!$M$260 | S39: =IF(SUM(Q39:R39)>0,MAX(Q39:R39),0) -> 0 | V39: =IF(SUM(T39:U39)>0,MAX(T39:U39),0) -> 0 | AA39: =IF($W$24=1,J39*$J$7,0) -> 0 | AB39: =IF($X$24=1,P39*$P$7,0) -> 0 | AC39: =IF($Y$24=1,S39*$S$7,0) -> 0 | AD39: =IF($Z$24=1,V39*$V$7,0) -> 0 | AE39: =SUM(AA39:AD39) -> 0 | AF39: =IFERROR(AE39/(IF($W$24>0,$J$7,0)+IF($X$24>0,$P$7,0)+IF($Y$24>0,$S$7,0)+IF($Z$24>0,$V$7,0)),0) -> 0 | AJ39: =AJ24 -> 4.14 | AK39: ='rpp14'!$M$317 | AM39: =MAX(AK39:AL39) -> 0 | AP39: =MAX(AN39:AO39) -> 0 | AS39: =MAX(AQ39:AR39) -> 0 | AW39: =IF($AT$24=1,AM39*$AM$7,0) -> 0 | AX39: =IF($AU$24=1,AP39*$AP$7,0) -> 0 | AY39: =IF($AV$24=1,AS39*$AS$7,0) -> 0 | AZ39: =SUM(AW39:AY39) -> 0 | BA39: =IFERROR(AZ39/(IF($AT$24>0,$AM$7,0)+IF($AU$24>0,$AP$7,0)+IF($AV$24>0,$AS$7,0)),0) -> 0
D40: =D25 -> 3.15 | J40: =IF(SUM(E40:I40)>0,AVERAGE(E40:I40),0) -> 0 | K40: =IF(analis!AF15="","",analis!AF15) | P40: =IF(SUM(K40:O40)>0,AVERAGE(K40:O40),0) -> 0 | Q40: ='rpp15'!$M$260 | S40: =IF(SUM(Q40:R40)>0,MAX(Q40:R40),0) -> 0 | V40: =IF(SUM(T40:U40)>0,MAX(T40:U40),0) -> 0 | AA40: =IF($W$25=1,J40*$J$7,0) -> 0 | AB40: =IF($X$25=1,P40*$P$7,0) -> 0 | AC40: =IF($Y$25=1,S40*$S$7,0) -> 0 | AD40: =IF($Z$25=1,V40*$V$7,0) -> 0 | AE40: =SUM(AA40:AD40) -> 0 | AF40: =IFERROR(AE40/(IF($W$25>0,$J$7,0)+IF($X$25>0,$P$7,0)+IF($Y$25>0,$S$7,0)+IF($Z$25>0,$V$7,0)),0) -> 0 | AJ40: =AJ25 -> 4.15 | AK40: ='rpp15'!$M$317 | AM40: =MAX(AK40:AL40) -> 0 | AP40: =MAX(AN40:AO40) -> 0 | AS40: =MAX(AQ40:AR40) -> 0 | AW40: =IF($AT$25=1,AM40*$AM$7,0) -> 0 | AX40: =IF($AU$25=1,AP40*$AP$7,0) -> 0 | AY40: =IF($AV$25=1,AS40*$AS$7,0) -> 0 | AZ40: =SUM(AW40:AY40) -> 0 | BA40: =IFERROR(AZ40/(IF($AT$25>0,$AM$7,0)+IF($AU$25>0,$AP$7,0)+IF($AV$25>0,$AS$7,0)),0) -> 0
A41: 3 | B41: =pd!B8 -> 5471 | C41: =pd!C8 -> AHMAD SAYUDINOR | D41: =D26 -> 3.1 | J41: =IF(SUM(E41:I41)>0,AVERAGE(E41:I41),0) -> 0 | K41: =IF(analis!D16="","",analis!D16) | P41: =IF(SUM(K41:O41)>0,AVERAGE(K41:O41),0) -> 0 | Q41: ='rpp1'!$M$261 | S41: =IF(SUM(Q41:R41)>0,MAX(Q41:R41),0) -> 0 | V41: =IF(SUM(T41:U41)>0,MAX(T41:U41),0) -> 0 | AA41: =IF($W$11=1,J41*$J$7,0) -> 0 | AB41: =IF($X$11=1,P41*$P$7,0) -> 0 | AC41: =IF($Y$11=1,S41*$S$7,0) -> 0 | AD41: =IF($Z$11=1,V41*$V$7,0) -> 0 | AE41: =SUM(AA41:AD41) -> 0 | AF41: =IFERROR(AE41/(IF($W$11>0,$J$7,0)+IF($X$11>0,$P$7,0)+IF($Y$11>0,$S$7,0)+IF($Z$11>0,$V$7,0)),0) -> 0 | AH41: =ROUND((SUM(AF41:AF55)/SUM($AG$11:$AG$25)),0) -> #DIV/0! | AI41: =IF(AH41>=$BO$11,"A",IF(AH41>=$BO$12,"B",IF(AH41>=$BO$13,"C",IF(AH41>=$BO$14,"D","")))) -> #DIV/0! | AJ41: =AJ26 -> 4.1 | AK41: ='rpp1'!$M$318 | AM41: =MAX(AK41:AL41) -> 0 | AP41: =MAX(AN41:AO41) -> 0 | AS41: =MAX(AQ41:AR41) -> 0 | AW41: =IF($AT$11=1,AM41*$AM$7,0) -> 0 | AX41: =IF($AU$11=1,AP41*$AP$7,0) -> 0 | AY41: =IF($AV$11=1,AS41*$AS$7,0) -> 0 | AZ41: =SUM(AW41:AY41) -> 0 | BA41: =IFERROR(AZ41/(IF($AT$11>0,$AM$7,0)+IF($AU$11>0,$AP$7,0)+IF($AV$11>0,$AS$7,0)),0) -> 0 | BC41: =ROUND((SUM(BA41:BA55)/SUM($BB$11:$BB$25)),0) -> #DIV/0! | BD41: =IF(BC41>=$BO$11,"A",IF(BC41>=$BO$12,"B",IF(BC41>=$BO$13,"C",IF(BC41>=$BO$14,"D","")))) -> #DIV/0! | BF41: ='rpp1'!G152 | BG41: =IF(AI41=$BP$11,$BQ$11,IF(AI41=$BP$12,$BQ$12,IF(AI41=$BP$13,$BQ$13,IF(AI41=$BP$14,$BQ$14,"")))) -> #DIV/0! | BH41: =IF(BD41=$BP$11,$BR$11,IF(BD41=$BP$12,$BR$12,IF(BD41=$BP$13,$BR$13,IF(BD41=$BP$14,$BR$14,"")))) -> #DIV/0! | BI41: =IF(BE41=$BS$11,$BT$11,IF(BE41=$BS$12,$BT$12,IF(BE41=$BS$13,$BT$13,IF(BE41=$BS$14,$BT$14,"")))) | BJ41: =IF(BF41=$BS$11,$BU$11,IF(BF41=$BS$12,$BU$12,IF(BF41=$BS$13,$BU$13,IF(BF41=$BS$14,$BU$14,""))))
D42: =D27 -> 3.2 | J42: =IF(SUM(E42:I42)>0,AVERAGE(E42:I42),0) -> 0 | K42: =IF(analis!F16="","",analis!F16) | P42: =IF(SUM(K42:O42)>0,AVERAGE(K42:O42),0) -> 0 | Q42: ='rpp2'!$M$261 | S42: =IF(SUM(Q42:R42)>0,MAX(Q42:R42),0) -> 0 | V42: =IF(SUM(T42:U42)>0,MAX(T42:U42),0) -> 0 | AA42: =IF($W$12=1,J42*$J$7,0) -> 0 | AB42: =IF($X$12=1,P42*$P$7,0) -> 0 | AC42: =IF($Y$12=1,S42*$S$7,0) -> 0 | AD42: =IF($Z$12=1,V42*$V$7,0) -> 0 | AE42: =SUM(AA42:AD42) -> 0 | AF42: =IFERROR(AE42/(IF($W$12>0,$J$7,0)+IF($X$12>0,$P$7,0)+IF($Y$12>0,$S$7,0)+IF($Z$12>0,$V$7,0)),0) -> 0 | AJ42: =AJ27 -> 4.2 | AK42: ='rpp2'!$M$318 | AM42: =MAX(AK42:AL42) -> 0 | AP42: =MAX(AN42:AO42) -> 0 | AS42: =MAX(AQ42:AR42) -> 0 | AW42: =IF($AT$12=1,AM42*$AM$7,0) -> 0 | AX42: =IF($AU$12=1,AP42*$AP$7,0) -> 0 | AY42: =IF($AV$12=1,AS42*$AS$7,0) -> 0 | AZ42: =SUM(AW42:AY42) -> 0 | BA42: =IFERROR(AZ42/(IF($AT$12>0,$AM$7,0)+IF($AU$12>0,$AP$7,0)+IF($AV$12>0,$AS$7,0)),0) -> 0 | BF42: ='rpp2'!G152
D43: =D28 -> 3.3 | J43: =IF(SUM(E43:I43)>0,AVERAGE(E43:I43),0) -> 0 | K43: =IF(analis!H16="","",analis!H16) | P43: =IF(SUM(K43:O43)>0,AVERAGE(K43:O43),0) -> 0 | Q43: ='rpp3'!$M$261 | S43: =IF(SUM(Q43:R43)>0,MAX(Q43:R43),0) -> 0 | V43: =IF(SUM(T43:U43)>0,MAX(T43:U43),0) -> 0 | AA43: =IF($W$13=1,J43*$J$7,0) -> 0 | AB43: =IF($X$13=1,P43*$P$7,0) -> 0 | AC43: =IF($Y$13=1,S43*$S$7,0) -> 0 | AD43: =IF($Z$13=1,V43*$V$7,0) -> 0 | AE43: =SUM(AA43:AD43) -> 0 | AF43: =IFERROR(AE43/(IF($W$13>0,$J$7,0)+IF($X$13>0,$P$7,0)+IF($Y$13>0,$S$7,0)+IF($Z$13>0,$V$7,0)),0) -> 0 | AJ43: =AJ28 -> 4.3 | AK43: ='rpp3'!$M$318 | AM43: =MAX(AK43:AL43) -> 0 | AP43: =MAX(AN43:AO43) -> 0 | AS43: =MAX(AQ43:AR43) -> 0 | AW43: =IF($AT$13=1,AM43*$AM$7,0) -> 0 | AX43: =IF($AU$13=1,AP43*$AP$7,0) -> 0 | AY43: =IF($AV$13=1,AS43*$AS$7,0) -> 0 | AZ43: =SUM(AW43:AY43) -> 0 | BA43: =IFERROR(AZ43/(IF($AT$13>0,$AM$7,0)+IF($AU$13>0,$AP$7,0)+IF($AV$13>0,$AS$7,0)),0) -> 0
D44: =D29 -> 3.4 | J44: =IF(SUM(E44:I44)>0,AVERAGE(E44:I44),0) -> 0 | K44: =IF(analis!J16="","",analis!J16) | P44: =IF(SUM(K44:O44)>0,AVERAGE(K44:O44),0) -> 0 | Q44: ='rpp4'!$M$261 | S44: =IF(SUM(Q44:R44)>0,MAX(Q44:R44),0) -> 0 | V44: =IF(SUM(T44:U44)>0,MAX(T44:U44),0) -> 0 | AA44: =IF($W$14=1,J44*$J$7,0) -> 0 | AB44: =IF($X$14=1,P44*$P$7,0) -> 0 | AC44: =IF($Y$14=1,S44*$S$7,0) -> 0 | AD44: =IF($Z$14=1,V44*$V$7,0) -> 0 | AE44: =SUM(AA44:AD44) -> 0 | AF44: =IFERROR(AE44/(IF($W$14>0,$J$7,0)+IF($X$14>0,$P$7,0)+IF($Y$14>0,$S$7,0)+IF($Z$14>0,$V$7,0)),0) -> 0 | AJ44: =AJ29 -> 4.4 | AK44: ='rpp4'!$M$318 | AM44: =MAX(AK44:AL44) -> 0 | AP44: =MAX(AN44:AO44) -> 0 | AS44: =MAX(AQ44:AR44) -> 0 | AW44: =IF($AT$14=1,AM44*$AM$7,0) -> 0 | AX44: =IF($AU$14=1,AP44*$AP$7,0) -> 0 | AY44: =IF($AV$14=1,AS44*$AS$7,0) -> 0 | AZ44: =SUM(AW44:AY44) -> 0 | BA44: =IFERROR(AZ44/(IF($AT$14>0,$AM$7,0)+IF($AU$14>0,$AP$7,0)+IF($AV$14>0,$AS$7,0)),0) -> 0
D45: =D30 -> 3.5 | J45: =IF(SUM(E45:I45)>0,AVERAGE(E45:I45),0) -> 0 | K45: =IF(analis!L16="","",analis!L16) | P45: =IF(SUM(K45:O45)>0,AVERAGE(K45:O45),0) -> 0 | Q45: ='rpp5'!$M$261 | S45: =IF(SUM(Q45:R45)>0,MAX(Q45:R45),0) -> 0 | V45: =IF(SUM(T45:U45)>0,MAX(T45:U45),0) -> 0 | AA45: =IF($W$15=1,J45*$J$7,0) -> 0 | AB45: =IF($X$15=1,P45*$P$7,0) -> 0 | AC45: =IF($Y$15=1,S45*$S$7,0) -> 0 | AD45: =IF($Z$15=1,V45*$V$7,0) -> 0 | AE45: =SUM(AA45:AD45) -> 0 | AF45: =IFERROR(AE45/(IF($W$15>0,$J$7,0)+IF($X$15>0,$P$7,0)+IF($Y$15>0,$S$7,0)+IF($Z$15>0,$V$7,0)),0) -> 0 | AJ45: =AJ30 -> 4.5 | AK45: ='rpp5'!$M$318 | AM45: =MAX(AK45:AL45) -> 0 | AP45: =MAX(AN45:AO45) -> 0 | AS45: =MAX(AQ45:AR45) -> 0 | AW45: =IF($AT$15=1,AM45*$AM$7,0) -> 0 | AX45: =IF($AU$15=1,AP45*$AP$7,0) -> 0 | AY45: =IF($AV$15=1,AS45*$AS$7,0) -> 0 | AZ45: =SUM(AW45:AY45) -> 0 | BA45: =IFERROR(AZ45/(IF($AT$15>0,$AM$7,0)+IF($AU$15>0,$AP$7,0)+IF($AV$15>0,$AS$7,0)),0) -> 0
D46: =D31 -> 3.6 | J46: =IF(SUM(E46:I46)>0,AVERAGE(E46:I46),0) -> 0 | K46: =IF(analis!N16="","",analis!N16) | P46: =IF(SUM(K46:O46)>0,AVERAGE(K46:O46),0) -> 0 | Q46: ='rpp16'!$M$261 | S46: =IF(SUM(Q46:R46)>0,MAX(Q46:R46),0) -> 0 | V46: =IF(SUM(T46:U46)>0,MAX(T46:U46),0) -> 0 | AA46: =IF($W$16=1,J46*$J$7,0) -> 0 | AB46: =IF($X$16=1,P46*$P$7,0) -> 0 | AC46: =IF($Y$16=1,S46*$S$7,0) -> 0 | AD46: =IF($Z$16=1,V46*$V$7,0) -> 0 | AE46: =SUM(AA46:AD46) -> 0 | AF46: =IFERROR(AE46/(IF($W$16>0,$J$7,0)+IF($X$16>0,$P$7,0)+IF($Y$16>0,$S$7,0)+IF($Z$16>0,$V$7,0)),0) -> 0 | AJ46: =AJ31 -> 4.6 | AK46: ='rpp16'!$M$318 | AM46: =MAX(AK46:AL46) -> 0 | AP46: =MAX(AN46:AO46) -> 0 | AS46: =MAX(AQ46:AR46) -> 0 | AW46: =IF($AT$16=1,AM46*$AM$7,0) -> 0 | AX46: =IF($AU$16=1,AP46*$AP$7,0) -> 0 | AY46: =IF($AV$16=1,AS46*$AS$7,0) -> 0 | AZ46: =SUM(AW46:AY46) -> 0 | BA46: =IFERROR(AZ46/(IF($AT$16>0,$AM$7,0)+IF($AU$16>0,$AP$7,0)+IF($AV$16>0,$AS$7,0)),0) -> 0
D47: =D32 -> 3.7 | J47: =IF(SUM(E47:I47)>0,AVERAGE(E47:I47),0) -> 0 | K47: =IF(analis!P16="","",analis!P16) | P47: =IF(SUM(K47:O47)>0,AVERAGE(K47:O47),0) -> 0 | Q47: ='rpp17'!$M$261 | S47: =IF(SUM(Q47:R47)>0,MAX(Q47:R47),0) -> 0 | V47: =IF(SUM(T47:U47)>0,MAX(T47:U47),0) -> 0 | AA47: =IF($W$17=1,J47*$J$7,0) -> 0 | AB47: =IF($X$17=1,P47*$P$7,0) -> 0 | AC47: =IF($Y$17=1,S47*$S$7,0) -> 0 | AD47: =IF($Z$17=1,V47*$V$7,0) -> 0 | AE47: =SUM(AA47:AD47) -> 0 | AF47: =IFERROR(AE47/(IF($W$17>0,$J$7,0)+IF($X$17>0,$P$7,0)+IF($Y$17>0,$S$7,0)+IF($Z$17>0,$V$7,0)),0) -> 0 | AJ47: =AJ32 -> 4.7 | AK47: ='rpp17'!$M$318 | AM47: =MAX(AK47:AL47) -> 0 | AP47: =MAX(AN47:AO47) -> 0 | AS47: =MAX(AQ47:AR47) -> 0 | AW47: =IF($AT$17=1,AM47*$AM$7,0) -> 0 | AX47: =IF($AU$17=1,AP47*$AP$7,0) -> 0 | AY47: =IF($AV$17=1,AS47*$AS$7,0) -> 0 | AZ47: =SUM(AW47:AY47) -> 0 | BA47: =IFERROR(AZ47/(IF($AT$17>0,$AM$7,0)+IF($AU$17>0,$AP$7,0)+IF($AV$17>0,$AS$7,0)),0) -> 0
D48: =D33 -> 3.8 | J48: =IF(SUM(E48:I48)>0,AVERAGE(E48:I48),0) -> 0 | K48: =IF(analis!R16="","",analis!R16) | P48: =IF(SUM(K48:O48)>0,AVERAGE(K48:O48),0) -> 0 | Q48: ='rpp18'!$M$261 | S48: =IF(SUM(Q48:R48)>0,MAX(Q48:R48),0) -> 0 | V48: =IF(SUM(T48:U48)>0,MAX(T48:U48),0) -> 0 | AA48: =IF($W$18=1,J48*$J$7,0) -> 0 | AB48: =IF($X$18=1,P48*$P$7,0) -> 0 | AC48: =IF($Y$18=1,S48*$S$7,0) -> 0 | AD48: =IF($Z$18=1,V48*$V$7,0) -> 0 | AE48: =SUM(AA48:AD48) -> 0 | AF48: =IFERROR(AE48/(IF($W$18>0,$J$7,0)+IF($X$18>0,$P$7,0)+IF($Y$18>0,$S$7,0)+IF($Z$18>0,$V$7,0)),0) -> 0 | AJ48: =AJ33 -> 4.8 | AK48: ='rpp18'!$M$318 | AM48: =MAX(AK48:AL48) -> 0 | AP48: =MAX(AN48:AO48) -> 0 | AS48: =MAX(AQ48:AR48) -> 0 | AW48: =IF($AT$18=1,AM48*$AM$7,0) -> 0 | AX48: =IF($AU$18=1,AP48*$AP$7,0) -> 0 | AY48: =IF($AV$18=1,AS48*$AS$7,0) -> 0 | AZ48: =SUM(AW48:AY48) -> 0 | BA48: =IFERROR(AZ48/(IF($AT$18>0,$AM$7,0)+IF($AU$18>0,$AP$7,0)+IF($AV$18>0,$AS$7,0)),0) -> 0
D49: =D34 -> 3.9 | J49: =IF(SUM(E49:I49)>0,AVERAGE(E49:I49),0) -> 0 | K49: =IF(analis!T16="","",analis!T16) | P49: =IF(SUM(K49:O49)>0,AVERAGE(K49:O49),0) -> 0 | Q49: ='rpp19'!$M$261 | S49: =IF(SUM(Q49:R49)>0,MAX(Q49:R49),0) -> 0 | V49: =IF(SUM(T49:U49)>0,MAX(T49:U49),0) -> 0 | AA49: =IF($W$19=1,J49*$J$7,0) -> 0 | AB49: =IF($X$19=1,P49*$P$7,0) -> 0 | AC49: =IF($Y$19=1,S49*$S$7,0) -> 0 | AD49: =IF($Z$19=1,V49*$V$7,0) -> 0 | AE49: =SUM(AA49:AD49) -> 0 | AF49: =IFERROR(AE49/(IF($W$19>0,$J$7,0)+IF($X$19>0,$P$7,0)+IF($Y$19>0,$S$7,0)+IF($Z$19>0,$V$7,0)),0) -> 0 | AJ49: =AJ34 -> 4.9 | AK49: ='rpp19'!$M$318 | AM49: =MAX(AK49:AL49) -> 0 | AP49: =MAX(AN49:AO49) -> 0 | AS49: =MAX(AQ49:AR49) -> 0 | AW49: =IF($AT$19=1,AM49*$AM$7,0) -> 0 | AX49: =IF($AU$19=1,AP49*$AP$7,0) -> 0 | AY49: =IF($AV$19=1,AS49*$AS$7,0) -> 0 | AZ49: =SUM(AW49:AY49) -> 0 | BA49: =IFERROR(AZ49/(IF($AT$19>0,$AM$7,0)+IF($AU$19>0,$AP$7,0)+IF($AV$19>0,$AS$7,0)),0) -> 0
D50: =D35 -> 3.10 | J50: =IF(SUM(E50:I50)>0,AVERAGE(E50:I50),0) -> 0 | K50: =IF(analis!V16="","",analis!V16) | P50: =IF(SUM(K50:O50)>0,AVERAGE(K50:O50),0) -> 0 | Q50: ='rpp20'!$M$261 | S50: =IF(SUM(Q50:R50)>0,MAX(Q50:R50),0) -> 0 | V50: =IF(SUM(T50:U50)>0,MAX(T50:U50),0) -> 0 | AA50: =IF($W$20=1,J50*$J$7,0) -> 0 | AB50: =IF($X$20=1,P50*$P$7,0) -> 0 | AC50: =IF($Y$20=1,S50*$S$7,0) -> 0 | AD50: =IF($Z$20=1,V50*$V$7,0) -> 0 | AE50: =SUM(AA50:AD50) -> 0 | AF50: =IFERROR(AE50/(IF($W$20>0,$J$7,0)+IF($X$20>0,$P$7,0)+IF($Y$20>0,$S$7,0)+IF($Z$20>0,$V$7,0)),0) -> 0 | AJ50: =AJ35 -> 4.10 | AK50: ='rpp20'!$M$318 | AM50: =MAX(AK50:AL50) -> 0 | AP50: =MAX(AN50:AO50) -> 0 | AS50: =MAX(AQ50:AR50) -> 0 | AW50: =IF($AT$20=1,AM50*$AM$7,0) -> 0 | AX50: =IF($AU$20=1,AP50*$AP$7,0) -> 0 | AY50: =IF($AV$20=1,AS50*$AS$7,0) -> 0 | AZ50: =SUM(AW50:AY50) -> 0 | BA50: =IFERROR(AZ50/(IF($AT$20>0,$AM$7,0)+IF($AU$20>0,$AP$7,0)+IF($AV$20>0,$AS$7,0)),0) -> 0
D51: =D36 -> 3.11 | J51: =IF(SUM(E51:I51)>0,AVERAGE(E51:I51),0) -> 0 | K51: =IF(analis!X16="","",analis!X16) | P51: =IF(SUM(K51:O51)>0,AVERAGE(K51:O51),0) -> 0 | Q51: ='rpp11'!$M$261 | S51: =IF(SUM(Q51:R51)>0,MAX(Q51:R51),0) -> 0 | V51: =IF(SUM(T51:U51)>0,MAX(T51:U51),0) -> 0 | AA51: =IF($W$21=1,J51*$J$7,0) -> 0 | AB51: =IF($X$21=1,P51*$P$7,0) -> 0 | AC51: =IF($Y$21=1,S51*$S$7,0) -> 0 | AD51: =IF($Z$21=1,V51*$V$7,0) -> 0 | AE51: =SUM(AA51:AD51) -> 0 | AF51: =IFERROR(AE51/(IF($W$21>0,$J$7,0)+IF($X$21>0,$P$7,0)+IF($Y$21>0,$S$7,0)+IF($Z$21>0,$V$7,0)),0) -> 0 | AJ51: =AJ36 -> 4.11 | AK51: ='rpp11'!$M$318 | AM51: =MAX(AK51:AL51) -> 0 | AP51: =MAX(AN51:AO51) -> 0 | AS51: =MAX(AQ51:AR51) -> 0 | AW51: =IF($AT$21=1,AM51*$AM$7,0) -> 0 | AX51: =IF($AU$21=1,AP51*$AP$7,0) -> 0 | AY51: =IF($AV$21=1,AS51*$AS$7,0) -> 0 | AZ51: =SUM(AW51:AY51) -> 0 | BA51: =IFERROR(AZ51/(IF($AT$21>0,$AM$7,0)+IF($AU$21>0,$AP$7,0)+IF($AV$21>0,$AS$7,0)),0) -> 0
D52: =D37 -> 3.12 | J52: =IF(SUM(E52:I52)>0,AVERAGE(E52:I52),0) -> 0 | K52: =IF(analis!Z16="","",analis!Z16) | P52: =IF(SUM(K52:O52)>0,AVERAGE(K52:O52),0) -> 0 | Q52: ='rpp12'!$M$261 | S52: =IF(SUM(Q52:R52)>0,MAX(Q52:R52),0) -> 0 | V52: =IF(SUM(T52:U52)>0,MAX(T52:U52),0) -> 0 | AA52: =IF($W$22=1,J52*$J$7,0) -> 0 | AB52: =IF($X$22=1,P52*$P$7,0) -> 0 | AC52: =IF($Y$22=1,S52*$S$7,0) -> 0 | AD52: =IF($Z$22=1,V52*$V$7,0) -> 0 | AE52: =SUM(AA52:AD52) -> 0 | AF52: =IFERROR(AE52/(IF($W$22>0,$J$7,0)+IF($X$22>0,$P$7,0)+IF($Y$22>0,$S$7,0)+IF($Z$22>0,$V$7,0)),0) -> 0 | AJ52: =AJ37 -> 4.12 | AK52: ='rpp12'!$M$318 | AM52: =MAX(AK52:AL52) -> 0 | AP52: =MAX(AN52:AO52) -> 0 | AS52: =MAX(AQ52:AR52) -> 0 | AW52: =IF($AT$22=1,AM52*$AM$7,0) -> 0 | AX52: =IF($AU$22=1,AP52*$AP$7,0) -> 0 | AY52: =IF($AV$22=1,AS52*$AS$7,0) -> 0 | AZ52: =SUM(AW52:AY52) -> 0 | BA52: =IFERROR(AZ52/(IF($AT$22>0,$AM$7,0)+IF($AU$22>0,$AP$7,0)+IF($AV$22>0,$AS$7,0)),0) -> 0
D53: =D38 -> 3.13 | J53: =IF(SUM(E53:I53)>0,AVERAGE(E53:I53),0) -> 0 | K53: =IF(analis!AB16="","",analis!AB16) | P53: =IF(SUM(K53:O53)>0,AVERAGE(K53:O53),0) -> 0 | Q53: ='rpp13'!$M$261 | S53: =IF(SUM(Q53:R53)>0,MAX(Q53:R53),0) -> 0 | V53: =IF(SUM(T53:U53)>0,MAX(T53:U53),0) -> 0 | AA53: =IF($W$23=1,J53*$J$7,0) -> 0 | AB53: =IF($X$23=1,P53*$P$7,0) -> 0 | AC53: =IF($Y$23=1,S53*$S$7,0) -> 0 | AD53: =IF($Z$23=1,V53*$V$7,0) -> 0 | AE53: =SUM(AA53:AD53) -> 0 | AF53: =IFERROR(AE53/(IF($W$23>0,$J$7,0)+IF($X$23>0,$P$7,0)+IF($Y$23>0,$S$7,0)+IF($Z$23>0,$V$7,0)),0) -> 0 | AJ53: =AJ38 -> 4.13 | AK53: ='rpp13'!$M$318 | AM53: =MAX(AK53:AL53) -> 0 | AP53: =MAX(AN53:AO53) -> 0 | AS53: =MAX(AQ53:AR53) -> 0 | AW53: =IF($AT$23=1,AM53*$AM$7,0) -> 0 | AX53: =IF($AU$23=1,AP53*$AP$7,0) -> 0 | AY53: =IF($AV$23=1,AS53*$AS$7,0) -> 0 | AZ53: =SUM(AW53:AY53) -> 0 | BA53: =IFERROR(AZ53/(IF($AT$23>0,$AM$7,0)+IF($AU$23>0,$AP$7,0)+IF($AV$23>0,$AS$7,0)),0) -> 0
D54: =D39 -> 3.14 | J54: =IF(SUM(E54:I54)>0,AVERAGE(E54:I54),0) -> 0 | K54: =IF(analis!AD16="","",analis!AD16) | P54: =IF(SUM(K54:O54)>0,AVERAGE(K54:O54),0) -> 0 | Q54: ='rpp14'!$M$261 | S54: =IF(SUM(Q54:R54)>0,MAX(Q54:R54),0) -> 0 | V54: =IF(SUM(T54:U54)>0,MAX(T54:U54),0) -> 0 | AA54: =IF($W$24=1,J54*$J$7,0) -> 0 | AB54: =IF($X$24=1,P54*$P$7,0) -> 0 | AC54: =IF($Y$24=1,S54*$S$7,0) -> 0 | AD54: =IF($Z$24=1,V54*$V$7,0) -> 0 | AE54: =SUM(AA54:AD54) -> 0 | AF54: =IFERROR(AE54/(IF($W$24>0,$J$7,0)+IF($X$24>0,$P$7,0)+IF($Y$24>0,$S$7,0)+IF($Z$24>0,$V$7,0)),0) -> 0 | AJ54: =AJ39 -> 4.14 | AK54: ='rpp14'!$M$318 | AM54: =MAX(AK54:AL54) -> 0 | AP54: =MAX(AN54:AO54) -> 0 | AS54: =MAX(AQ54:AR54) -> 0 | AW54: =IF($AT$24=1,AM54*$AM$7,0) -> 0 | AX54: =IF($AU$24=1,AP54*$AP$7,0) -> 0 | AY54: =IF($AV$24=1,AS54*$AS$7,0) -> 0 | AZ54: =SUM(AW54:AY54) -> 0 | BA54: =IFERROR(AZ54/(IF($AT$24>0,$AM$7,0)+IF($AU$24>0,$AP$7,0)+IF($AV$24>0,$AS$7,0)),0) -> 0
D55: =D40 -> 3.15 | J55: =IF(SUM(E55:I55)>0,AVERAGE(E55:I55),0) -> 0 | K55: =IF(analis!AF16="","",analis!AF16) | P55: =IF(SUM(K55:O55)>0,AVERAGE(K55:O55),0) -> 0 | Q55: ='rpp15'!$M$261 | S55: =IF(SUM(Q55:R55)>0,MAX(Q55:R55),0) -> 0 | V55: =IF(SUM(T55:U55)>0,MAX(T55:U55),0) -> 0 | AA55: =IF($W$25=1,J55*$J$7,0) -> 0 | AB55: =IF($X$25=1,P55*$P$7,0) -> 0 | AC55: =IF($Y$25=1,S55*$S$7,0) -> 0 | AD55: =IF($Z$25=1,V55*$V$7,0) -> 0 | AE55: =SUM(AA55:AD55) -> 0 | AF55: =IFERROR(AE55/(IF($W$25>0,$J$7,0)+IF($X$25>0,$P$7,0)+IF($Y$25>0,$S$7,0)+IF($Z$25>0,$V$7,0)),0) -> 0 | AJ55: =AJ40 -> 4.15 | AK55: ='rpp15'!$M$318 | AM55: =MAX(AK55:AL55) -> 0 | AP55: =MAX(AN55:AO55) -> 0 | AS55: =MAX(AQ55:AR55) -> 0 | AW55: =IF($AT$25=1,AM55*$AM$7,0) -> 0 | AX55: =IF($AU$25=1,AP55*$AP$7,0) -> 0 | AY55: =IF($AV$25=1,AS55*$AS$7,0) -> 0 | AZ55: =SUM(AW55:AY55) -> 0 | BA55: =IFERROR(AZ55/(IF($AT$25>0,$AM$7,0)+IF($AU$25>0,$AP$7,0)+IF($AV$25>0,$AS$7,0)),0) -> 0
A56: 4 | B56: =pd!B9 -> 5472 | C56: =pd!C9 -> HILMAN SYA'FEI | D56: =D41 -> 3.1 | J56: =IF(SUM(E56:I56)>0,AVERAGE(E56:I56),0) -> 0 | K56: =IF(analis!D17="","",analis!D17) | P56: =IF(SUM(K56:O56)>0,AVERAGE(K56:O56),0) -> 0 | Q56: ='rpp1'!$M$262 | S56: =IF(SUM(Q56:R56)>0,MAX(Q56:R56),0) -> 0 | V56: =IF(SUM(T56:U56)>0,MAX(T56:U56),0) -> 0 | AA56: =IF($W$11=1,J56*$J$7,0) -> 0 | AB56: =IF($X$11=1,P56*$P$7,0) -> 0 | AC56: =IF($Y$11=1,S56*$S$7,0) -> 0 | AD56: =IF($Z$11=1,V56*$V$7,0) -> 0 | AE56: =SUM(AA56:AD56) -> 0 | AF56: =IFERROR(AE56/(IF($W$11>0,$J$7,0)+IF($X$11>0,$P$7,0)+IF($Y$11>0,$S$7,0)+IF($Z$11>0,$V$7,0)),0) -> 0 | AH56: =ROUND((SUM(AF56:AF70)/SUM($AG$11:$AG$25)),0) -> #DIV/0! | AI56: =IF(AH56>=$BO$11,"A",IF(AH56>=$BO$12,"B",IF(AH56>=$BO$13,"C",IF(AH56>=$BO$14,"D","")))) -> #DIV/0! | AJ56: =AJ41 -> 4.1 | AK56: ='rpp1'!$M$319 | AM56: =MAX(AK56:AL56) -> 0 | AP56: =MAX(AN56:AO56) -> 0 | AS56: =MAX(AQ56:AR56) -> 0 | AW56: =IF($AT$11=1,AM56*$AM$7,0) -> 0 | AX56: =IF($AU$11=1,AP56*$AP$7,0) -> 0 | AY56: =IF($AV$11=1,AS56*$AS$7,0) -> 0 | AZ56: =SUM(AW56:AY56) -> 0 | BA56: =IFERROR(AZ56/(IF($AT$11>0,$AM$7,0)+IF($AU$11>0,$AP$7,0)+IF($AV$11>0,$AS$7,0)),0) -> 0 | BC56: =ROUND((SUM(BA56:BA70)/SUM($BB$11:$BB$25)),0) -> #DIV/0! | BD56: =IF(BC56>=$BO$11,"A",IF(BC56>=$BO$12,"B",IF(BC56>=$BO$13,"C",IF(BC56>=$BO$14,"D","")))) -> #DIV/0! | BF56: ='rpp1'!G153 | BG56: =IF(AI56=$BP$11,$BQ$11,IF(AI56=$BP$12,$BQ$12,IF(AI56=$BP$13,$BQ$13,IF(AI56=$BP$14,$BQ$14,"")))) -> #DIV/0! | BH56: =IF(BD56=$BP$11,$BR$11,IF(BD56=$BP$12,$BR$12,IF(BD56=$BP$13,$BR$13,IF(BD56=$BP$14,$BR$14,"")))) -> #DIV/0! | BI56: =IF(BE56=$BS$11,$BT$11,IF(BE56=$BS$12,$BT$12,IF(BE56=$BS$13,$BT$13,IF(BE56=$BS$14,$BT$14,"")))) | BJ56: =IF(BF56=$BS$11,$BU$11,IF(BF56=$BS$12,$BU$12,IF(BF56=$BS$13,$BU$13,IF(BF56=$BS$14,$BU$14,""))))
D57: =D42 -> 3.2 | J57: =IF(SUM(E57:I57)>0,AVERAGE(E57:I57),0) -> 0 | K57: =IF(analis!F17="","",analis!F17) | P57: =IF(SUM(K57:O57)>0,AVERAGE(K57:O57),0) -> 0 | Q57: ='rpp2'!$M$262 | S57: =IF(SUM(Q57:R57)>0,MAX(Q57:R57),0) -> 0 | V57: =IF(SUM(T57:U57)>0,MAX(T57:U57),0) -> 0 | AA57: =IF($W$12=1,J57*$J$7,0) -> 0 | AB57: =IF($X$12=1,P57*$P$7,0) -> 0 | AC57: =IF($Y$12=1,S57*$S$7,0) -> 0 | AD57: =IF($Z$12=1,V57*$V$7,0) -> 0 | AE57: =SUM(AA57:AD57) -> 0 | AF57: =IFERROR(AE57/(IF($W$12>0,$J$7,0)+IF($X$12>0,$P$7,0)+IF($Y$12>0,$S$7,0)+IF($Z$12>0,$V$7,0)),0) -> 0 | AJ57: =AJ42 -> 4.2 | AK57: ='rpp2'!$M$319 | AM57: =MAX(AK57:AL57) -> 0 | AP57: =MAX(AN57:AO57) -> 0 | AS57: =MAX(AQ57:AR57) -> 0 | AW57: =IF($AT$12=1,AM57*$AM$7,0) -> 0 | AX57: =IF($AU$12=1,AP57*$AP$7,0) -> 0 | AY57: =IF($AV$12=1,AS57*$AS$7,0) -> 0 | AZ57: =SUM(AW57:AY57) -> 0 | BA57: =IFERROR(AZ57/(IF($AT$12>0,$AM$7,0)+IF($AU$12>0,$AP$7,0)+IF($AV$12>0,$AS$7,0)),0) -> 0 | BF57: ='rpp2'!G153
